BEGIN:VCALENDAR
VERSION:2.0
PRODID:-//Panticosa - ECPv6.6.0.2//NONSGML v1.0//EN
CALSCALE:GREGORIAN
METHOD:PUBLISH
X-ORIGINAL-URL:https://panticosa.es
X-WR-CALDESC:Eventos para Panticosa
REFRESH-INTERVAL;VALUE=DURATION:PT1H
X-Robots-Tag:noindex
X-PUBLISHED-TTL:PT1H
BEGIN:VTIMEZONE
TZID:Europe/Madrid
BEGIN:DAYLIGHT
TZOFFSETFROM:+0100
TZOFFSETTO:+0200
TZNAME:CEST
DTSTART:20220327T010000
END:DAYLIGHT
BEGIN:STANDARD
TZOFFSETFROM:+0200
TZOFFSETTO:+0100
TZNAME:CET
DTSTART:20221030T010000
END:STANDARD
END:VTIMEZONE
BEGIN:VEVENT
DTSTART;TZID=Europe/Madrid:20220619T090000
DTEND;TZID=Europe/Madrid:20221016T190000
DTSTAMP:20260426T024141
CREATED:20220616T095944Z
LAST-MODIFIED:20221007T092739Z
UID:4281-1655629200-1665946800@panticosa.es
SUMMARY:Exposición "Yo fui a la escuela en Panticosa"
DESCRIPTION:[vc_row][vc_column][vc_column_text]Exposición elaborada por la Asociación Cultural Flor de Nieve «Yo fui a la escuela en Panticosa»\, que estará disponible desde el 19 de junio hasta el 16 de octubre en el Centro Cultural La Fajuala de Panticosa en su horario de apertura. \nEn la exposición hay reproducciones de documentos relacionados con la escuela\, los maestros y los alumnos que ha facilitado el Archivo Histórico Provincial de Huesca\, además de las fotos y objetos traídos por los vecinos. \nSe puede visitar en horario de apertura de la Oficina de Turismo de Panticosa: \nDe lunes a sábado de 9 a 13.45 y de 16 a 19.15 horas y los domingos de 10 a 13.30 horas. \nLa entrada es gratuita.[/vc_column_text][/vc_column][/vc_row]
URL:https://panticosa.es/agenda/exposicion-yo-fui-a-la-escuela-en-panticosa/
LOCATION:Centro Cultural La Fajuala\, Calle San Miguel\, Panticosa\, Huesca\, 22661
CATEGORIES:Cultura,Educación,Infantil
ATTACH;FMTTYPE=image/png:https://panticosa.es/wp-content/uploads/EXPOSICION-escuela-e1657122949795.png
END:VEVENT
BEGIN:VEVENT
DTSTART;TZID=Europe/Madrid:20220707T173000
DTEND;TZID=Europe/Madrid:20220825T190000
DTSTAMP:20260426T024141
CREATED:20220706T160254Z
LAST-MODIFIED:20220706T160254Z
UID:4369-1657215000-1661454000@panticosa.es
SUMMARY:Visita guiada a Panticosa
DESCRIPTION:Todos los jueves de julio y agosto\, ven a conocer los rincones más emblemáticos\, las historias más emocionantes y las curiosidades más curiosas de la localidad panticuta en la visita guiada que organiza el Ayuntamiento de Panticosa. \nRecorreremos su historia\, las calles de Panticosa\, sus fuentes\, admiraremos vistas y rincones que seguro no conocías. \nLa inscripción es obligatoria en la oficina de turismo\, ya que las plazas son limitadas. \nPunto de inicio: parque de la iglesia (junto a la estatua del esquiador) \nTodos los jueves de julio y agosto a las 17.30 horas.
URL:https://panticosa.es/agenda/visita-guiada-a-panticosa/
LOCATION:Panticosa\, Calle Santa Cruz\, Panticosa\, 22661\, España
CATEGORIES:Cultura
ATTACH;FMTTYPE=image/jpeg:https://panticosa.es/wp-content/uploads/Visita-guiada-Panticosa.jpg
END:VEVENT
BEGIN:VEVENT
DTSTART;VALUE=DATE:20220717
DTEND;VALUE=DATE:20220724
DTSTAMP:20260426T024141
CREATED:20220520T152146Z
LAST-MODIFIED:20220620T094101Z
UID:4200-1658016000-1658620799@panticosa.es
SUMMARY:Festival Internacional de Panticosa Tocando el Cielo
DESCRIPTION:[vc_row][vc_column width=»1/2″][vc_column_text]Festival de referencia internacional de la música clásica. Conciertos\, talleres\, charlas\, excursiones… \nDel 17 al 23 de julio. \nBalneario de Panticosa y Panticosa pueblo. \nToda la programación: https://www.festivalpanticosa.com/programacion/ \n  \n[/vc_column_text][/vc_column][vc_column width=»1/2″]Tríptico programación[vc_empty_space][vc_icon icon_fontawesome=»fas fa-file-pdf» link=»url:https%3A%2F%2Fpanticosa.es%2Fwp-content%2Fuploads%2Ftriptico-FIP.pdf|target:_blank»][/vc_column][/vc_row]
URL:https://panticosa.es/agenda/festival-internacional-de-panticosa-tocando-el-cielo-2/
LOCATION:Balneario de Panticosa\, C/ Balneario\, Baños de Panticosa\, HUesca\, 22650\, España
CATEGORIES:Cultura,Música
ATTACH;FMTTYPE=image/png:https://panticosa.es/wp-content/uploads/FIP-2022-e1653117406181.png
ORGANIZER;CN="Fundaci%C3%B3n Garc%C3%ADa Esteban":MAILTO:info@festivalpanticosa.com
END:VEVENT
END:VCALENDAR