BEGIN:VCALENDAR
VERSION:2.0
PRODID:-//Panticosa - ECPv6.6.0.2//NONSGML v1.0//EN
CALSCALE:GREGORIAN
METHOD:PUBLISH
X-WR-CALNAME:Panticosa
X-ORIGINAL-URL:https://panticosa.es
X-WR-CALDESC:Eventos para Panticosa
REFRESH-INTERVAL;VALUE=DURATION:PT1H
X-Robots-Tag:noindex
X-PUBLISHED-TTL:PT1H
BEGIN:VTIMEZONE
TZID:Europe/Madrid
BEGIN:DAYLIGHT
TZOFFSETFROM:+0100
TZOFFSETTO:+0200
TZNAME:CEST
DTSTART:20230326T010000
END:DAYLIGHT
BEGIN:STANDARD
TZOFFSETFROM:+0200
TZOFFSETTO:+0100
TZNAME:CET
DTSTART:20231029T010000
END:STANDARD
END:VTIMEZONE
BEGIN:VEVENT
DTSTART;TZID=Europe/Madrid:20230602T000000
DTEND;TZID=Europe/Madrid:20230603T170000
DTSTAMP:20260424T220419
CREATED:20230319T122842Z
LAST-MODIFIED:20230520T134107Z
UID:4908-1685664000-1685811600@panticosa.es
SUMMARY:II Edición Panticosa Country Festival
DESCRIPTION:Panticosa volverá a bailar a ritmo de Country \nEl fin de semana del 2 y 3 de junio de 2023 debe estar especialmente señalado en el calendario de los amantes del country\, porque Panticosa se convertirá estos días en el centro neurálgico de la música country de nuestro país. \nEn este II Festival Country que se celebrará en Panticosa se podrá disfrutar de talleres y workshops además del gran concierto la noche del sábado que este año correrá a cargo del grupo ALLWOODS Country Band. \nTe aseguramos que esta banda de gran recorrido hará vibrar a todo el que se acerque al Pabellón Deportivo La Paul en Panticosa este fin de semana. \nLa cultura country se encuentra muy ligada a la tierra\, a la vida en el pueblo y a la vida sana\, precisamente por eso hace que este Festival se fusione a la perfección en Panticosa\, un paraíso rodeado de naturaleza y montañas\, donde poder disfrutar los 365 días del año. \nEl acceso a todas las actividades es completamente gratuito. \n\n¿Quieres aprender a bailar al mas estilo cowbow?\n¿Te gustaría pasar un rato divertido escuchando buena música?\n¿Te atreves a venir con tus amigos para hacer una actividad completamente diferente?\n\nEntonces\, marca la fecha en tu agenda YA. Prepara tu mejor outfit\, ya sabes… tejanos\, camisa a cuadros\, sombrero y botas al más estilo cowboy 😉  Te esperamos… \nY recuerda\, aprovecha este finde para descubrir todo lo que Panticosa ofrece en esta época del año: senderos infinitos\, ibones\, ruta de los miradores\, pasarelas de Panticosa\, bikepark\, Balneario… \n \n 
URL:https://panticosa.es/agenda/ii-edicion-panticosa-country-festival/
LOCATION:Panticosa\, Calle Santa Cruz\, Panticosa\, 22661\, España
CATEGORIES:Fiestas,Música
ATTACH;FMTTYPE=image/jpeg:https://panticosa.es/wp-content/uploads/Panticosa-Country-Festival.jpeg
END:VEVENT
END:VCALENDAR