BEGIN:VCALENDAR
VERSION:2.0
PRODID:-//Panticosa - ECPv6.6.0.2//NONSGML v1.0//EN
CALSCALE:GREGORIAN
METHOD:PUBLISH
X-ORIGINAL-URL:https://panticosa.es
X-WR-CALDESC:Eventos para Panticosa
REFRESH-INTERVAL;VALUE=DURATION:PT1H
X-Robots-Tag:noindex
X-PUBLISHED-TTL:PT1H
BEGIN:VTIMEZONE
TZID:Europe/Madrid
BEGIN:DAYLIGHT
TZOFFSETFROM:+0100
TZOFFSETTO:+0200
TZNAME:CEST
DTSTART:20230326T010000
END:DAYLIGHT
BEGIN:STANDARD
TZOFFSETFROM:+0200
TZOFFSETTO:+0100
TZNAME:CET
DTSTART:20231029T010000
END:STANDARD
END:VTIMEZONE
BEGIN:VEVENT
DTSTART;TZID=Europe/Madrid:20230704T203000
DTEND;TZID=Europe/Madrid:20230704T203000
DTSTAMP:20260424T201810
CREATED:20230528T083831Z
LAST-MODIFIED:20230702T082534Z
UID:5118-1688502600-1688502600@panticosa.es
SUMMARY:Le Piano du Lac 2023 -"La Pianista Roja" Balneario de Panticosa
DESCRIPTION:LA XATA LA RIFA Y LE PIANO DU LAC PRESENTAN: \nViolette Prevost\, con su largo vestido rojo\, propone su espectáculo flotante hibridando canto y texto\, como si fueran la misma voz; saca fogoso ritmo de las tripas del piano y se añaden máquinas para alargar la sonoridad hasta horizontes desconocidos. Este elegante banquete es compartido con las gotas de guitarra del marinero y la salpicadura de una bailarina alunizada para que la ilusión sea completa. \nMúsica clásica a ritmo vibrante en un viaje de estilos acompañado por una cautivadora tripulación que reinterpreta la tradición\, vanguardia\, chanson française\, músicas del mundo\, electrónica y jazz\, haciendo que las composiciones íntimas confluyan con la fuerza de las cuerdas\, la percusión\, y el goce de la danza que emerge del agua. \nTAQUILLA VOLUNTARIA \nEs muy recomendable comprar anticipadamente la entrada online \nPrecio aconsejado 12€ / Precio de colaborador 18€ \nLe pianO du lac es un proyecto autofinanciado. El espectáculo no puede existir sin tu participación:\nPuedes dar más para apoyar al proyecto y a su equipo\nPuedes dar menos si cuentas con un presupuesto ajustado \nHORARIO\n19:30 h: Apertura de taquilla en el lugar del espectáculo. Ten preparada tu entrada impresa o muestra el código QR en tu teléfono (te recomendamos descargarlo previamente ya que en algunos lugares donde actuamos no hay cobertura)\n20:30 h: Inicio del espectáculo (Duración aprox 1h 15′) \nINFORMACIÓN PRÁCTICA:\n¡No hay butacas! Recuerda acudir con tu kit de confort (cojín\, manta\, silla o similar) para sentarte cómodamente\nEn caso de lluvia ligera el concierto se mantiene ¡trae paraguas! \nToda la información y entradas ya disponibles en www.pianodulac.eu \n*Información extraída de la web Piano du Lac 
URL:https://panticosa.es/agenda/le-piano-du-lac-2023-la-pianista-roja-balneario-de-panticosa/
LOCATION:Balneario de Panticosa\, C/ Balneario\, Baños de Panticosa\, HUesca\, 22650\, España
CATEGORIES:Cultura,Música,Naturaleza y medioambiente
ATTACH;FMTTYPE=image/jpeg:https://panticosa.es/wp-content/uploads/230704-Post-fb-Panticosa.jpg
END:VEVENT
END:VCALENDAR