BEGIN:VCALENDAR
VERSION:2.0
PRODID:-//Panticosa - ECPv6.6.0.2//NONSGML v1.0//EN
CALSCALE:GREGORIAN
METHOD:PUBLISH
X-ORIGINAL-URL:https://panticosa.es
X-WR-CALDESC:Eventos para Panticosa
REFRESH-INTERVAL;VALUE=DURATION:PT1H
X-Robots-Tag:noindex
X-PUBLISHED-TTL:PT1H
BEGIN:VTIMEZONE
TZID:Europe/Madrid
BEGIN:DAYLIGHT
TZOFFSETFROM:+0100
TZOFFSETTO:+0200
TZNAME:CEST
DTSTART:20230326T010000
END:DAYLIGHT
BEGIN:STANDARD
TZOFFSETFROM:+0200
TZOFFSETTO:+0100
TZNAME:CET
DTSTART:20231029T010000
END:STANDARD
END:VTIMEZONE
BEGIN:VEVENT
DTSTART;TZID=Europe/Madrid:20230706T173000
DTEND;TZID=Europe/Madrid:20230831T173000
DTSTAMP:20260424T201810
CREATED:20230624T151152Z
LAST-MODIFIED:20230727T071927Z
UID:5179-1688664600-1693503000@panticosa.es
SUMMARY:Visita guiada a Panticosa
DESCRIPTION:Todos los jueves de julio y agosto\, ven a conocer la historia y algunos rincones emblemáticos de la localidad panticuta en la visita guiada que organiza el Ayuntamiento de Panticosa. \nLa inscripción es obligatoria en la oficina de turismo\, ya que las plazas son limitadas. Grupo mínimo 5 personas. \nPunto de inicio: parque de la iglesia (junto a la estatua del esquiador) \nTodos los jueves de julio y agosto a las 17.30 horas. \nActividad GRATUITA. Plazas limitadas. Grupo Mínimo 5 personas.
URL:https://panticosa.es/agenda/visita-guiada-a-panticosa-2/
LOCATION:Huesca
CATEGORIES:Cultura
ATTACH;FMTTYPE=image/png:https://panticosa.es/wp-content/uploads/Cartel-Visitas-Guiadas-e1690442356818.png
ORGANIZER;CN="Turismo Panticosa":MAILTO:info@panticosa.es
END:VEVENT
BEGIN:VEVENT
DTSTART;TZID=Europe/Madrid:20230712T070000
DTEND;TZID=Europe/Madrid:20230719T233000
DTSTAMP:20260424T201810
CREATED:20230712T145218Z
LAST-MODIFIED:20230712T152954Z
UID:5233-1689145200-1689809400@panticosa.es
SUMMARY:Agenda Valle de Tena del miércoles 12 al miércoles 18 de julio de 2023
DESCRIPTION:[vc_row][vc_column width=»1/2″][vc_column_text] \nAgenda Valle de Tena\nDEL 12 DE JULIO AL 18 DE JULIO DE 2023 AGENDA DEL VALLE DE TENA\n\n\n\n\n\n\n\n\n\n\n\nMiércoles 5 de julio de 2023 \n10.00 – 13:00 h. Visitas guiadas Alto Gállego: “Un paseo entre quejicos”. Iglesia de Escuer.\nInscripciones: turismocomarcaaltogallego@gmail.com \n10.00 – 11:30 h. Visita guiada Biescas (Punto de encuentro: oficina de turismo) \n11:30 – 13:00h. Visita guiada Sallent de Gállego (Punto encuentro: oficina turismo) \n11:30h Visita comentada MUDDI. Imprescindible reserva previa en info@muddi.es o 974 482 981 Museo Dibujo Castillo de LARRÉS. \n12:00h Visita guiada Bodegas Balminuta BARBENUTA.                                                                                                                      Inscripción on-line: bodegasbalminuta.es. \n17:20 h. Llegada Tour de Francia a Laruns “Etapa 5 Pau > Laruns”. \n20:30 h. La Pianista roja “Piano du lac” Ibón de Baños. Balneario de Panticosa. \n  \nJueves 6 de julio de 2023 \n10.00 – 13:00 h. Visitas guiadas Alto Gállego: “Descubriendo las abejas”. Aparcamiento entrada ARTOSILLA – Inscripciones: turismocomarcaaltogallego@gmail.com \n11:30h Visita comentada MUDDI. Imprescindible reserva previa en info@muddi.es o 974 482 981 Museo Dibujo Castillo de LARRÉS. \n12:00h Visita guiada Bodegas Balminuta BARBENUTA.  –  Inscripción on-line: bodegasbalminuta.es. \n17:30 – 18:30h. Visita guiada Panticosa (Punto de encuentro: parque junto iglesia). \n  \nViernes 7 de julio de 2023 \n10.00 – 13:00 h. Visitas guiadas Alto Gállego: “Camino de las Palizas”. Iglesia EL PUEYO DE JACA.\nInscripciones: turismocomarcaaltogallego@gmail.com \n11:30h Visita comentada MUDDI. Imprescindible reserva previa en info@muddi.es o 974 482 981 Museo Dibujo Castillo de LARRÉS. \n12:00h Visita guiada Bodegas Balminuta BARBENUTA.   –  Inscripción on-line: bodegasbalminuta.es. \n19:00 h. Dj Boris. Teatro sobre ruedas. \n19:00 h. Charla Divulgativa sobre las mariposas en HOZ DE JACA. Punto de encuentro Ayuntamiento de Hoz. \n22.00 h. Concierto Pirineos Sur 2023 (Bomba Estéreo + Muerdo)\nAuditorio Natural de Lanuza\, Huesca. \n22:00 h. Identificación nocturna de las mariposas en HOZ DE JACA. Punto de encuentro Ayuntamiento de Hoz. \n  \nSábado 8 de julio de 2023 \nCampeonato de España BTT DH en Panticosa \n11.00 – 13:00 h. Visitas guiadas Alto Gállego: “Iglesias de Serrablo”. C.I. LÁRREDE.\nInscripciones: turismocomarcaaltogallego@gmail.com \n11:30h Visita comentada MUDDI. Imprescindible reserva previa en info@muddi.es o 974 482 981 Museo Dibujo Castillo de LARRÉS. \n12:00h Visita guiada Bodegas Balminuta BARBENUTA.  –  Inscripción on-line: bodegasbalminuta.es. \n13:00 h. Malabarian on the Rox. Teatro sobre ruedas. \n 19:00h Cine: “Spider-Man: Cruzando el multiverso” Indiana Jones y el dial del destino” Auditorio La Colina SABIÑÁNIGO. \n20:00 h. Mujer Inconveniente. Teatro sobre ruedas \n22:00h Cine: “Indiana Jones y el dial del destino” Auditorio La Colina SABIÑÁNIGO. \n22:00h– 24:00 h. Visita guiada “Historia y leyendas de Brujas y Brujos en el Alto Gállego”. PIEDRAFITA DE JACA. Inscripciones: piedrafitadejaca2021@gmail.com \n22:00 h. Concierto Pirineos Sur 2023(Rubén Blades + La Santa Cecilia) Auditorio Natural de Lanuza\, Huesca. \n  \nDomingo 9 de julio de 2023 \n Campeonato de España BTT DH en Panticosa \n10.00 – 13:00 h. Visitas guiadas Alto Gállego: “Recorriendo el Quiñón de la Partacua”. Aparcamiento frente al pueblo de SAQUÉS. Inscripciones: turismocomarcaaltogallego@gmail.com \n11:30h Visita comentada MUDDI. Imprescindible reserva previa en info@muddi.es o 974 482 981 Museo Dibujo Castillo de LARRÉS. \n12:00h Visita guiada Bodegas Balminuta BARBENUTA. Inscripción on-line: bodegasbalminuta.es \n12:00h Visita guiada Bodegas Balminuta BARBENUTA.                                                                                                                      Inscripción on-line: bodegasbalminuta.es. \n13:00 h. Huesca Big Band (Swing\, Huesca). Escenario de Sallent \n14:45h Experiencia HIDE Lacunaicha PIEDRAFITA DE JACA. Reservas on-line: lacuniacha.es \n17:00h Cine: “Spider-Man: Cruzando el multiverso” Indiana Jones y el dial del destino” Auditorio La Colina SABIÑÁNIGO. \n19:00 h. Go Out Brothers. Teatro sobre ruedas. \n20:00h Cine: “Indiana Jones y el dial del destino” Auditorio La Colina SABIÑÁNIGO. \n20:30 h. Concierto Pirineos Sur 2023 (La Pegatina + Chef’Special) Auditorio Natural de Lanuza\, Huesca \n  \nLunes 10 de julio de 2023 \n10:00 – 13:00h Visitas guiadas Alto Gállego: “Lanuza\, historia de un despoblado” Aparcamiento “La Glera” SALLENT DE GÁLLEGO. Inscripciones: turismocomarcaaltogallego@gmail.com \n10:00 – 11:30h. Visita guiada Sallent de Gállego (Punto encuentro: oficina turismo) \n10:30 – 12:00h Visita guiada Sabiñánigo (Punto de encuentro: Jardines de la estación). \n11:30h Visita comentada MUDDI. Imprescindible reserva previa en info@muddi.es o 974 482 981 Museo Dibujo Castillo de LARRÉS. \n19:00 h. Cine: “Spider-Man: Cruzando el multiverso” Indiana Jones y el dial del destino” Auditorio La Colina SABIÑÁNIGO. \n20:30 h. Flash & Borders. Teatro sobre ruedas. \n22:00 h. Cine: “Indiana Jones y el dial del destino” Auditorio La Colina SABIÑÁNIGO. \n22:00 h. Son Rompe Pera (Fusión\, México). Escenario de Sallent \n  \nMartes 11 de julio de 2023 \n10:00 – 13:00h Visitas guiadas Alto Gállego “Románico de la Galliguera” Iglesia San Miguel ORNA DE GÁLLEGO.\nInscripciones: turismocomarcaaltogallego@gmail.com \n11:30h Visita comentada MUDDI. Imprescindible reserva previa en info@muddi.es o 974 482 981 Museo Dibujo Castillo de LARRÉS. \n20:30 h. Yaguete Filete. Teatro sobre ruedas. \n22:00 h. Peces Raros (Electrónica\, Argentina). Escenario de Sallent. \n\n\n\n\n  \nEXPOSICIONES TEMPORALES \n\nDel 19 de mayo al 30 de julio: “González Collado – Dibujos” Museo de Dibujo Julio Gavín – Castillo de Larrés LARRÉS.\n\n\n\n\n\n\n\nMUSEOS Y C. DE INTERPRETACIÓN \n\nI. BRUJERÍA ALTO GÁLLEGO – PIEDRAFITA DE JACA\n\nEl centro no tiene horario\, puede ser visitado cuando se desee. \n\nI. IGLESIAS DE SERRABLO – LÁRREDE\n\nEl centro no tiene horario y puede ser visitado cuando se desee. \n\nMUSEO ÁNGEL ORENSANZ Y ARTES DE SERRABLO – EL PUENTE DE SABIÑÁNIGO\n\nDe 10:00 a 13:30 y de 15:00 a 18.30 horas. \nAbierto de martes a domingo\, festivos incluidos. \n\nMUSEO DE DIBUJO JULIO GAVÍN CASTILLO DE LARRÉS\n\nDe 10:00 a 13:30 y de 16:00 a 19:00 horas. \nLunes cerrado. \nVisitas comentadas todos los días a las 11:30 horas. \n\nI. DE SANTA OROSIA – YEBRA DE BASA\n\nEl centro no tiene horario y puede ser visitado cuando se desee. \n\nI. DE LA PEZ – YÉSERO\n\nVisita con reserva previa llamando al 649 018 015. \nPrecio 2€. Incluye: CI de la Pez e Iglesia de Yésero. \n\n\n\n\n\n\n\n\n\n[/vc_column_text][/vc_column][vc_column width=»1/2″][vc_cta h2=»Agenda Valle de Tena en pdf»]Agenda semanal del 12 al 18 de julio[/vc_cta][/vc_column][/vc_row]
URL:https://panticosa.es/agenda/agenda-valle-de-tena-del-miercoles-12-al-miercoles-18-de-julio-de-2023/
LOCATION:Huesca
CATEGORIES:Artesanía,Cine,Cultura,Deporte,Educación,Fiestas,Gastronomía,Infantil,Música,Naturaleza y medioambiente,Teatro
ATTACH;FMTTYPE=image/jpeg:https://panticosa.es/wp-content/uploads/Agenda-semanal-e1651664556240.jpg
END:VEVENT
BEGIN:VEVENT
DTSTART;TZID=Europe/Madrid:20230716T000000
DTEND;TZID=Europe/Madrid:20230721T000000
DTSTAMP:20260424T201810
CREATED:20230513T155938Z
LAST-MODIFIED:20230513T162322Z
UID:5101-1689465600-1689897600@panticosa.es
SUMMARY:XI Festival Internacional de Panticosa "Tocando el Cielo"
DESCRIPTION:Ven a celebrar «Ellas las Estrellas» en el FIP Tocando el Cielo\n\n\n\n\nEsta nueva Edición 2023\, del 16 al 21 de Julio de 2023 en Panticosa\, estará especialmente dedicada  a las grandes estrellas del mundo de la lírica como Victoria de los Ángeles con la celebración del 100 aniversario de su nacimiento. Y estrellas como Teresa Berganza\, Embajadora de este Festival\, Patrona de Honor de la Fundación García Esteban\, amiga y admirada por todos los amantes de la música. \nEn el 90 aniversario de su nacimiento\, el Festival celebrará el  TERESA BERGANZA HOMMAGE\, en el que podremos asistir a un maravilloso concierto lírico con Cecilia Lavilla Berganza\, Eugenia Boix\, Nancy Fabiola Herrera e Isaac Galán\, entre otros artistas. Contaremos  con otras estrellas como  Farinelli o Tenor Fleta\,  Elvira Hidalgo o compositoras desde principio del s. XX con Teresa Prieto hasta el s. XXI con la canaria Laura Vega\, pasando por Rosita García Ascot\, Ángeles López Artiga o Carlota Garriga. \nEste año como novedad en el Pueblo de Panticosa (Plaza Mayor) y al mediodía se pondrán en marcha los Vermut Concierto. \n– 18 de julio: PIAF ENSEMBLE «Bajo el cielo de París»\n– 20 de julio: JAZZ FOR KIDS «Las ventanas del Jazz»\n\n\n\n\nAprovecha este maravilloso evento para disfrutar de la mejor música en uno de los paisajes más espectaculares de todo el Valle de Tena ¡Os esperamos! \nToda la información y entradas ya disponibles en www.festivalpanticosa.com
URL:https://panticosa.es/agenda/festival-internacional-de-panticosa/
LOCATION:Balneario de Panticosa\, C/ Balneario\, Baños de Panticosa\, HUesca\, 22650\, España
CATEGORIES:Cultura,Naturaleza y medioambiente
ATTACH;FMTTYPE=image/png:https://panticosa.es/wp-content/uploads/tocando-el-cielo.png
ORGANIZER;CN="Fundaci%C3%B3n Garc%C3%ADa Esteban":MAILTO:info@festivalpanticosa.com
END:VEVENT
BEGIN:VEVENT
DTSTART;TZID=Europe/Madrid:20230718T120000
DTEND;TZID=Europe/Madrid:20230718T130000
DTSTAMP:20260424T201810
CREATED:20230713T113242Z
LAST-MODIFIED:20230713T172355Z
UID:5241-1689681600-1689685200@panticosa.es
SUMMARY:CONCIERTO "BAJO EL CIELO DE PARIS" CON PIAF ENSEMBLE
DESCRIPTION:El 18 de julio a las 12:30 h. en la Plaza Mayor de Panticosa\, con Piaf Ensemble nos trasladamos a mediados del siglo pasado con las obras de la maravillosa y desdichada Edith Piaf\, quien tuvo una infancia cargada de abandonos y vivencias que la convirtieron en una vagabunda con 14 años\, pero con una voz y una sensibilidad extraordinaria que hicieron de ella una referencia fundamental de la canción francesa. \nEste concierto\, abierto al público en el pueblo de Panticosa y al aire libre\, es una travesía por ciertos acontecimientos que marcaron la vida de esta emblemática cantante. \nContaremos con la presencia de:\n* Yolanda Cartiel Berdún (Voz y Textos)\n* Sergio Martínez Fernández (Teclado)\n* Ander Tellería Lázaro (Acordeón)\n* Diego Tejedor Santamaría (Contrabajo)\n* Amparo Baró Gonzalo (Presentadora Del Evento) \nAprovecha este maravilloso evento para disfrutar de la mejor música en uno de los paisajes más espectaculares de todo el Valle de Tena ¡Os esperamos! \nLos Vermut conciertos que tendrán lugar en el Pueblo de Panticosa\, los días 18 y 20 de julio\, son de acceso gratuito. \n*Información y entradas para resto de actividades del Festival Internacional de Panticosa «Tocando el cielo» ya disponibles en www.festivalpanticosa.com
URL:https://panticosa.es/agenda/concierto-bajo-el-cielo-de-paris-con-piaf-ensemble/
LOCATION:Panticosa\, Calle Santa Cruz\, Panticosa\, 22661\, España
CATEGORIES:Cultura,Música,Naturaleza y medioambiente
ATTACH;FMTTYPE=image/jpeg:https://panticosa.es/wp-content/uploads/actividades-familiares-en-panticosa.jpg
ORGANIZER;CN="Fundaci%C3%B3n Garc%C3%ADa Esteban":MAILTO:info@festivalpanticosa.com
END:VEVENT
END:VCALENDAR