BEGIN:VCALENDAR
VERSION:2.0
PRODID:-//Panticosa - ECPv6.6.0.2//NONSGML v1.0//EN
CALSCALE:GREGORIAN
METHOD:PUBLISH
X-WR-CALNAME:Panticosa
X-ORIGINAL-URL:https://panticosa.es
X-WR-CALDESC:Eventos para Panticosa
REFRESH-INTERVAL;VALUE=DURATION:PT1H
X-Robots-Tag:noindex
X-PUBLISHED-TTL:PT1H
BEGIN:VTIMEZONE
TZID:Europe/Madrid
BEGIN:DAYLIGHT
TZOFFSETFROM:+0100
TZOFFSETTO:+0200
TZNAME:CEST
DTSTART:20230326T010000
END:DAYLIGHT
BEGIN:STANDARD
TZOFFSETFROM:+0200
TZOFFSETTO:+0100
TZNAME:CET
DTSTART:20231029T010000
END:STANDARD
END:VTIMEZONE
BEGIN:VEVENT
DTSTART;TZID=Europe/Madrid:20230706T173000
DTEND;TZID=Europe/Madrid:20230831T173000
DTSTAMP:20260424T183723
CREATED:20230624T151152Z
LAST-MODIFIED:20230727T071927Z
UID:5179-1688664600-1693503000@panticosa.es
SUMMARY:Visita guiada a Panticosa
DESCRIPTION:Todos los jueves de julio y agosto\, ven a conocer la historia y algunos rincones emblemáticos de la localidad panticuta en la visita guiada que organiza el Ayuntamiento de Panticosa. \nLa inscripción es obligatoria en la oficina de turismo\, ya que las plazas son limitadas. Grupo mínimo 5 personas. \nPunto de inicio: parque de la iglesia (junto a la estatua del esquiador) \nTodos los jueves de julio y agosto a las 17.30 horas. \nActividad GRATUITA. Plazas limitadas. Grupo Mínimo 5 personas.
URL:https://panticosa.es/agenda/visita-guiada-a-panticosa-2/
LOCATION:Huesca
CATEGORIES:Cultura
ATTACH;FMTTYPE=image/png:https://panticosa.es/wp-content/uploads/Cartel-Visitas-Guiadas-e1690442356818.png
ORGANIZER;CN="Turismo Panticosa":MAILTO:info@panticosa.es
END:VEVENT
BEGIN:VEVENT
DTSTART;TZID=Europe/Madrid:20230726T070000
DTEND;TZID=Europe/Madrid:20230801T233000
DTSTAMP:20260424T183723
CREATED:20230726T080810Z
LAST-MODIFIED:20230726T082608Z
UID:5301-1690354800-1690932600@panticosa.es
SUMMARY:Del 26 de julio al 1 de agosto de 2023
DESCRIPTION:[vc_row][vc_column width=»1/2″][vc_column_text] \nAgenda Semanal Valle de Tena\nDEL 26 DE JULIO AL 1 DE AGOSTO DE 2023 AGENDA DEL VALLE DE TENA\n\n\n\n\n\n\n\n\n\nMiércoles 26 de julio de 2023 \n10.00 – 13:00 h. Visitas guiadas Alto Gállego: “Un paseo entre quejicos”. Iglesia de ESCUER.\nInscripciones: turismocomarcaaltogallego@gmail.com \n10.00 – 11:30 h. Visita guiada Biescas (Punto de encuentro: oficina de turismo). Inscripciones en: https://bit.ly/4VisitaGuiadaBiescas \n11:30 – 13:00h. Visita guiada Sallent de Gállego (Punto encuentro: oficina turismo). \n12:00h Visita guiada Bodegas Balminuta BARBENUTA.                                              Inscripción on-line: bodegasbalminuta.es. \n19:00 h. Auchi. Teatro sobre ruedas \n 19:30 h. Isaac et Nora (Canción\, Francia). FORMIGAL. \n 22:00 h. Jim Murple Memorial\n(Roots\, Ska y sonidos jamaicanos\, Francia). Escenario de Sallent de Gállego \n 22:00 h. Leyendas a la luz de la luna en el entorno de Santa Elena. Información y reservas en el 699 708 382 o en contacto@huellapirenaica.es \n  \nJueves 27 de julio de 2023 \n10.00 – 13:00 h. Visitas guiadas Alto Gállego: “Descubriendo las abejas”. Aparcamiento entrada ARTOSILLA                                Inscripciones: turismocomarcaaltogallego@gmail.com \n10:30 h. Visita guiada a Santa Elena y su entorno a cargo de Huella Pirenaica. Punto de encuentro zoque de Santa Elena. Inscripciones en: bit.ly/visitaSantaElena \n12:00h Visita guiada Bodegas Balminuta BARBENUTA.                                              Inscripción on-line: bodegasbalminuta.es \n17:30-18:30h. Visita guiada Panticosa (Punto de encuentro: parque junto iglesia). \n18.00-22:00 h. Susín entre luces. (Punto de encuentro OLIVÁN). Reserva en info@biescasaventura.com o en el 651 429 190 / 699 708 382. \n18:30 h. Visitas guiadas a las “Iglesias de Serrablo”. Inscripciones en 699708382 o en contacto@huellapirenaica.es \n19:00 h. El Romperecords. Teatro sobre ruedas. \n20:00 h. Presentación de la novela “Cuando te falte el aire”. En el Pablo Neruda de Biescas. \n20:00 h. POI (Cía. D’ES TRO\, Illes Balears). Escenario escuelas. \n21:00 h. Concierto Pirineos Sur 2023 Rozalén + Silvana Estrada. Auditorio Natural de Lanuza\, Huesca \n  \nViernes 28 de julio de 2023 \n28-30 de julio FIESTAS EN HONOR A SAN FÉLIX Y SAN CUCUFATE EN ASO DE SOBREMONTE \n10.00 – 13:00 h. Visitas guiadas Alto Gállego: “Camino de las Palizas”. Iglesia EL PUEYO DE JACA.\nInscripciones: turismocomarcaaltogallego@gmail.com \n12:00h Visita guiada Bodegas Balminuta BARBENUTA.                                                                            Inscripción on-line: bodegasbalminuta.es. \n20:00 h. Chica Charcos. Teatro sobre ruedas. \n22:00 h. Noches mágicas “Bosque con alma”. Paseo por el cajicar de JAVIERRE.  Inscripción presencial en la Oficina de Turismo de Biescas con precio de 3€. \n22:00 h. Concierto Pirineos Sur 2023. Alborosie + JahSta.   Auditorio Natural de Lanuza\, Huesca \n  \nSábado 29 de julio de 2023 \n11.00 – 13:00 h. Visitas guiadas Alto Gállego: “Iglesias de Serrablo”. C.I. LÁRREDE. Inscripciones: turismocomarcaaltogallego@gmail.com \n12:00h Visita guiada Bodegas Balminuta BARBENUTA.                                              Inscripción on-line: bodegasbalminuta.es. \n13:30 h. Concierto Rocio Ro en Edificio Jacetania FORMIGAL \n20:00 h. Chica Charcos. Teatro sobre ruedas. \n20:00 h.  Concierto larga vida al rock en FORMIGAL. \n22:00h–24:00 h. Visita guiada “Historia y leyendas de Brujas y Brujos en el Alto Gállego”. PIEDRAFITA DE JACA. Inscripciones: piedrafitadejaca2021@gmail.com \n22:00 h. Concierto Pirineos Sur 2023 Zaz + Luisa Sobral. Auditorio Natural de Lanuza\, Huesca. \n23:00 h. Salto nocturno TIROLINA VALLE DE TENA. Reservas on-line. \nDomingo 30 de julio de 2023 \n10.00 – 13:00 h. Visitas guiadas Alto Gállego: “Recorriendo el Quiñón de la Partacua”. Aparcamiento frente al pueblo de SAQUÉS. Inscripciones: turismocomarcaaltogallego@gmail.com \n11:00 h. Visita guiada a los Bunkers de la línea P a cargo de José Manuel Clua. Punto de encuentro aparcamiento del desvío de la A-136 hacia la ermita de Santa Elena. Inscripciones (3€) en https://bit.ly/3RUTABUNKERS \n12:00h Visita guiada Bodegas Balminuta BARBENUTA. Inscripción on-line: bodegasbalminuta.es \n13:00 h. Fongo (Fusión\, Huesca). \nEscenario de Sallent de Gállego. \n14:45h Experiencia HIDE Lacuniacha PIEDRAFITA DE JACA. Reservas on-line: lacuniacha.es \n19:00 h. Jhana Beat. Teatro sobre ruedas. \n21:00 h. Flandes Duo. Concierto a la luz de la luna en la plaza Corralata. BIESCAS \n  \nLunes 31 de julio de 2023 \n10:00 – 13:00h Visitas guiadas Alto Gállego: “Lanuza\, historia de un despoblado” Aparcamiento “La Glera” SALLENT DE GÁLLEGO. Inscripciones: turismocomarcaaltogallego@gmail.com \n10:00-11:30h. Visita guiada Sallent de Gállego (Punto encuentro: oficina turismo) \n10:30-12:00h Visita guiada Sabiñánigo (Punto de encuentro: Jardines de la estación). \n  \nMartes 1 de agosto de 2023 \n10:00 – 13:00h Visitas guiadas Alto Gállego “Románico de la Galliguera” Iglesia San Miguel ORNA DE GÁLLEGO.\nInscripciones: turismocomarcaaltogallego@gmail.com \n  \n\n\n\n\nEXPOSICIONES TEMPORALES \n\nDel 19 de mayo al 30 de julio: “González Collado – Dibujos” Museo de Dibujo Julio Gavín – Castillo de Larrés LARRÉS.\n\n\n\n\n\nMUSEOS Y C. DE INTERPRETACIÓN \n\nI. BRUJERÍA ALTO GÁLLEGO – PIEDRAFITA DE JACA\n\nEl centro no tiene horario\, puede ser visitado cuando se desee. \n\nI. IGLESIAS DE SERRABLO – LÁRREDE\n\nEl centro no tiene horario y puede ser visitado cuando se desee. \n\nMUSEO ÁNGEL ORENSANZ Y ARTES DE SERRABLO – EL PUENTE DE SABIÑÁNIGO\n\nDe 10:00 a 13:30 y de 15:00 a 18.30 horas. \nAbierto de martes a domingo\, festivos incluidos. \n\nMUSEO DE DIBUJO JULIO GAVÍN CASTILLO DE LARRÉS\n\nDe 10:00 a 13:30 y de 16:00 a 19:00 horas. \nLunes cerrado. \nVisitas comentadas todos los días a las 11:30 horas. \n\nI. DE SANTA OROSIA – YEBRA DE BASA\n\nEl centro no tiene horario y puede ser visitado cuando se desee. \n\nI. DE LA PEZ – YÉSERO\n\nVisita con reserva previa llamando al 649 018 015. \nPrecio 2€. Incluye: CI de la Pez e Iglesia de Yésero. \n\n\n\n\n\n\n\n\n\n[/vc_column_text][/vc_column][vc_column width=»1/2″][vc_cta h2=»Agenda Valle de Tena en pdf»]Agenda semanal del 26 de julio al 1 de agosto[/vc_cta][/vc_column][/vc_row]
URL:https://panticosa.es/agenda/del-26-de-julio-al-1-de-agosto-de-2023-agenda-del-valle-de-tena/
LOCATION:Huesca
CATEGORIES:Artesanía,Cine,Cultura,Deporte,Educación,Fiestas,Gastronomía,Infantil,Música,Naturaleza y medioambiente,Teatro
ATTACH;FMTTYPE=image/jpeg:https://panticosa.es/wp-content/uploads/Agenda-semanal-e1651664556240.jpg
END:VEVENT
BEGIN:VEVENT
DTSTART;TZID=Europe/Madrid:20230728T173000
DTEND;TZID=Europe/Madrid:20230811T193000
DTSTAMP:20260424T183723
CREATED:20230714T090611Z
LAST-MODIFIED:20230809T073518Z
UID:5258-1690565400-1691782200@panticosa.es
SUMMARY:Exposición de acuarela "Nuestro entorno a través del pincel"
DESCRIPTION:Exposición de acuarela «Nuestro entorno a través del pincel» en Panticosa abre todos los días en horario de oficina de Turismo. \nInauguración de la exposición el viernes a las 17:30. \nUna gran oportunidad para poder apreciar la belleza de las obras de nuestros artistas locales\, en este caso de Isabel Sanjuan Tabuenca (Jaca). \nNo te pierdas esta oportunidad única de conocer mejor nuestro rico patrimonio natural a través del arte y la pintura de esta gran amante de la naturaleza y la vida animal.
URL:https://panticosa.es/agenda/exposicion-de-acuarela-nuestro-entorno-a-traves-del-pincel/
LOCATION:Centro Cultural La Fajuala\, C/ La fajuala\, Panticosa\, Huesca\, 22661\, España
CATEGORIES:Cultura
ATTACH;FMTTYPE=image/jpeg:https://panticosa.es/wp-content/uploads/cartel-1-e1690442559746.jpg
END:VEVENT
END:VCALENDAR