BEGIN:VCALENDAR
VERSION:2.0
PRODID:-//Panticosa - ECPv6.6.0.2//NONSGML v1.0//EN
CALSCALE:GREGORIAN
METHOD:PUBLISH
X-WR-CALNAME:Panticosa
X-ORIGINAL-URL:https://panticosa.es
X-WR-CALDESC:Eventos para Panticosa
REFRESH-INTERVAL;VALUE=DURATION:PT1H
X-Robots-Tag:noindex
X-PUBLISHED-TTL:PT1H
BEGIN:VTIMEZONE
TZID:Europe/Madrid
BEGIN:DAYLIGHT
TZOFFSETFROM:+0100
TZOFFSETTO:+0200
TZNAME:CEST
DTSTART:20230326T010000
END:DAYLIGHT
BEGIN:STANDARD
TZOFFSETFROM:+0200
TZOFFSETTO:+0100
TZNAME:CET
DTSTART:20231029T010000
END:STANDARD
END:VTIMEZONE
BEGIN:VEVENT
DTSTART;TZID=Europe/Madrid:20230906T070000
DTEND;TZID=Europe/Madrid:20230912T233000
DTSTAMP:20260424T165859
CREATED:20230907T142035Z
LAST-MODIFIED:20230907T142035Z
UID:5436-1693983600-1694561400@panticosa.es
SUMMARY:Agenda Valle de Tena del 6 al 12 de septiembre 2023
DESCRIPTION:[vc_row][vc_column width=»1/2″][vc_column_text] \n\n\n\n\n\nAgenda Semanal Valle de Tena\nDEL 6 AL 12 DE SEPTIEMBRE 2023 AGENDA DEL VALLE DE TENA\n\n\n\n\n\n\n\n\n\nJueves 7 de septiembre de 2023 \n12:00h Visita guiada Bodegas Balminuta BARBENUTA.                                              Inscripción on-line: bodegasbalminuta.es \n18:30 h. Visitas guiadas a las “Iglesias de Serrablo”. Inscripciones en 699708382 o en contacto@huellapirenaica.es \n  \nViernes 8 de septiembre de 2023 \n8-10 BMW Motorrad Days en SABIÑÁNIGO \n12:00h Visita guiada Bodegas Balminuta BARBENUTA.                                                                            Inscripción on-line: bodegasbalminuta.es. \n13:00h Salida “La vuelta ciclista a España” en el parking de Sextas de Formigal. \n20:00h Noches mágicas “Bosque con alma” en el Cajicar de JAVIERRE.  Inscripción presencial en la Oficina de Turismo de Biescas con precio de 3€. \n  \nSábado 9 de septiembre de 2023 \n12:00 h. Visita guiada Bodegas Balminuta BARBENUTA.                                              Inscripción on-line: bodegasbalminuta.es. \n18:00h Visita guiada “Historia y leyendas de Brujas y Brujos en el Alto Gállego”. PIEDRAFITA DE JACA. Inscripciones: piedrafitadejaca2021@gmail.com \n19:30h Presentación del libro “Agua y Corriente” en el salón de actos del Ayuntamiento de Sallent de Gállego. \n23:00 h. Salto nocturno TIROLINA VALLE DE TENA. Reservas on-line. \n  \nDomingo 10 de septiembre de 2023 \n10:00h Conoce las mariposas de Hoz de Jaca. Punto de encuentro: Oficina de Información de la tirolina. \n10:30h Apertura de la feria y concurso-exposición de la XL Feria del Ganado “Villa de Sallent”. \n11:30 Juegos tradicionales aragoneses en el recinto ferial de Sallent de Gállego. \n 12:00h Visita guiada Bodegas Balminuta BARBENUTA. Inscripción on-line: bodegasbalminuta.es \n14:45h Experiencia HIDE Lacuniacha PIEDRAFITA DE JACA. Reservas on-line: lacuniacha.es \n18:30h Ronda popular por las calles de Sallent. Grupo Folclórico de Laruns y Grupo Folclórico de Sallent. Salida desde el Ayuntamiento \n  \nLunes 11 de septiembre de 2023 \nEstad atentos a nuestras RRSS para posibles novedades y eventos \nMartes 12 de septiembre de 2023 \nEstad atentos a nuestras RRSS para posibles novedades y eventos \n\n\n\n\n  \nEXPOSICIONES TEMPORALES \n\nDel 19 de mayo al 30 de julio: “González Collado – Dibujos” Museo de Dibujo Julio Gavín – Castillo de Larrés LARRÉS.\n\n\n\n\n\nMUSEOS Y C. DE INTERPRETACIÓN \n\nI. BRUJERÍA ALTO GÁLLEGO – PIEDRAFITA DE JACA\n\nEl centro no tiene horario\, puede ser visitado cuando se desee. \n\nI. IGLESIAS DE SERRABLO – LÁRREDE\n\nEl centro no tiene horario y puede ser visitado cuando se desee. \n\nMUSEO ÁNGEL ORENSANZ Y ARTES DE SERRABLO – EL PUENTE DE SABIÑÁNIGO\n\nDe 10:00 a 13:30 y de 15:00 a 18.30 horas. \nAbierto de martes a domingo\, festivos incluidos. \n\nMUSEO DE DIBUJO JULIO GAVÍN CASTILLO DE LARRÉS\n\nDe 10:00 a 13:30 y de 16:00 a 19:00 horas. \nLunes cerrado. \nVisitas comentadas todos los días a las 11:30 horas. \n\nI. DE SANTA OROSIA – YEBRA DE BASA\n\nEl centro no tiene horario y puede ser visitado cuando se desee. \n\nI. DE LA PEZ – YÉSERO\n\nVisita con reserva previa llamando al 649 018 015. \nPrecio 2€. Incluye: CI de la Pez e Iglesia de Yésero. \n\n\n\n\n\n\n\n\n\n\n\n\n\n\n[/vc_column_text][/vc_column][vc_column width=»1/2″][vc_cta h2=»Agenda Valle de Tena en pdf»]Agenda semanal del 26 de julio al 1 de agosto[/vc_cta][/vc_column][/vc_row]
URL:https://panticosa.es/agenda/agenda-valle-de-tena-del-6-al-12-de-septiembre-2023/
LOCATION:Huesca
CATEGORIES:Artesanía,Cine,Cultura,Deporte,Educación,Fiestas,Gastronomía,Infantil,Música,Naturaleza y medioambiente,Teatro
ATTACH;FMTTYPE=image/jpeg:https://panticosa.es/wp-content/uploads/Agenda-semanal-e1651664556240.jpg
END:VEVENT
END:VCALENDAR