BEGIN:VCALENDAR
VERSION:2.0
PRODID:-//Panticosa - ECPv6.6.0.2//NONSGML v1.0//EN
CALSCALE:GREGORIAN
METHOD:PUBLISH
X-WR-CALNAME:Panticosa
X-ORIGINAL-URL:https://panticosa.es
X-WR-CALDESC:Eventos para Panticosa
REFRESH-INTERVAL;VALUE=DURATION:PT1H
X-Robots-Tag:noindex
X-PUBLISHED-TTL:PT1H
BEGIN:VTIMEZONE
TZID:Europe/Madrid
BEGIN:DAYLIGHT
TZOFFSETFROM:+0100
TZOFFSETTO:+0200
TZNAME:CEST
DTSTART:20230326T010000
END:DAYLIGHT
BEGIN:STANDARD
TZOFFSETFROM:+0200
TZOFFSETTO:+0100
TZNAME:CET
DTSTART:20231029T010000
END:STANDARD
END:VTIMEZONE
BEGIN:VEVENT
DTSTART;TZID=Europe/Madrid:20230913T070000
DTEND;TZID=Europe/Madrid:20230919T233000
DTSTAMP:20260424T165816
CREATED:20230914T091532Z
LAST-MODIFIED:20230914T091532Z
UID:5446-1694588400-1695166200@panticosa.es
SUMMARY:Agenda Valle de Tena del 13 al 19 de septiembre 2023
DESCRIPTION:[vc_row][vc_column width=»1/2″][vc_column_text] \n\n\n\n\n\nAgenda Valle de Tena\nDel 13 al 19 de septiembre de 2023 \nMiércoles 13 de septiembre de 2023 \n10:00 – 11:30h. Visita guiada Biescas. Inscripción previa: on-line o 974 485 522. Actividad gratuita. Plazas limitadas. Oficina Turismo BIESCAS. \n  \nFIESTAS EN HONOR A LA EXALTACIÓN DE LA STA CRUZ – SALLENT DE GÁLLEGO \n12:30 h.: Misa de difuntos\, Música Sacra Sallentina*. \n14:00 h.: Comida para nuestros mayores\, amenizada por la Asociación Grupo Folclórico “Sallent de Gállego”\, en el Polideportivo “El Escaladillo”. \n16: 30 h.: Espectáculo de magia: “MR. RAGONOV BOICOTEA A DANI EL MAGO MAJO” en la Plaza del Mentidero. \n18:00 h.: Actuación de la Asociación Grupo Folclórico “Sallent de Gállego”\, en el Polideportivo El Escaladillo. \n19:30 h.: Crono bajada en la Plaza Valle de Tena. Salida desde el Hotel Balaitus. \n22.00h.: Cena popular de alforja en el Polideportivo “El Escaladillo”. Bebida aportada por la Comisión de fiestas. \n23:30 h.: Sesión de noche en el Polideportivo “El Escaladillo”\, amenizado por: “TRíO MIRADA”. Bingo en el descanso y discomóvil al finalizar la orquesta. \n  \nJueves 14 de septiembre de 2023 \nFIESTAS EN HONOR A LA EXALTACIÓN DE LA STA CRUZ – SALLENT DE GÁLLEGO \n12:30 h.: Misa Solemne\, Música Sacra Sallentina*. \n13:30 h. Vermú popular en el patio del Centro Social*. \n16:00 h.: Carreras y paseos en burros. \n18:00 h.: Juegos tradicionales en la Plaza Valle de Tena. \n21:30 h.: Cena de caldereta en el Polideportivo “El Escaladillo”. \n22:00: Concurso de postres y sorteo de cesta. Anuncio de los ganadores del concurso de fotografía\, así como del rincón\, jardín y fachada más florida y del huerto mejor cuidado. \n23:00 h.: Sesión de noche en el Polideportivo “El Escaladillo”\, con la orquesta: “TRIO MIRADA”. Bingo en el descanso y discomóvil al finalizar la orquesta. \n22:30h Taller Pirineos Salsa Festival – Pirenarium SABIÑÁNIGO \n  \n  \n  \n  \nViernes 15 de septiembre de 2023 \n10:00 – 14:00 h y 16:00 – 20:00 h. Pirineos Salsa Festival – Pirenarium SABIÑÁNIGO \n17:00 – 19:30h Visita libre: Centro de interpretación de los bosques de la luz: La Sierra. Entrada Gratuita. BIESCAS. \n18:30h Cata de cervezas “El origen de Tensina”. Imprescindible reserva previa: tensina@tensina.es y 671 428 610 \n22:30h Show y DJ’s Pirineos Salsa Festival – Pirenarium SABIÑÁNIGO \n  \nSábado 16 de septiembre de 2023 \nTodo el día: Jornada ciudadana trasfronteriza de recogida de residuos “World Cleanup Day”. Inscripción previa +33 641462 397 o meco-ambassadeur@cc-ossau.fr EL PORTALET \n10:00 – 14:00 h y 16:00 – 20:00 h. Pirineos Salsa Festival – Pirenarium SABIÑÁNIGO \n11:00 y 16:00h Visitas comentadas jornada de puertas abiertas. Museo Angel Orensanz y Artes del Serrablo SABIÑÁNIGO \n11:00 – 14:00h Actividad lúdico-deportiva para niños con bicicletas de montaña – “Semana europea de la movilidad”. Inscripción previa obligatoria: Ayto Sabiñánigo. C/ Serrablo SABIÑÁNIGO. \n11.30 – 14:00h. Visitas guiadas Alto Gállego: “Iglesias de Serrablo”. C.I. LÁRREDE. Inscripciones: iglesiasdeserrablo@gmail.com \n  \n12:30 y 18:30h Cata de cervezas “El origen de Tensina”. Imprescindible reserva previa: tensina@tensina.es y 671 428 610 \n  \n17:00 – 19:30h Visita libre: Centro de interpretación La Torraza. Entrada Gratuita. BIESCAS. \n18:00 – 20:00h. Visita guiada “Historia y leyendas de Brujas y Brujos en el Alto Gállego”. PIEDRAFITA DE JACA. Inscripciones: piedrafitadejaca2021@gmail.com \n19:00h Cine: Misterio en Venecia. Auditorio La Colina SABIÑANIGO \n23:00 h. Orquesta y Dj’s. Pirineos Salsa Festival – Pirenarium SABIÑANIGO \nDomingo 17 de septiembre de 2023 \n10:30h Día del pedal Circuito urbano en bici. “Semana europea de la movilidad” Salida parking polideportivo Puente Sardas SABIÑÁNIGO. \n11:00 y 16:00h Visitas comentadas jornada de puertas abiertas. Museo Angel Orensanz y Artes del Serrablo SABIÑANIGO \n14:45h Experiencia HIDE Lacuniacha PIEDRAFITA DE JACA. Reservas on-line: lacuniacha.es \n  \nLunes 18 de septiembre de 2023 \n  \nMartes 19 de septiembre de 2023 \n11:00 – 13:00h Seminario web gratuito sobre emprendimiento rural: De la agroalimentación al emprendimiento social. Inscripciones on-line. \n19:30h Charla – coloquio: Jornadas de patrimonio “FUIMOS ROMA” “La Corona de San Salvador y la romanización del Alto Gállego”\, por Javier Rey Lanaspa y Salvador Melguizo Aisa\, arqueólogos del Gobierno de Aragón y redactores del plan director de la villa romana de La Corona de San Salvador. Molino Periel SABIÑÁNIGO. \n  \nEXPOSICIONES TEMPORALES \n\nDel 8 al 15 de septiembre exposición del concurso de fotografía “Sallent de Gállego: un pueblo de foto” en el Salón de actos del Ayuntamiento.\nDel 6 al 23 de septiembre: Exposición “Premio Internacional de Fotografía. David Gómez Samitier”. Sala Municipal de Arte SABIÑÁNIGO\nDel 8 al 28 de septiembre: Exposición “Infancias de libro”\, del programa “La Compañía ilustrada 2023”\, de la DPH. Valla de Adif\, C/ Serrablo junto a la Estación de Autobuses SABIÑÁNIGO.\nMUDDI – Museo de Dibujo Julio Gavín-Castillo de Larrés. Exposición “El oficio del dibujante”\, de Juan Berrio.LARRÉS.\n\n  \nMUSEOS Y C. DE INTERPRETACIÓN \n\nI. BRUJERÍA ALTO GÁLLEGO – PIEDRAFITA DE JACA\n\nNo tiene horario\, puede ser visitado cuando se desee. \n\nI LA TORRAZA – BIESCAS\n\nSábados de 17:00 a 19:30h. Visita libre. Entrada gratuita \n\nI. LA SIERRA – BIESCAS\n\nViernes de 17:00 a 19:30h. Visita libre. Entrada gratuita. \n\nI. IGLESIAS DE SERRABLO – LÁRREDE\n\nNo tiene horario\, puede ser visitado cuando se desee. \n\nMUSEO DE DIBUJO JULIO GAVÍN CASTILLO DE LARRÉS \n\nMartes a domingo: 10:00 a 13:30 y 16:00 a 19:00 h \nTarifa única: 5\,00 €. Menores de 8 años: Entrada gratuita.\nGrupos: 4\,00 € (A partir de 20 pax.).\n* Visitas comentadas a las 11:30h con cita previa: 974 48 29 81 \n\nMUSEO ÁNGEL ORENSANZ Y ARTES DE SERRABLO · EL PUENTE DE SABIÑÁNIGO\n\nDe martes a domingo 10:00 a 13:30 y de 15:00 a 18.30 horas. \n\nI. DE SANTA OROSIA – YEBRA DE BASA\n\nNo tiene horario\, puede ser visitado cuando se desee. \n\nI. DE LA PEZ – YÉSERO\n\nVisita con reserva previa llamando al 649 018 015. \n*Precio 2€. Incluye: CI de la Pez e Iglesia de Yésero. \n\n\n\n\n\n[/vc_column_text][/vc_column][vc_column width=»1/2″][vc_cta h2=»Agenda Valle de Tena en pdf»]Agenda semanal del 26 de julio al 1 de agosto[/vc_cta][/vc_column][/vc_row]
URL:https://panticosa.es/agenda/agenda-valle-de-tena-del-13-al-19-de-septiembre-2023/
LOCATION:Huesca
CATEGORIES:Artesanía,Cine,Cultura,Deporte,Educación,Fiestas,Gastronomía,Infantil,Música,Naturaleza y medioambiente,Teatro
ATTACH;FMTTYPE=image/jpeg:https://panticosa.es/wp-content/uploads/Agenda-semanal-e1651664556240.jpg
END:VEVENT
END:VCALENDAR