BEGIN:VCALENDAR
VERSION:2.0
PRODID:-//Panticosa - ECPv6.6.0.2//NONSGML v1.0//EN
CALSCALE:GREGORIAN
METHOD:PUBLISH
X-WR-CALNAME:Panticosa
X-ORIGINAL-URL:https://panticosa.es
X-WR-CALDESC:Eventos para Panticosa
REFRESH-INTERVAL;VALUE=DURATION:PT1H
X-Robots-Tag:noindex
X-PUBLISHED-TTL:PT1H
BEGIN:VTIMEZONE
TZID:Europe/Madrid
BEGIN:DAYLIGHT
TZOFFSETFROM:+0100
TZOFFSETTO:+0200
TZNAME:CEST
DTSTART:20230326T010000
END:DAYLIGHT
BEGIN:STANDARD
TZOFFSETFROM:+0200
TZOFFSETTO:+0100
TZNAME:CET
DTSTART:20231029T010000
END:STANDARD
END:VTIMEZONE
BEGIN:VEVENT
DTSTART;TZID=Europe/Madrid:20231007T090000
DTEND;TZID=Europe/Madrid:20231008T200000
DTSTAMP:20260424T145911
CREATED:20230913T094222Z
LAST-MODIFIED:20230930T114622Z
UID:5442-1696669200-1696795200@panticosa.es
SUMMARY:XI Jornadas Micológicas Panticosa
DESCRIPTION:[vc_row][vc_column width=»1/2″][vc_column_text]Panticosa celebra la undécima edición de las jornadas micológicas\, un evento ya consolidado en la localidad cuyo objetivo se centra en la divulgación de este recurso/actividad que gana cada día más adeptos. \n7 y 8 de octubre 2023 \nPROGRAMA DEL EVENTO\n\nSÁBADO 7 DE OCTUBRE\nDe 09h00 a 14h00 Salida popular dirigida tanto a niños como a adultos al Balneario de Panticosa y sus alrededores\, acompañados y dirigidos por los micólogos\,  Antonio Mateos y Cristóbal Burgos\, para la recolección de especies y explicaciones prácticas sobre las mismas y de los ecosistemas que vamos visitando. Punto de encuentro Oficina de Turismo. \n\nA partir de las 17h00 Recepción de especies de setas y la correspondiente clasificación de las mismas con destino a su exposición. Montaje de la Exposición Micológica\, con las especies recogidas\, en el Centro Cultural La Fajuala. \n\nDe 16h00 a 18h00 Salida teatralizada al bosque con interpretación y magia acompañados del duende «Bellota»\, a cargo de Ojos Pirenaicos. Actividad dirigida a familias. Los niños deben ir acompañados de un adulto. Punto de encuentro: Cabaña Escuela de Esquí parking Telecabina. \n\nDe 19h30 a 20h30 Inauguración y presentación de las Jornadas micológicas a cargo de responsables del Excmo. Ayuntamiento. A continuación conferencia audiovisual\, a cargo de Antonio Mateos y Cristóbal Burgos\, sobre “Las Setas en el Pirineo” y posterior charla coloquio sobre lo expuesto\, en el Centro Cultural La Fajuala. (La entrada a la conferencia es libre hasta completar el aforo) \nDOMINGO 8 DE OCTUBRE \n\nDe 09h00 a 14h00 Salida popular al campo\, en las inmediaciones de Panticosa\, dirigidos y acompañados por los micólogos\, Antonio Mateos y Cristóbal Burgos\, para la recolección de especies y explicaciones prácticas sobre las mismas y de los ecosistemas que vamos visitando. Punto de encuentro Oficina de Turismo. \n\nDe 10h30 a 12h30 Actividad de educación ambiental y manualidades «Los usos secretos de las setas»\, a cargo de Azpe García de A Redolada\, en el Edificio La Fajuala. Actividad dirigida a familias. L@s menores deben ir acompañados de un adulto. \n\nDe 17h00 a 20h00 Clasificación de las especies recogidas y recepción de especies de setas de todos los que deseen colaborar. \nParalelamente la EXPOSICIÓN MICOLÓGICA estará abierta al público\, asesorada por los micólogos\, en el Edificio La Fajuala. \n\nPara las salidas al campo y las actividades en familia\, es necesario hacer reserva previa en la Oficina de Turismo de Panticosa\, o en el 974 487 314. \n\n¡Degusta las mejores setas cocinadas por nuestros mejores chefs! \nLos bares y restaurantes ofrecerán tapas\, platos o raciones elaborados con setas durante la celebración de las jornadas. \n\n  \nObjetos necesarios en las salidas al campo para los Participantes\n– Ropa y calzado cómodos y de abrigo \n– Gorra para proteger la cabeza del posible sol y del frío \n– Bolsa o mochila donde llevar avituallamiento y recoger los desechos de la excursión \n– Teléfono móvil para llamada de emergencia en caso de pérdida o accidente \n– Cesta de mimbre \n– Cuchillo o navaja (a ser posible con sistema de seguridad) \n– Brocha\, pincel o cepillo para limpiar la tierra de las setas \n\nOrganiza: Ayuntamiento de Panticosa \n\n\n\n\n\n\n\n\n\n[/vc_column_text][vc_column_text] \n\nPREMIOS y NOVEDADES 2023\n¿Eres amante de la buena comida y tienes ganas de probar algo nuevo? \nEste año tenemos  un total de 12 establecimientos adheridos a la Ruta Micológica que prometen deleitarnos con sus mejores platos tematizados de hongos y setas. \n¡No te puedes perder la gran novedad de la Ruta Gastronómica de este año!  Gracias a Bodega Pirineos si participas en la Ruta Gastronómica podrás conseguir varios premios\, como visita a la Bodega Pirineos\, un pack de 6 vinos Pirineos\,  una comida o cena en uno de los restaurantes participantes. !Pide en cualquiera de los restaurantes tu tarjeta y anímate a participar! (Ver bases del sorteo en imagen adjunta). \nConsulta los establecimientos participantes de la Ruta Gastronómica en este enlace. \nPrepárate para disfrutar de una experiencia gastronómica local inolvidable en un entorno natural único. ¿A qué estás esperando? ¡Te esperamos![/vc_column_text][/vc_column][vc_column width=»1/2″]Programación XI Jornadas Micológicas[vc_empty_space][vc_gallery type=»image_grid» images=»5518\,5519″ img_size=»large» onclick=»img_link_large»][vc_empty_space][vc_gallery type=»image_grid» images=»5517″ img_size=»large» onclick=»img_link_large» title=»Ruta Gastronómica»][vc_empty_space][/vc_column][/vc_row][vc_row][vc_column][/vc_column][/vc_row]
URL:https://panticosa.es/agenda/xi-jornadas-micologicas-panticosa/
LOCATION:Centro Cultural La Fajuala\, Calle San Miguel\, Panticosa\, Huesca\, 22661
CATEGORIES:Educación,Gastronomía,Infantil,Naturaleza y medioambiente,Teatro
ATTACH;FMTTYPE=image/png:https://panticosa.es/wp-content/uploads/CARTEL-DEFINITIVO-XI-Jornadas-Micologicas.png
END:VEVENT
BEGIN:VEVENT
DTSTART;TZID=Europe/Madrid:20231007T160000
DTEND;TZID=Europe/Madrid:20231007T180000
DTSTAMP:20260424T145911
CREATED:20230918T150037Z
LAST-MODIFIED:20230919T151143Z
UID:5472-1696694400-1696701600@panticosa.es
SUMMARY:Salida teatralizada\, duende "Bellota"
DESCRIPTION:[vc_row][vc_column width=»1/2″][vc_column_text]Una vocecilla  dulce nos anima a adentrarnos en el bosque\, a entender la magia de unos Pirineos que demandan nuestro contacto y nuestro cariño\, y que quieren contarnos muchas historias. Los árboles nos hacen sentir  y vibrar con sus historias de los sentidos\, y «Bellota»\, junto a nuestros guías de naturaleza te muestran el camino a  seguir. Así\, poco a poco\, descubrimos la naturaleza a través de la interpretación y el juego\, adaptando  esta visita  llena de momentos muy especiales. \nPunto de encuentro: Cabaña Escuela de Esquí parking Telecabina. \n\n\n\n\n\n\n\n\nhttps://ojospirenaicos.es/bellota-bosque-del-betato-actividad-teatralizada-grupos/\n\n\n\n\n\n\n\n\n\n[/vc_column_text][/vc_column][vc_column width=»1/2″]Duende ``Bellota``[vc_gallery type=»image_grid» images=»5473\,5474\,5475\,5476\,5477\,5478″ img_size=»large»][vc_empty_space][vc_empty_space][/vc_column][/vc_row][vc_row][vc_column][/vc_column][/vc_row]
URL:https://panticosa.es/agenda/salida-teatralizada-duende-bellota/
LOCATION:Centro Cultural La Fajuala\, Calle San Miguel\, Panticosa\, Huesca\, 22661
CATEGORIES:Educación,Infantil,Naturaleza y medioambiente,Teatro
ATTACH;FMTTYPE=image/jpeg:https://panticosa.es/wp-content/uploads/pirineos-00047.jpg.0x740_q100.jpg
END:VEVENT
END:VCALENDAR