BEGIN:VCALENDAR
VERSION:2.0
PRODID:-//Panticosa - ECPv6.6.0.2//NONSGML v1.0//EN
CALSCALE:GREGORIAN
METHOD:PUBLISH
X-ORIGINAL-URL:https://panticosa.es
X-WR-CALDESC:Eventos para Panticosa
REFRESH-INTERVAL;VALUE=DURATION:PT1H
X-Robots-Tag:noindex
X-PUBLISHED-TTL:PT1H
BEGIN:VTIMEZONE
TZID:Europe/Madrid
BEGIN:DAYLIGHT
TZOFFSETFROM:+0100
TZOFFSETTO:+0200
TZNAME:CEST
DTSTART:20230326T010000
END:DAYLIGHT
BEGIN:STANDARD
TZOFFSETFROM:+0200
TZOFFSETTO:+0100
TZNAME:CET
DTSTART:20231029T010000
END:STANDARD
END:VTIMEZONE
BEGIN:VEVENT
DTSTART;TZID=Europe/Madrid:20231016T090000
DTEND;TZID=Europe/Madrid:20231030T140000
DTSTAMP:20260424T150328
CREATED:20231018T111328Z
LAST-MODIFIED:20231018T115343Z
UID:5624-1697446800-1698674400@panticosa.es
SUMMARY:Exposición fotográfica “Mujer y deporte en la montaña Alto Gállego”.
DESCRIPTION:El pasado 15 celebramos el Día Internacional de la Mujer\, y con tal motivo fue inaugurada la Exposición itinerante del Concurso fotográfico «Mujer y Deporte en la Montaña del Alto Gállego 2023» en el Centro Cultural «La Fajuala» de Panticosa. \nEsperanza López consejera de la Comarca Alto Gállego destacó el papel fundamental de la mujer en las zonas rurales y promovió la participación en todos los actos durante este mes en nuestro territorio . \nEsta exposición que tendrá lugar del 16 al 30 de octubre se puede visitar en el horario de Oficina de Turismo de Panticosa. \n\n\n\n  \n 
URL:https://panticosa.es/agenda/exposicion-fotografica-mujer-y-deporte-en-la-montana-alto-gallego/
LOCATION:Centro Cultural La Fajuala\, C/ La fajuala\, Panticosa\, Huesca\, 22661\, España
CATEGORIES:Cultura,Naturaleza y medioambiente
ATTACH;FMTTYPE=image/png:https://panticosa.es/wp-content/uploads/Exposicion-mujer-y-deporte-Alto-Gallego-1.png
END:VEVENT
BEGIN:VEVENT
DTSTART;TZID=Europe/Madrid:20231023T170000
DTEND;TZID=Europe/Madrid:20231023T190000
DTSTAMP:20260424T150328
CREATED:20231018T114520Z
LAST-MODIFIED:20231018T153835Z
UID:5620-1698080400-1698087600@panticosa.es
SUMMARY:Foro Valle de Tena 2023: Sesión informativa
DESCRIPTION:El próximo lunes 23 de octubre de 2023 el Centro Cultural La Fajuala de Panticosa acogerá la Sesión Informativa «Presentación del Proyecto Fundación Valle de Tena»\, organizada por el Foro Valle de Tena\, una iniciativa privada sin ánimo de lucro. \nLa sesión es abierta a la participación de todas las personas del Valle de Tena que les ocupa y preocupa el futuro del territorio. \nSe presentará de manera oficial a los asistentes\, el proyecto de constitución de la Fundación Comunitaria Valle de Tena. \nEl fin de este tipo de entidades no lucrativas es fortalecer y articular la comunidad en la que trabajan -localidades\, comarcas\, pequeñas ciudades o barrios\, o territorios -como es el caso del Valle de Tena\, canalizando recursos y competencias para la resolución de necesidades e iniciativas de interés común a dicha comunidad. \nLas fundaciones comunitarias tienen creciente presencia en todo el mundo y ayudan a personas\, empresas e instituciones a mejorar la vida en su comunidad. \nAunque animamos a todos a participar\, para las personas que no puedan asistir el evento se ofrecerá por Remoto en el siguiente enlace. \nHora: 17:00 horas. \nLugar: Centro cultural «La Fajuala»\, Panticosa. \n 
URL:https://panticosa.es/agenda/sesion-informativa-foro-valle-de-tena-2023/
LOCATION:Centro Cultural La Fajuala\, C/ La fajuala\, Panticosa\, Huesca\, 22661\, España
CATEGORIES:Empresa
ATTACH;FMTTYPE=image/jpeg:https://panticosa.es/wp-content/uploads/cartel-foro-valle-de-tena.jpg
END:VEVENT
END:VCALENDAR