BEGIN:VCALENDAR
VERSION:2.0
PRODID:-//Panticosa - ECPv6.6.0.2//NONSGML v1.0//EN
CALSCALE:GREGORIAN
METHOD:PUBLISH
X-ORIGINAL-URL:https://panticosa.es
X-WR-CALDESC:Eventos para Panticosa
REFRESH-INTERVAL;VALUE=DURATION:PT1H
X-Robots-Tag:noindex
X-PUBLISHED-TTL:PT1H
BEGIN:VTIMEZONE
TZID:Europe/Madrid
BEGIN:DAYLIGHT
TZOFFSETFROM:+0100
TZOFFSETTO:+0200
TZNAME:CEST
DTSTART:20240331T010000
END:DAYLIGHT
BEGIN:STANDARD
TZOFFSETFROM:+0200
TZOFFSETTO:+0100
TZNAME:CET
DTSTART:20241027T010000
END:STANDARD
END:VTIMEZONE
BEGIN:VEVENT
DTSTART;TZID=Europe/Madrid:20240212T180000
DTEND;TZID=Europe/Madrid:20240213T000000
DTSTAMP:20260424T090112
CREATED:20240207T102904Z
LAST-MODIFIED:20240207T103857Z
UID:5819-1707760800-1707782400@panticosa.es
SUMMARY:Carnavales Panticosa 12 y 13 de febrero 2024
DESCRIPTION:Carnavales en Panticosa\nLos Carnavales de Panticosa son una festividad que se arraiga profundamente en la cultura y la tradición de nuestra localidad. Se trata de una celebración llena de color\, música y alegría\, que atrae cada año no solo a los panticutos sino a visitantes y turistas. \nEste año\, los Carnavales se llevarán a cabo los días 12 y 13 de febrero\, prometiendo dos días inolvidables de fiesta y tradición. \nActividades\n\nRonda: Agrupación Folklórica de Panticosa. Un desfile por las calles donde la música creará un ambiente mágico.\nPasacalles: Con la Charanga Destalentaus\, quienes invitarán a todos a sumarse a la celebración.\nConcurso de crespillos. Con premio al mejor elaborado.\nOrquesta: Energi Show. No puede faltar la música en vivo\, elemento esencial que garantiza el baile y el disfrute nocturno.\nCena tradicional: La gastronomía es parte integrante de los Carnavales\, con platos típicos que deleitan el paladar.\nConcurso de disfraces adultos: Los participantes competirán por el mejor atuendo.\n\n \n \n \nLos Carnavales en Panticosa no son solo sinónimo de fiesta\, sino también de conservación de la cultura local. Representa una oportunidad para que las nuevas generaciones valoren y preserven las costumbres que han ido pasando de generación en generación. \nLa historia de los Carnavales en Panticosa se remonta a tiempos ancestrales\, en los cuales se marcaba el inicio del ayuno cristiano de Cuaresma. Con el tiempo\, se ha convertido en un momento especial para unirse niños\, jóvenes y adultos. \nLa vestimenta\, los bailes y la música convierten a Panticosa en un centro de tradiciones vivas. \nInvitamos a todos los que deseen sumergirse en esta experiencia única a que se acerquen y se dejen llevar por los ritmos\, colores y sabores del Carnaval de Panticosa. \n¡Os esperamos para compartir estos días festivos junto a todos!
URL:https://panticosa.es/agenda/carnavales-panticosa-12-y-13-de-febrero-2024/
LOCATION:Panticosa\, Calle Santa Cruz\, Panticosa\, 22661\, España
CATEGORIES:Cultura,Fiestas
ATTACH;FMTTYPE=image/png:https://panticosa.es/wp-content/uploads/carnaval2024.png
END:VEVENT
END:VCALENDAR