BEGIN:VCALENDAR
VERSION:2.0
PRODID:-//Panticosa - ECPv6.6.0.2//NONSGML v1.0//EN
CALSCALE:GREGORIAN
METHOD:PUBLISH
X-WR-CALNAME:Panticosa
X-ORIGINAL-URL:https://panticosa.es
X-WR-CALDESC:Eventos para Panticosa
REFRESH-INTERVAL;VALUE=DURATION:PT1H
X-Robots-Tag:noindex
X-PUBLISHED-TTL:PT1H
BEGIN:VTIMEZONE
TZID:Europe/Madrid
BEGIN:DAYLIGHT
TZOFFSETFROM:+0100
TZOFFSETTO:+0200
TZNAME:CEST
DTSTART:20240331T010000
END:DAYLIGHT
BEGIN:STANDARD
TZOFFSETFROM:+0200
TZOFFSETTO:+0100
TZNAME:CET
DTSTART:20241027T010000
END:STANDARD
END:VTIMEZONE
BEGIN:VEVENT
DTSTART;VALUE=DATE:20240301
DTEND;VALUE=DATE:20240311
DTSTAMP:20260424T073225
CREATED:20240224T134612Z
LAST-MODIFIED:20240306T084649Z
UID:5866-1709251200-1710115199@panticosa.es
SUMMARY:Exposición fotográfica "Sombras del Valle y más allá" de Cian O´Sullivan (2 al 10 de Marzo)
DESCRIPTION:Una exposición fotográfica en Panticosa que captura la esencia y profundidad de nuestros paisajes.\nCian O´Sullivan\, 27 años periodista freelance nacido y residente en Panticosa pero con ancestros irlandeses\, tiene un perfil multipotencial con amplia experiencia en una gran variedad de campos profesionales: la educación\, los deportes y el turismo principalmente e inaugura por primera vez una exposición fotográfica con paisajes de nuestra tierra por primera vez en Panticosa. \nGran apasionado a la fotografía y el vídeo\, además de escribir e investigar sobre todo tipo de temas\, ha trabajado desde muy joven tanto en España como en Irlanda y en la frontera francesa. Sus viajes y experiencias variadas le han permitido destacar y experimentar en ámbitos muy amplios relacionados con la comunicación intercultural\, tan imprescindible y necesaria hoy día. \nEn 2020 tuvo la oportunidad de hacer una pasantía en la reconocida revista musical Mondosonoro\, donde tuvo la experiencia de trabajar en sus propios artículos periodísticos\, reportajes y entrevistas en una amplia variedad de géneros musicales. \nSi quieres conocer su destacado talento fotográfico antes de pasarte a ver la Exposición «Sombras del Valle y más allá» por la Fajuala\, puedes entrar en su Instagram o conocer un poco más sobre su incursión en este mundo de la fotografía\, echándole un vistazo a su blog. \nAhora más que nunca\, estoy empezando a entender que todo esto es un proceso de aprendizaje y que aprender y disfrutar van de la mano. \n \nFoto: Cian O´Sullivan. Mirador encima de Argualas en verano. \n\nDesde Panticosa\, apoyamos esta exposición fotográfica porque queremos poner énfasis y dar a conocer de forma más amplia los grandes talentos de nuestros jóvenes. \n¡Te invitamos a disfrutar de esta oportunidad única del 1 al 10 de marzo en el Centro Cultural La Fajuala de Panticosa (Horario Oficina de Turismo)! \nHorario \nDel 2 al 10 de Marzo \nHorario Exposición: \nLunes 4 (17:00 a 19:30) \nMartes 5 (17:00 a 19:30) \nMiércoles 6 (9:00 a 14:00) \nJueves 7 (9:00 a 14:00 y 17:00 a 19:30) \nViernes 8 (9:00 a 14:00 y 17:00 a 19:30) \nSábado 9 (9:00 a 14:00 y 17:00 a 19:30) \nDomingo 10  (9:00 a 14:00)
URL:https://panticosa.es/agenda/exposicion-fotografica-cian-osullivan-2/
LOCATION:Centro Cultural La Fajuala\, C/ La fajuala\, Panticosa\, Huesca\, 22661\, España
CATEGORIES:Cultura,Naturaleza y medioambiente
ATTACH;FMTTYPE=image/png:https://panticosa.es/wp-content/uploads/Cartel-Cian.png
END:VEVENT
BEGIN:VEVENT
DTSTART;TZID=Europe/Madrid:20240302T090000
DTEND;TZID=Europe/Madrid:20240303T180000
DTSTAMP:20260424T073225
CREATED:20240224T114928Z
LAST-MODIFIED:20240224T115512Z
UID:5845-1709370000-1709488800@panticosa.es
SUMMARY:XLII Travesía de Esquí de Montaña Club Montaña Pirineos en Panticosa
DESCRIPTION:La XLII Travesía de Esquí de Montaña Club Montaña Pirineos acaba de abrir inscripciones. Este 2 y 3 de marzo 2024\, ven a Panticosa y disfruta de este emocionante evento que determinará a los campeones de Aragón en las categorías de Ascenso (Estación de Esquí de Panticosa) e Individual (Balneario de Panticosa). \nPanticosa se viste de gala para recibir a los amantes de la nieve y el esquí de montaña con sus majestuosas cumbres. Inscribete aquí. \nEs más que una competición\, es una celebración de la naturaleza\, el deporte y la pasión por las montañas. 🎉 ¿Te lo vas a perder? \n→ No lo olvides: Marca esta fecha en tu calendario 📅 y ¡prepárate para disfrutar del mejor entorno! \n↪️ Comparte este mensaje con tus compañeros de skimo y animaros a vivir juntos esta experiencia única. \n🚨 ¡Plazas limitadas! Haz clic en el enlace y apúntate antes de que se agoten. 🚨
URL:https://panticosa.es/agenda/xlii-travesia-de-esqui-de-montana-club-montana-pirineos-panticosa-3-y-4-de-marzo/
LOCATION:Panticosa\, Calle Santa Cruz\, Panticosa\, 22661\, España
CATEGORIES:Deporte
ATTACH;FMTTYPE=image/png:https://panticosa.es/wp-content/uploads/Copia-de-Copia-de-Diseno-sin-titulo.png
END:VEVENT
END:VCALENDAR