BEGIN:VCALENDAR
VERSION:2.0
PRODID:-//Panticosa - ECPv6.6.0.2//NONSGML v1.0//EN
CALSCALE:GREGORIAN
METHOD:PUBLISH
X-WR-CALNAME:Panticosa
X-ORIGINAL-URL:https://panticosa.es
X-WR-CALDESC:Eventos para Panticosa
REFRESH-INTERVAL;VALUE=DURATION:PT1H
X-Robots-Tag:noindex
X-PUBLISHED-TTL:PT1H
BEGIN:VTIMEZONE
TZID:Europe/Madrid
BEGIN:DAYLIGHT
TZOFFSETFROM:+0100
TZOFFSETTO:+0200
TZNAME:CEST
DTSTART:20240331T010000
END:DAYLIGHT
BEGIN:STANDARD
TZOFFSETFROM:+0200
TZOFFSETTO:+0100
TZNAME:CET
DTSTART:20241027T010000
END:STANDARD
END:VTIMEZONE
BEGIN:VEVENT
DTSTART;TZID=Europe/Madrid:20240405T183000
DTEND;TZID=Europe/Madrid:20240405T193000
DTSTAMP:20260424T055555
CREATED:20240404T162249Z
LAST-MODIFIED:20240405T075005Z
UID:6017-1712341800-1712345400@panticosa.es
SUMMARY:CINETURA Abril "Cuevas" por el Día Internacional de la Tierra
DESCRIPTION:¡Atención a todos los amantes del cine y la naturaleza! \nEl viernes 5 de abril\, dentro del Marco CINETURA\, en conmemoración al Día Internacional de la Tierra que se celebrará el 22 de abril\, se llevará a cabo una proyección especial del documental Cuevas (49 minutos de duración) en el municipio de Panticosa. Previamente Antonio Quintanilla\, ofrecerá una breve charla introductoria sobre algunos datos importantes a tener en cuenta en relación a esta temática. \nEste emocionante capitulo de la Serie Planeta Tierra\, investiga el misterio de la profunda oscuridad de estos lugares y muestra el desconocido mundo subterráneo de cavernas\, cuevas y túneles. Y nos llevará por un fascinante viaje a través de las cuevas más impresionantes del mundo\, mostrándonos la belleza y fragilidad de nuestro planeta. \nEsta proyección es una excelente oportunidad para reflexionar sobre la importancia de cuidar y preservar nuestro entorno\, y para concienciar a la sociedad de la necesidad de adoptar prácticas más sostenibles y respetuosas con el medio ambiente. \nLa cita es el 5 de abril a las 18:30 en el Centro Cultural La Fajuala de Panticosa ¡No te lo pierdas!
URL:https://panticosa.es/agenda/cinecitura-cuevas/
LOCATION:Centro Cultural La Fajuala\, Calle San Miguel\, Panticosa\, Huesca\, 22661
CATEGORIES:Educación,Naturaleza y medioambiente
ATTACH;FMTTYPE=image/png:https://panticosa.es/wp-content/uploads/cartel-web-cuevas.png
END:VEVENT
END:VCALENDAR