BEGIN:VCALENDAR
VERSION:2.0
PRODID:-//Panticosa - ECPv6.6.0.2//NONSGML v1.0//EN
CALSCALE:GREGORIAN
METHOD:PUBLISH
X-ORIGINAL-URL:https://panticosa.es
X-WR-CALDESC:Eventos para Panticosa
REFRESH-INTERVAL;VALUE=DURATION:PT1H
X-Robots-Tag:noindex
X-PUBLISHED-TTL:PT1H
BEGIN:VTIMEZONE
TZID:Europe/Madrid
BEGIN:DAYLIGHT
TZOFFSETFROM:+0100
TZOFFSETTO:+0200
TZNAME:CEST
DTSTART:20240331T010000
END:DAYLIGHT
BEGIN:STANDARD
TZOFFSETFROM:+0200
TZOFFSETTO:+0100
TZNAME:CET
DTSTART:20241027T010000
END:STANDARD
END:VTIMEZONE
BEGIN:VEVENT
DTSTART;VALUE=DATE:20240511
DTEND;VALUE=DATE:20240512
DTSTAMP:20260424T043010
CREATED:20240509T165522Z
LAST-MODIFIED:20240509T165924Z
UID:6152-1715385600-1715471999@panticosa.es
SUMMARY:Fiesta de la Primavera en Panticosa
DESCRIPTION:Este sábado 11\, celebramos la Fiesta de la Primavera en el Cole de Panticosa. \nEl horario de las actividades será el siguiente: \n12h\n– Apertura de puertas\n– ⁠Pintacaras\n– ⁠Comienza la recepción de tapas y servicio de barra. \n12:30\n– Gymkana para infantil\n– ⁠Juegos tradicionales para primaria \n13:30\n– Gymkana para primaria\n– ⁠Juegos tradicionales para infantil \n15:30\n– Premios del concurso de tapas \n16h\n– Torneo sogatira (adultos e infantil) \n17h\n– Bingo infantil
URL:https://panticosa.es/agenda/fiestadelaprimavera/
LOCATION:Escuelas de Panticosa
CATEGORIES:Fiestas
ATTACH;FMTTYPE=image/jpeg:https://panticosa.es/wp-content/uploads/fiestas-primavera.jpeg
END:VEVENT
END:VCALENDAR