BEGIN:VCALENDAR
VERSION:2.0
PRODID:-//Panticosa - ECPv6.6.0.2//NONSGML v1.0//EN
CALSCALE:GREGORIAN
METHOD:PUBLISH
X-WR-CALNAME:Panticosa
X-ORIGINAL-URL:https://panticosa.es
X-WR-CALDESC:Eventos para Panticosa
REFRESH-INTERVAL;VALUE=DURATION:PT1H
X-Robots-Tag:noindex
X-PUBLISHED-TTL:PT1H
BEGIN:VTIMEZONE
TZID:Europe/Madrid
BEGIN:DAYLIGHT
TZOFFSETFROM:+0100
TZOFFSETTO:+0200
TZNAME:CEST
DTSTART:20240331T010000
END:DAYLIGHT
BEGIN:STANDARD
TZOFFSETFROM:+0200
TZOFFSETTO:+0100
TZNAME:CET
DTSTART:20241027T010000
END:STANDARD
END:VTIMEZONE
BEGIN:VEVENT
DTSTART;TZID=Europe/Madrid:20241101T183000
DTEND;TZID=Europe/Madrid:20241101T193000
DTSTAMP:20260423T190322
CREATED:20241028T110940Z
LAST-MODIFIED:20241019T104013Z
UID:6150-1730485800-1730489400@panticosa.es
SUMMARY:CINETURA Noviembre "Ordesa" por el Día Internacional de las Reserva de la Biosfera
DESCRIPTION:Documental sobre el «Parque Nacional de Ordesa y Monte Perdido»\, el viernes 1 de noviembre a las 18:30h\, para celebrar el Día internacional de las Reservas de la Biosfera. \nAntesala de las II Jornadas para Celebrar el Día Internacional de las Reservas de la Biosfera que tendrán lugar en Panticosa\, los días 2\, 3\, 4 y 5 de noviembre. \nLa asistencia es gratuita y tienes la programación AQUI. \n¡Te esperamos!
URL:https://panticosa.es/agenda/cinetura-noviembre-ordesa-por-el-dia-internacional-de-las-reserva-de-la-biosfera/
LOCATION:Centro Cultural La Fajuala\, Calle San Miguel\, Panticosa\, Huesca\, 22661
CATEGORIES:Educación,Naturaleza y medioambiente
ATTACH;FMTTYPE=image/png:https://panticosa.es/wp-content/uploads/8.png
END:VEVENT
END:VCALENDAR