BEGIN:VCALENDAR
VERSION:2.0
PRODID:-//Panticosa - ECPv6.6.0.2//NONSGML v1.0//EN
CALSCALE:GREGORIAN
METHOD:PUBLISH
X-ORIGINAL-URL:https://panticosa.es
X-WR-CALDESC:Eventos para Panticosa
REFRESH-INTERVAL;VALUE=DURATION:PT1H
X-Robots-Tag:noindex
X-PUBLISHED-TTL:PT1H
BEGIN:VTIMEZONE
TZID:Europe/Madrid
BEGIN:DAYLIGHT
TZOFFSETFROM:+0100
TZOFFSETTO:+0200
TZNAME:CEST
DTSTART:20240331T010000
END:DAYLIGHT
BEGIN:STANDARD
TZOFFSETFROM:+0200
TZOFFSETTO:+0100
TZNAME:CET
DTSTART:20241027T010000
END:STANDARD
END:VTIMEZONE
BEGIN:VEVENT
DTSTART;TZID=Europe/Madrid:20241102T170000
DTEND;TZID=Europe/Madrid:20241105T170000
DTSTAMP:20260423T190941
CREATED:20241019T112814Z
LAST-MODIFIED:20241025T103107Z
UID:6729-1730566800-1730826000@panticosa.es
SUMMARY:II Jornadas Celebración Día Internacional Reservas de la Biosfera
DESCRIPTION:Con motivo de la celebración el 3 de Noviembre del Día Internacional de las Reservas de las Biosferas de la UNESCO\, la Asociación “Amigos de la Reserva de la Biosfera Ordesa-Viñamala” junto con el Ayuntamiento de Panticosa ha organizado unas Mesas-debate sobre el Cambio Climático en la RBOV\,  los días 2\, 3\, 4 y 5 de noviembre. \nViernes 1 de octubre \n18h Inauguración de la Exposición CENEAM Reservas de la Biosfera Españolas a las 18:00h\n18:30h Proyección del documental «El corazón de nuestra Reserva: El Parque Nacional Ordesa-Monte Perdido»  Exposición CENEAM Reservas de la Biosfera Españolas a las 18h30h \nSábado 2 de octubre (17:00h) \nConferencia: ¿Cómo gestionar la naturalización del paisaje pirenaico? Control de la matorralización en ecosistemas pastorales de Yésero y Bujaruelo\, por Dr. José Manuel Nicolau. Profesor de Ecología. Universidad de Zaragoza. Miembro del comité científico de la RBOV. \nDomingo 3 de octubre (17:00h) \nConferencia: La evolución de los glaciares del Pirineo por Dr. Juan Ignacio López Moreno. Investigador del Instituto Pirenaico de Ecología CSIC \nLunes 4 de octubre (17:00h) \nConferencia: Pirineos una red de cooperación transfronteriza ante el reto del Cambio Climático\, proyecto ES-LIFE PYRENEES4CLIMA\, por Dña. Eva García Balaguer. Directora del Observatorio del Cambio Climático de los Pirineos. OPCC CTP \nMartes 5 de octubre (17:00h) \nConferencia: Efectos del cambio climático y el abandono sobre los pastos de la Reserva de la Biosfera Ordesa-Viñamala por Dr. José Daniel Anadón. Investigador del Instituto Pirenaico de Ecología. CSIC \nDespués de las ponencias cada día se realizará una Mesa-debate con personas expertas de diferentes ámbitos relacionados con el tema. \nPara habitantes y público en general. Actividad gratuita. Aforo limitado. \nLugar: Centro Cultural La Fajuala\, Panticosa \n  \n*Actividades paralelas a las Jornadas: \n\n28 de octubre: Excursión gratuita al Parque Nacional de Ordesa para habitantes de la RVBO. Organiza: Amigos RBOV y Reserva Biosfera Ordesa-Viñamala.\n2 de noviembre: Salida “Vivir en un lugar privilegiado”. Hoz de Jaca. Organiza Asociación Turística Valle de Tena y RBOV. Inscripciónes: www.valledetena.com\n\nPROGRAMA JORNADAS\n \n \n \n \n 
URL:https://panticosa.es/agenda/ii-jornadas-celebracion-dia-internacional-reservas-de-la-biosfera/
LOCATION:Centro Cultural La Fajuala\, Calle San Miguel\, Panticosa\, Huesca\, 22661
CATEGORIES:Educación,Naturaleza y medioambiente
ATTACH;FMTTYPE=image/png:https://panticosa.es/wp-content/uploads/CARTEL-dia-internacional-RBO-Cartel-1-1.png
END:VEVENT
END:VCALENDAR