BEGIN:VCALENDAR
VERSION:2.0
PRODID:-//Panticosa - ECPv6.6.0.2//NONSGML v1.0//EN
CALSCALE:GREGORIAN
METHOD:PUBLISH
X-ORIGINAL-URL:https://panticosa.es
X-WR-CALDESC:Eventos para Panticosa
REFRESH-INTERVAL;VALUE=DURATION:PT1H
X-Robots-Tag:noindex
X-PUBLISHED-TTL:PT1H
BEGIN:VTIMEZONE
TZID:Europe/Madrid
BEGIN:DAYLIGHT
TZOFFSETFROM:+0100
TZOFFSETTO:+0200
TZNAME:CEST
DTSTART:20240331T010000
END:DAYLIGHT
BEGIN:STANDARD
TZOFFSETFROM:+0200
TZOFFSETTO:+0100
TZNAME:CET
DTSTART:20241027T010000
END:STANDARD
END:VTIMEZONE
BEGIN:VEVENT
DTSTART;TZID=Europe/Madrid:20241210T090000
DTEND;TZID=Europe/Madrid:20241211T200000
DTSTAMP:20260423T173713
CREATED:20241204T105019Z
LAST-MODIFIED:20241204T113054Z
UID:6841-1733821200-1733947200@panticosa.es
SUMMARY:Celebración Día Internacional de las Montañas
DESCRIPTION:La Asociación de Amigos de la Reserva de la Biosfera\, P.R.E.P.A Bubal y Turismo de Panticosa se unen en la Celebración del Día Internacional de las Montañas con dos actividades especiales que tendrán lugar los días 10 y 11 de diciembre. ¡Te invitamos a sumarte a esta experiencia única para celebrar este día tan importante para nuestro territorio! \nMartes 10 de diciembre – Visita Guiada al Museo de Bubal\n\nHora: 10:00 h\nLugar: Museo Bubal (Bubal)\nPunto de encuentro: 9:30 h en el parking de La Fajuala (opción de coche compartido)\n\nEsta visita nos permitirá conocer el interesante Museo y el Programa de Recuperación y Utilización Educativa de Pueblos Abandonados\, una iniciativa que lleva más de 40 años promoviendo la revitalización del entorno rural. El personal del centro nos guiará por las instalaciones del museo y exteriores para explorar la historia y el legado cultural de Bubal. \nMiércoles 11 de diciembre – Cinetura: Proyección del Documental “Ara Salvaje”\n\nHora: 18:30 h\nLugar: Centro Cultural La Fajuala\, Panticosa\n\nDisfrutaremos de la proyección del inspirador documental “Ara Salvaje”\, una obra que nos invita a reflexionar sobre la conexión del ser humano con la naturaleza. Al finalizar\, habrá una degustación de tortillas de patata para todos los asistentes. Si quieres participar con tu tortilla especial\, eres bienvenido 🙂 \n¡No te pierdas esta oportunidad de celebrar el Día Internacional de las montañas con nosotros!
URL:https://panticosa.es/agenda/celebracion-dia-internacional-de-las-montanas/
LOCATION:Huesca
ATTACH;FMTTYPE=image/jpeg:https://panticosa.es/wp-content/uploads/DIA-INTERNACIONAL-MONTANAS.jpg
END:VEVENT
BEGIN:VEVENT
DTSTART;TZID=Europe/Madrid:20241211T183000
DTEND;TZID=Europe/Madrid:20241211T200000
DTSTAMP:20260423T173713
CREATED:20241129T124252Z
LAST-MODIFIED:20241206T091246Z
UID:6161-1733941800-1733947200@panticosa.es
SUMMARY:CINETURA Diciembre "Ara Salvaje" por el Día Internacional de las Montañas
DESCRIPTION:Documental «Ara Salvaje»\, el miércoles 11 de diciembre a las 18:30h\, para celebrar el Día internacional de las Montañas. \nMientras intenta encontrar su camino en un nuevo mundo\, un ciclista argentino llega con su bici a un lugar remoto. Allí descubrirá el último gran río salvaje del Pirineo. Para poder afrontar un cambio\, buscará un nuevo reto. Desde ese momento quedará ligado a sus aguas\, sus montañas\, su historia y sus gentes. \nAra Salvaje es una ficción documental en 4K de bici de montaña que trata de la lucha por la libertad del último gran río salvaje del Pirineo\, el río Ara\, y la persecución del sueño del rider argentino Martín Campoy a lomos de su bicicleta.  (*Extracto Cima Norte) \nTras el documental y para cerrar el programa anual de CINETURA 2024\, se procederá a una degustación de tortillas españolas. Puedes animarte y traer la tuya 🙂 ¡Te esperamos!
URL:https://panticosa.es/agenda/cinetura-diciembre-polos-por-el-dia-internacional-de-las-montanas/
LOCATION:Centro Cultural La Fajuala\, Calle San Miguel\, Panticosa\, Huesca\, 22661
CATEGORIES:Educación,Naturaleza y medioambiente
ATTACH;FMTTYPE=image/jpeg:https://panticosa.es/wp-content/uploads/carteles-cinetura-Ara-salvaje-ok.jpg
END:VEVENT
END:VCALENDAR