BEGIN:VCALENDAR
VERSION:2.0
PRODID:-//Panticosa - ECPv6.6.0.2//NONSGML v1.0//EN
CALSCALE:GREGORIAN
METHOD:PUBLISH
X-WR-CALNAME:Panticosa
X-ORIGINAL-URL:https://panticosa.es
X-WR-CALDESC:Eventos para Panticosa
REFRESH-INTERVAL;VALUE=DURATION:PT1H
X-Robots-Tag:noindex
X-PUBLISHED-TTL:PT1H
BEGIN:VTIMEZONE
TZID:Europe/Madrid
BEGIN:DAYLIGHT
TZOFFSETFROM:+0100
TZOFFSETTO:+0200
TZNAME:CEST
DTSTART:20250330T010000
END:DAYLIGHT
BEGIN:STANDARD
TZOFFSETFROM:+0200
TZOFFSETTO:+0100
TZNAME:CET
DTSTART:20251026T010000
END:STANDARD
END:VTIMEZONE
BEGIN:VEVENT
DTSTART;TZID=Europe/Madrid:20250201T190000
DTEND;TZID=Europe/Madrid:20250201T193000
DTSTAMP:20260423T143158
CREATED:20250129T183912Z
LAST-MODIFIED:20250131T175722Z
UID:7466-1738436400-1738438200@panticosa.es
SUMMARY:Descenso de Antorchas y chocolatada en Panticosa
DESCRIPTION:Este sábado\, te invitamos a ver muy de cerca la espectacular bajada de antorchas desde los 1.900 metros de altitud de la Estación de Esquí de Panticosa  hasta la base de la telecabina en el pueblo\, recorriendo la icónica pista Estrimal. \nUna experiencia mágica iluminada por el fuego y los esquiadores del Club de Esquí de Panticosa. \n🗓 Sábado\, 1 de febrero\n⏱️ 19:00 h\n📍 Base del Telecabina de la Estación de Esquí de Panticosa (pueblo) \nPara cerrar la velada con buen sabor de boca\, chocolate caliente para todos. ☕❤️ \nLa bajada de antorchas la realizan los monitores de la Esquí de la Escuela. \nEste fin de semana con las últimas nieves recién caídas\, ¡Ven a disfrutar del encanto de la montaña con su manto blanco bajo las estrellas. ¡Te esperamos! \nOrganizan: Aramon Formigal-Panticosa y la Escuela de Esquí Panticosa\nColabora: Ayuntamiento de Panticosa \n  \n 
URL:https://panticosa.es/agenda/descenso-de-antorchas-y-chocolatada-en-panticosa/
LOCATION:Estación Esquí Panticosa ARAMON
CATEGORIES:Deporte,Infantil
ATTACH;FMTTYPE=image/jpeg:https://panticosa.es/wp-content/uploads/bajada-de-antorchas.jpg
END:VEVENT
END:VCALENDAR