BEGIN:VCALENDAR
VERSION:2.0
PRODID:-//Panticosa - ECPv6.6.0.2//NONSGML v1.0//EN
CALSCALE:GREGORIAN
METHOD:PUBLISH
X-WR-CALNAME:Panticosa
X-ORIGINAL-URL:https://panticosa.es
X-WR-CALDESC:Eventos para Panticosa
REFRESH-INTERVAL;VALUE=DURATION:PT1H
X-Robots-Tag:noindex
X-PUBLISHED-TTL:PT1H
BEGIN:VTIMEZONE
TZID:Europe/Madrid
BEGIN:DAYLIGHT
TZOFFSETFROM:+0100
TZOFFSETTO:+0200
TZNAME:CEST
DTSTART:20250330T010000
END:DAYLIGHT
BEGIN:STANDARD
TZOFFSETFROM:+0200
TZOFFSETTO:+0100
TZNAME:CET
DTSTART:20251026T010000
END:STANDARD
END:VTIMEZONE
BEGIN:VEVENT
DTSTART;TZID=Europe/Madrid:20250223T110000
DTEND;TZID=Europe/Madrid:20250223T150000
DTSTAMP:20260423T143157
CREATED:20250129T192513Z
LAST-MODIFIED:20250223T084047Z
UID:7477-1740308400-1740322800@panticosa.es
SUMMARY:Constelaciones Familiares en Panticosa
DESCRIPTION:Entorno Sien7e\, desde el año pasado\, viene realizando de forma continuada varias sesiones de Constelaciones Familiares en Panticosa\, experiencias transformadoras y sanadoras. \nSi quieres formar parte en la próxima sesión\, tienes los teléfonos de contacto de Mónica Arruebo o Isabel Pellicer en el cartel adjunto.
URL:https://panticosa.es/agenda/constelaciones-familiares-en-panticosa/
LOCATION:Centro Cultural La Fajuala\, Calle San Miguel\, Panticosa\, Huesca\, 22661
CATEGORIES:Salud
ATTACH;FMTTYPE=image/jpeg:https://panticosa.es/wp-content/uploads/constelaciones.jpeg
END:VEVENT
END:VCALENDAR