BEGIN:VCALENDAR
VERSION:2.0
PRODID:-//Panticosa - ECPv6.6.0.2//NONSGML v1.0//EN
CALSCALE:GREGORIAN
METHOD:PUBLISH
X-ORIGINAL-URL:https://panticosa.es
X-WR-CALDESC:Eventos para Panticosa
REFRESH-INTERVAL;VALUE=DURATION:PT1H
X-Robots-Tag:noindex
X-PUBLISHED-TTL:PT1H
BEGIN:VTIMEZONE
TZID:Europe/Madrid
BEGIN:DAYLIGHT
TZOFFSETFROM:+0100
TZOFFSETTO:+0200
TZNAME:CEST
DTSTART:20250330T010000
END:DAYLIGHT
BEGIN:STANDARD
TZOFFSETFROM:+0200
TZOFFSETTO:+0100
TZNAME:CET
DTSTART:20251026T010000
END:STANDARD
END:VTIMEZONE
BEGIN:VEVENT
DTSTART;TZID=Europe/Madrid:20250307T183000
DTEND;TZID=Europe/Madrid:20250307T193000
DTSTAMP:20260423T132247
CREATED:20250305T164817Z
LAST-MODIFIED:20250306T165600Z
UID:7601-1741372200-1741375800@panticosa.es
SUMMARY:Cinetura Marzo "Cannelle. La última Osa"
DESCRIPTION:Este viernes en el Centro Cultural la Fajuala de Panticosa te invitamos a la proyección del documental La historia de la última osa pirenaica. \nUn relato emocionante sobre la vida de Cannelle\, la última osa autóctona del Pirineo Occidental\, cuya desaparición marcó un antes y un después en la conservación de esta emblemática especie. \nA través de imágenes inéditas y testimonios de expertos\, el documental nos sumerge en la difícil convivencia entre el ser humano y el oso\, así como en los esfuerzos por su recuperación. \nUna oportunidad única para reflexionar sobre la biodiversidad y el futuro de la fauna pirenaica. No te lo pierdas. \nDespués se expondrán unas normas de conducta de la Fundación Oso Pardo de Asturias. \n¡Te esperamos!
URL:https://panticosa.es/agenda/7601/
LOCATION:Centro Cultural La Fajuala\, C/ La fajuala\, Panticosa\, Huesca\, 22661\, España
CATEGORIES:Cine,Naturaleza y medioambiente
ATTACH;FMTTYPE=image/jpeg:https://panticosa.es/wp-content/uploads/carteles-cinetura-2025.jpg
END:VEVENT
END:VCALENDAR