BEGIN:VCALENDAR
VERSION:2.0
PRODID:-//Panticosa - ECPv6.6.0.2//NONSGML v1.0//EN
CALSCALE:GREGORIAN
METHOD:PUBLISH
X-WR-CALNAME:Panticosa
X-ORIGINAL-URL:https://panticosa.es
X-WR-CALDESC:Eventos para Panticosa
REFRESH-INTERVAL;VALUE=DURATION:PT1H
X-Robots-Tag:noindex
X-PUBLISHED-TTL:PT1H
BEGIN:VTIMEZONE
TZID:Europe/Madrid
BEGIN:DAYLIGHT
TZOFFSETFROM:+0100
TZOFFSETTO:+0200
TZNAME:CEST
DTSTART:20250330T010000
END:DAYLIGHT
BEGIN:STANDARD
TZOFFSETFROM:+0200
TZOFFSETTO:+0100
TZNAME:CET
DTSTART:20251026T010000
END:STANDARD
END:VTIMEZONE
BEGIN:VEVENT
DTSTART;TZID=Europe/Madrid:20250319T180000
DTEND;TZID=Europe/Madrid:20250319T200000
DTSTAMP:20260423T120744
CREATED:20250316T122946Z
LAST-MODIFIED:20250316T132513Z
UID:7723-1742407200-1742414400@panticosa.es
SUMMARY:¡Vuelve el Taller gratuito de Snowboard a Panticosa!
DESCRIPTION:📢 Tras el éxito del año pasado\, este 2025 repetimos experiencia con el 3er Taller de Snowboard en Panticosa con Luis Herraiz. \nUn encuentro pensado para quienes quieren mejorar su técnica y disfrutar al máximo de la nieve. \n¿Qué haremos?✅ Repaso de lo aprendido en ediciones anteriores✅ Ampliación de la movilidad sobre la tabla✅ Introducción a virajes en pista y fuera de pista \n🎁 Regalo sorpresa para los asistentes \n💡 No hace falta inscripción. La entrada al polideportivo es gratuita para socios y de 3\,5€ – 5€ para no socios. \n🏂 Importante: Trae tu propio material: Tabla\, botas y fijaciones.\n📅 Miércoles 19 de marzo📍   Polideportivo La Paul – Panticosa🕕 18:00 a 20:00h
URL:https://panticosa.es/agenda/vuelve-el-taller-gratuito-de-snowboard-a-panticosa/
LOCATION:Instalaciones Deportivas La Paul\, Panticosa\, 22661\, España
CATEGORIES:Deporte
ATTACH;FMTTYPE=image/jpeg:https://panticosa.es/wp-content/uploads/Taller-Snowboard-Panticosa.jpeg
END:VEVENT
END:VCALENDAR