BEGIN:VCALENDAR
VERSION:2.0
PRODID:-//Panticosa - ECPv6.6.0.2//NONSGML v1.0//EN
CALSCALE:GREGORIAN
METHOD:PUBLISH
X-ORIGINAL-URL:https://panticosa.es
X-WR-CALDESC:Eventos para Panticosa
REFRESH-INTERVAL;VALUE=DURATION:PT1H
X-Robots-Tag:noindex
X-PUBLISHED-TTL:PT1H
BEGIN:VTIMEZONE
TZID:Europe/Madrid
BEGIN:DAYLIGHT
TZOFFSETFROM:+0100
TZOFFSETTO:+0200
TZNAME:CEST
DTSTART:20250330T010000
END:DAYLIGHT
BEGIN:STANDARD
TZOFFSETFROM:+0200
TZOFFSETTO:+0100
TZNAME:CET
DTSTART:20251026T010000
END:STANDARD
END:VTIMEZONE
BEGIN:VEVENT
DTSTART;VALUE=DATE:20250604
DTEND;VALUE=DATE:20250605
DTSTAMP:20260420T125001
CREATED:20250523T181704Z
LAST-MODIFIED:20250523T181704Z
UID:8016-1748995200-1749081599@panticosa.es
SUMMARY:I Encuentro vecinos de la Reserva de la Biosfera Ordesa-Viñamala en Panticosa
DESCRIPTION:Panticosa | 4 de junio de 2025 \nEl próximo 4 de junio\, Panticosa acogerá el primer encuentro de convivencia entre asociaciones y vecinos de la Reserva de la Biosfera Ordesa-Viñamala. Una jornada pensada para compartir experiencias\, disfrutar del entorno y fortalecer los lazos que nos unen. \nEn esta ocasión habitantes de Bielsa saldrán de su municipio a las 8:00 h y tras una parada en Búbal para un café de bienvenida y la visita al museo de oficios y tradiciones\, llegarán a Panticosa para realizar un paseo interpretado por las pasarelas\, seguido de una visita al Balneario y una comida con charrada en Panticuto-Belsetan. \nPor la tarde\, continuará con otro paseo interpretado antes de regresar a Bielsa. \nDesde aquí hacemos un llamamiento a todos los que quieran participar y colaborar en este evento pues trata de ser un encuentro entre habitantes de la Reserva de la Biosfera\, en este caso entre Valle de Tena y el de Pineta. \nSolo para vecinos y habitantes de la Reserva de la Biosfera Ordesa-Viñamala. \n🔹 Inscripciones a través de la Asociación de Mujeres Zingalantera:📧 asociacionmujereszingalanteras@gmail.com \n✨ ¡Os esperamos para disfrutar juntos de esta jornada única en Panticosa! \n📍 El siguiente encuentro será en Bielsa el próximo 12 de junio. Aquí dispones de toda la información.
URL:https://panticosa.es/agenda/i-encuentro-vecinos-de-la-reserva-de-la-biosfera-ordesa-vinamala-en-panticosa/
LOCATION:Panticosa\, Calle Santa Cruz\, Panticosa\, 22661\, España
CATEGORIES:Cultura
ATTACH;FMTTYPE=image/jpeg:https://panticosa.es/wp-content/uploads/careles-encuentro-panticosa.jpeg
END:VEVENT
END:VCALENDAR