BEGIN:VCALENDAR
VERSION:2.0
PRODID:-//Panticosa - ECPv6.6.0.2//NONSGML v1.0//EN
CALSCALE:GREGORIAN
METHOD:PUBLISH
X-WR-CALNAME:Panticosa
X-ORIGINAL-URL:https://panticosa.es
X-WR-CALDESC:Eventos para Panticosa
REFRESH-INTERVAL;VALUE=DURATION:PT1H
X-Robots-Tag:noindex
X-PUBLISHED-TTL:PT1H
BEGIN:VTIMEZONE
TZID:Europe/Madrid
BEGIN:DAYLIGHT
TZOFFSETFROM:+0100
TZOFFSETTO:+0200
TZNAME:CEST
DTSTART:20260329T010000
END:DAYLIGHT
BEGIN:STANDARD
TZOFFSETFROM:+0200
TZOFFSETTO:+0100
TZNAME:CET
DTSTART:20261025T010000
END:STANDARD
END:VTIMEZONE
BEGIN:VEVENT
DTSTART;TZID=Europe/Madrid:20260425T080000
DTEND;TZID=Europe/Madrid:20260425T170000
DTSTAMP:20260425T013302
CREATED:20260214T180006Z
LAST-MODIFIED:20260421T125541Z
UID:8949-1777104000-1777136400@panticosa.es
SUMMARY:Caminos tradicionales y miradores entre Panticosa y Hoz de Jaca
DESCRIPTION:ACTIVIDAD COMPLETA (NO HAY PLAZAS)\n🌿 Descripción de la actividad\nEsta ruta discurre a orillas del río Caldarés y conecta Panticosa con Hoz de Jaca a través de antiguos caminos utilizados tradicionalmente para la comunicación entre pueblos. El recorrido atraviesa densos bosques y varios miradores naturales desde los que se obtienen interesantes vistas del entorno. \nA lo largo de la ruta\, el guía realizará paradas interpretativas para explicar la flora\, la fauna y los usos tradicionales del territorio\, así como la importancia histórica de estos caminos en la vida cotidiana del valle. Se trata de una ruta accesible\, ideal para quienes desean iniciarse en el senderismo interpretativo. \n\nℹ️ Información práctica\n\nFecha: 25 abril 2026\nDuración: 4-5 horas\nDesnivel aproximado: +325 – 235 m\nDistancia aproximada: 13 km\nLugar de salida: Oficina de Turismo de Panticosa a las 9:00h\n\n\n📝 Inscripción\nActividad gratuita con inscripción previa obligatoria. \n👉 [Inscripción a la ruta Caminos tradicionales y miradores] \n\n📌 Recomendaciones\n\nCalzado cómodo de montaña.\nAgua.\nProtección solar.\nRopa adecuada a la meteorología.\n\n 
URL:https://panticosa.es/agenda/caminos-tradicionales-y-miradores-entre-panticosa-y-el-pueyo-de-jaca/
LOCATION:Huesca
CATEGORIES:Naturaleza y medioambiente
ATTACH;FMTTYPE=image/jpeg:https://panticosa.es/wp-content/uploads/miradores-panticosa.jpg
ORGANIZER;CN="Turismo Panticosa":MAILTO:info@panticosa.es
END:VEVENT
END:VCALENDAR