BEGIN:VCALENDAR
VERSION:2.0
PRODID:-//Panticosa - ECPv6.6.0.2//NONSGML v1.0//EN
CALSCALE:GREGORIAN
METHOD:PUBLISH
X-ORIGINAL-URL:https://panticosa.es
X-WR-CALDESC:Eventos para Panticosa
REFRESH-INTERVAL;VALUE=DURATION:PT1H
X-Robots-Tag:noindex
X-PUBLISHED-TTL:PT1H
BEGIN:VTIMEZONE
TZID:Europe/Madrid
BEGIN:DAYLIGHT
TZOFFSETFROM:+0100
TZOFFSETTO:+0200
TZNAME:CEST
DTSTART:20250330T010000
END:DAYLIGHT
BEGIN:STANDARD
TZOFFSETFROM:+0200
TZOFFSETTO:+0100
TZNAME:CET
DTSTART:20251026T010000
END:STANDARD
END:VTIMEZONE
BEGIN:VEVENT
DTSTART;TZID=Europe/Madrid:20250520T110000
DTEND;TZID=Europe/Madrid:20250520T140000
DTSTAMP:20260423T143739
CREATED:20250430T115415Z
LAST-MODIFIED:20250504T092038Z
UID:7879-1747738800-1747749600@panticosa.es
SUMMARY:Taller de Jabones Afieltrados en Panticosa
DESCRIPTION:El próximo 20 de mayo a las 11:15 h\, te invitamos a participar en un taller creativo en el Centro Cultural La Fajuala. \nAprenderás a afieltrar jabón utilizando lana natural de oveja y jabón en pastilla\, una técnica sencilla y respetuosa con la piel y el entorno. \nEste taller\, organizado por Mallata Educativa con la colaboración de FEACCU\, la Asociación Flor de Nieve y el Ayuntamiento de Panticosa\, es ideal para quienes buscan regalar algo hecho a mano o simplemente disfrutar de una actividad artesana y original. \nInscripciones en la panadería de Panticosa o en el whatsapp que aparece en el cartel.
URL:https://panticosa.es/agenda/taller-de-jabones-afieltrados-en-panticosa/
LOCATION:Centro Cultural La Fajuala\, Calle San Miguel\, Panticosa\, Huesca\, 22661
CATEGORIES:Artesanía
ATTACH;FMTTYPE=image/jpeg:https://panticosa.es/wp-content/uploads/jabon-afieltrado.jpeg
END:VEVENT
END:VCALENDAR