BEGIN:VCALENDAR
VERSION:2.0
PRODID:-//Panticosa - ECPv6.6.0.2//NONSGML v1.0//EN
CALSCALE:GREGORIAN
METHOD:PUBLISH
X-ORIGINAL-URL:https://panticosa.es
X-WR-CALDESC:Eventos para Panticosa
REFRESH-INTERVAL;VALUE=DURATION:PT1H
X-Robots-Tag:noindex
X-PUBLISHED-TTL:PT1H
BEGIN:VTIMEZONE
TZID:Europe/Madrid
BEGIN:DAYLIGHT
TZOFFSETFROM:+0100
TZOFFSETTO:+0200
TZNAME:CEST
DTSTART:20250330T010000
END:DAYLIGHT
BEGIN:STANDARD
TZOFFSETFROM:+0200
TZOFFSETTO:+0100
TZNAME:CET
DTSTART:20251026T010000
END:STANDARD
END:VTIMEZONE
BEGIN:VEVENT
DTSTART;TZID=Europe/Madrid:20250704T080000
DTEND;TZID=Europe/Madrid:20250706T170000
DTSTAMP:20260423T134324
CREATED:20250521T110022Z
LAST-MODIFIED:20250727T082350Z
UID:7960-1751616000-1751821200@panticosa.es
SUMMARY:Mercado Medieval de Panticosa 2025
DESCRIPTION:Del 4 al 6 de julio de 2025\, el Centro Histórico de Panticosa se transformará como todos los años en un escenario de otra época para celebrar uno de los eventos más esperados del verano: el Mercado Medieval. \nCalles engalanadas\, música antigua\, pasacalles\, espectáculo de rapaces\, puestos de artesanos y aromas que despiertan la nostalgia de los siglos pasados\, te esperan en este escenario natural rodeado de montañas en Panticosa. \nAdemás\, aprovecha esos días para descubrir la belleza natural de Panticosa\, sus rutas\, su gastronomía y su hospitalidad. \n✨ ¡Que no digan en tierras lejanas que dejaste pasar esta oportunidad!… En Panticosa te esperamos con los brazos abiertos. \n\nActividad financiada por Diputación Provincial de Huesca dentro de la campaña » Tu provincia Huesca la Magia»\n\nPulsa en la imagen para ampliar la Programación y ver el detalle.
URL:https://panticosa.es/agenda/mercadomedieval2025/
LOCATION:Huesca
CATEGORIES:Artesanía,Cultura,Infantil
ATTACH;FMTTYPE=image/png:https://panticosa.es/wp-content/uploads/Cartel-Feria-Medieval-2025.png
END:VEVENT
END:VCALENDAR