BEGIN:VCALENDAR
VERSION:2.0
PRODID:-//Panticosa - ECPv6.6.0.2//NONSGML v1.0//EN
CALSCALE:GREGORIAN
METHOD:PUBLISH
X-WR-CALNAME:Panticosa
X-ORIGINAL-URL:https://panticosa.es
X-WR-CALDESC:Eventos para Panticosa
REFRESH-INTERVAL;VALUE=DURATION:PT1H
X-Robots-Tag:noindex
X-PUBLISHED-TTL:PT1H
BEGIN:VTIMEZONE
TZID:Europe/Madrid
BEGIN:DAYLIGHT
TZOFFSETFROM:+0100
TZOFFSETTO:+0200
TZNAME:CEST
DTSTART:20260329T010000
END:DAYLIGHT
BEGIN:STANDARD
TZOFFSETFROM:+0200
TZOFFSETTO:+0100
TZNAME:CET
DTSTART:20261025T010000
END:STANDARD
END:VTIMEZONE
BEGIN:VEVENT
DTSTART;TZID=Europe/Madrid:20260130T173000
DTEND;TZID=Europe/Madrid:20260130T190000
DTSTAMP:20260423T104549
CREATED:20260122T181755Z
LAST-MODIFIED:20260128T085207Z
UID:8879-1769794200-1769799600@panticosa.es
SUMMARY:I Jornadas de Educación Ambiental
DESCRIPTION:ACTIVIDAD SUSPENDIDA POR CAUSAS METEOROLOGICAS ADVERSAS\nIbones\, glaciares y criosfera en el Pirineo\n📍 Sala La Fajuala – Panticosa \nPanticosa acoge las I Jornadas de Educación Ambiental dedicadas a la criosfera del Pirineo y a los cambios recientes que está experimentando como consecuencia del cambio climático. Un encuentro divulgativo que combina ciencia\, divulgación y experiencia directa en la montaña\, con la participación de investigadores del Instituto Pirenaico de Ecología (IPE-CSIC). \n📅 Viernes 30 de enero\n🕙 10:00 – 13:00 h\nActividad educativa no abierta al público general.\n🕠 17:30 – 19:00 h – Jornada de divulgación abierta al público\nSesión centrada en los cambios recientes de la criosfera en el Pirineo\, abordando aspectos clave como: \n\n\nLa evolución de la cobertura de nieve y su papel en la alta montaña \n\n\nEl estado actual de los glaciares pirenaicos \n\n\nLas cuevas heladas como archivos naturales del clima \n\n\nLos ibones y su relación con el cambio climático \n\n\nImpactos sobre la biodiversidad \n\n\nParticipan investigadores del IPE-CSIC: \n\n\nNacho López – nieve y glaciares \n\n\nJorge Pey – polvo sahariano en la nieve \n\n\nAna Moreno – cuevas heladas \n\n\nBlas Valero – ibones \n\n\nBegoña García – biodiversidad \n\n\nFormato:Tres presentaciones breves (15 minutos cada una)\, seguidas de un coloquio con el público y la proyección del vídeo documental “Al paso del hielo”.⏱️ Duración total: 90 minutos. \nEnlace a actividad programada para el Sábado aquí.
URL:https://panticosa.es/agenda/i-jornadas-de-educacion-ambiental/
LOCATION:Centro Cultural La Fajuala\, Calle San Miguel\, Panticosa\, Huesca\, 22661
CATEGORIES:Cine,Naturaleza y medioambiente
ATTACH;FMTTYPE=image/jpeg:https://panticosa.es/wp-content/uploads/jornada-MA-Aramon.jpg
END:VEVENT
END:VCALENDAR