BEGIN:VCALENDAR
VERSION:2.0
PRODID:-//Panticosa - ECPv6.6.0.2//NONSGML v1.0//EN
CALSCALE:GREGORIAN
METHOD:PUBLISH
X-ORIGINAL-URL:https://panticosa.es
X-WR-CALDESC:Eventos para Panticosa
REFRESH-INTERVAL;VALUE=DURATION:PT1H
X-Robots-Tag:noindex
X-PUBLISHED-TTL:PT1H
BEGIN:VTIMEZONE
TZID:Europe/Madrid
BEGIN:DAYLIGHT
TZOFFSETFROM:+0100
TZOFFSETTO:+0200
TZNAME:CEST
DTSTART:20250330T010000
END:DAYLIGHT
BEGIN:STANDARD
TZOFFSETFROM:+0200
TZOFFSETTO:+0100
TZNAME:CET
DTSTART:20251026T010000
END:STANDARD
END:VTIMEZONE
BEGIN:VEVENT
DTSTART;TZID=Europe/Madrid:20250411T183000
DTEND;TZID=Europe/Madrid:20250411T200000
DTSTAMP:20260424T013724
CREATED:20250327T165151Z
LAST-MODIFIED:20250327T170107Z
UID:7813-1744396200-1744401600@panticosa.es
SUMMARY:Cinetura abril "Cantábrico"
DESCRIPTION:En el norte de la Península Ibérica se levanta una gran cordillera de más de 400 Km. como si se tratara de una gran muralla paralela a la costa del Mar Cantábrico. \nEn su otra cara\, la cordillera Cantábrica está repleta de cañones y bosques. Gracias a la influencia del mar y las elevadas precipitaciones\, se ha originado una amplia vegetación en los bosques\, y es el lugar perfecto para esconder un gran número de animales y otras formas de vida que conviven desde tiempos remotos. \nPero sobre todo\, es el territorio de una de las criaturas más impresionantes del hemisferio norte: el oso pardo cantábrico. \nCantábrico es un homenaje al último territorio salvaje de la Península Ibérica que permanece aún en el olvido y que el mundo debe conocer. \nProductora:Wamda Vosopm y Bitis Docu \nOrganiza: Asociación Amigos de la Reserva Ordesa Viñamala \nColabora: Ayuntamiento de Panticosa \n 
URL:https://panticosa.es/agenda/cinetura-abril-cantabrico/
LOCATION:Centro Cultural La Fajuala\, Calle San Miguel\, Panticosa\, Huesca\, 22661
CATEGORIES:Cine,Naturaleza y medioambiente
ATTACH;FMTTYPE=image/png:https://panticosa.es/wp-content/uploads/cinetura-abril-2025.png
END:VEVENT
END:VCALENDAR