BEGIN:VCALENDAR
VERSION:2.0
PRODID:-//Panticosa - ECPv6.6.0.2//NONSGML v1.0//EN
CALSCALE:GREGORIAN
METHOD:PUBLISH
X-WR-CALNAME:Panticosa
X-ORIGINAL-URL:https://panticosa.es
X-WR-CALDESC:Eventos para Panticosa
REFRESH-INTERVAL;VALUE=DURATION:PT1H
X-Robots-Tag:noindex
X-PUBLISHED-TTL:PT1H
BEGIN:VTIMEZONE
TZID:Europe/Madrid
BEGIN:DAYLIGHT
TZOFFSETFROM:+0100
TZOFFSETTO:+0200
TZNAME:CEST
DTSTART:20250330T010000
END:DAYLIGHT
BEGIN:STANDARD
TZOFFSETFROM:+0200
TZOFFSETTO:+0100
TZNAME:CET
DTSTART:20251026T010000
END:STANDARD
END:VTIMEZONE
BEGIN:VEVENT
DTSTART;TZID=Europe/Madrid:20250803T220000
DTEND;TZID=Europe/Madrid:20250803T220000
DTSTAMP:20260423T191839
CREATED:20250730T113221Z
LAST-MODIFIED:20250730T115050Z
UID:8343-1754258400-1754258400@panticosa.es
SUMMARY:Ciclo “Cortos al Raso” – El Pueyo de Jaca
DESCRIPTION:📅 Domingo\, 3 de agosto 2025🕙 22:00 h📍 Cancha de baloncesto – El Pueyo de Jaca🎟️ Entrada gratuita \nLa Comarca Alto Gállego y la Asociación Fotográfica de Sabiñánigo\, junto al Obuzofest\, presentan una nueva edición del ciclo “Cortos al Raso”. \nDurante varios días\, distintas localidades acogerán la proyección del documental “Donde quisimos vivir”\, y el 3 de agosto será el turno de El Pueyo de Jaca\, con una sesión de cine al aire libre para disfrutar en familia o con amigos bajo las estrellas.
URL:https://panticosa.es/agenda/ciclo-cortos-al-raso-el-pueyo-de-jaca/
LOCATION:El Pueyo de Jaca
CATEGORIES:Cine
ATTACH;FMTTYPE=image/jpeg:https://panticosa.es/wp-content/uploads/cartel-cortos-al-raso-pueyo-jaca.jpeg
END:VEVENT
END:VCALENDAR