BEGIN:VCALENDAR
VERSION:2.0
PRODID:-//Panticosa - ECPv6.6.0.2//NONSGML v1.0//EN
CALSCALE:GREGORIAN
METHOD:PUBLISH
X-ORIGINAL-URL:https://panticosa.es
X-WR-CALDESC:Eventos para Panticosa
REFRESH-INTERVAL;VALUE=DURATION:PT1H
X-Robots-Tag:noindex
X-PUBLISHED-TTL:PT1H
BEGIN:VTIMEZONE
TZID:Europe/Madrid
BEGIN:DAYLIGHT
TZOFFSETFROM:+0100
TZOFFSETTO:+0200
TZNAME:CEST
DTSTART:20250330T010000
END:DAYLIGHT
BEGIN:STANDARD
TZOFFSETFROM:+0200
TZOFFSETTO:+0100
TZNAME:CET
DTSTART:20251026T010000
END:STANDARD
END:VTIMEZONE
BEGIN:VEVENT
DTSTART;TZID=Europe/Madrid:20250807T193000
DTEND;TZID=Europe/Madrid:20250807T193000
DTSTAMP:20260423T161658
CREATED:20250730T114735Z
LAST-MODIFIED:20250730T114735Z
UID:8348-1754595000-1754595000@panticosa.es
SUMMARY:Presentación Proyecto de Mentorías – Fundación Valle de Tena
DESCRIPTION:📅 Jueves\, 7 de agosto 2025🕢 19:30 h📍 Centro Cultural La Fajuala\, Panticosa \nLa Fundación Valle de Tena invita a la presentación de su nuevo Proyecto de Mentorías para Jóvenes Estudiantes\, una iniciativa destinada a crear vínculos entre personas con experiencia profesional y jóvenes que buscan orientación en su formación y futuro laboral. \nEl acto estará moderado por José María Moncasi de Alvear\, presidente de la Fundación Valle de Tena. \n👉 Si te interesa  conocer más detalles sobre el proyecto\, ¡te esperamos!
URL:https://panticosa.es/agenda/presentacion-proyecto-de-mentorias-fundacion-valle-de-tena/
LOCATION:Huesca
CATEGORIES:Empresa
ATTACH;FMTTYPE=image/jpeg:https://panticosa.es/wp-content/uploads/cartel-fundacion-valle-de-tena.jpg
END:VEVENT
END:VCALENDAR