BEGIN:VCALENDAR
VERSION:2.0
PRODID:-//Panticosa - ECPv6.6.0.2//NONSGML v1.0//EN
CALSCALE:GREGORIAN
METHOD:PUBLISH
X-WR-CALNAME:Panticosa
X-ORIGINAL-URL:https://panticosa.es
X-WR-CALDESC:Eventos para Panticosa
REFRESH-INTERVAL;VALUE=DURATION:PT1H
X-Robots-Tag:noindex
X-PUBLISHED-TTL:PT1H
BEGIN:VTIMEZONE
TZID:Europe/Madrid
BEGIN:DAYLIGHT
TZOFFSETFROM:+0100
TZOFFSETTO:+0200
TZNAME:CEST
DTSTART:20240331T010000
END:DAYLIGHT
BEGIN:STANDARD
TZOFFSETFROM:+0200
TZOFFSETTO:+0100
TZNAME:CET
DTSTART:20241027T010000
END:STANDARD
END:VTIMEZONE
BEGIN:VEVENT
DTSTART;TZID=Europe/Madrid:20241031T170000
DTEND;TZID=Europe/Madrid:20241031T170000
DTSTAMP:20260426T003911
CREATED:20241026T102731Z
LAST-MODIFIED:20241026T103032Z
UID:6774-1730394000-1730394000@panticosa.es
SUMMARY:Halloween para niños en Panticosa
DESCRIPTION:Llegan esas fechas de comer castañas y boniatos  decoraciones de calabazas iluminadas\, telarañas y escobas voladoras  sabéis de lo que hablamos no??? \nY nosotras contentas de presentar esta actividad dirigida a los mas peques  así que\, si no tenéis plan para el 31 de Octubre a las 17:00h en la ludoteca de Panticosa\, estaremos dinamizando la fiesta de Halloween!!! \nAcordaros de venir con disfraces terroríficos para la ocasión\, nosotras nos encargaremos de pasar una divertida tarde con un pinta-caras\, manualidades de infarto y malabares mágicos \nLugar: Ludoteca (Panticosa)\nHora: A partir de las 17:00h\n  \n*Texto extraído de Instagram Tetratelleres \n  \n 
URL:https://panticosa.es/agenda/halloween-para-ninos-en-panticosa/
LOCATION:Ludoteca Panticosa
CATEGORIES:Fiestas,Infantil
ATTACH;FMTTYPE=image/jpeg:https://panticosa.es/wp-content/uploads/Halloween-Panticosa-2.jpeg
END:VEVENT
END:VCALENDAR