BEGIN:VCALENDAR
VERSION:2.0
PRODID:-//Panticosa - ECPv6.6.0.2//NONSGML v1.0//EN
CALSCALE:GREGORIAN
METHOD:PUBLISH
X-WR-CALNAME:Panticosa
X-ORIGINAL-URL:https://panticosa.es
X-WR-CALDESC:Eventos para Panticosa
REFRESH-INTERVAL;VALUE=DURATION:PT1H
X-Robots-Tag:noindex
X-PUBLISHED-TTL:PT1H
BEGIN:VTIMEZONE
TZID:Europe/Madrid
BEGIN:DAYLIGHT
TZOFFSETFROM:+0100
TZOFFSETTO:+0200
TZNAME:CEST
DTSTART:20250330T010000
END:DAYLIGHT
BEGIN:STANDARD
TZOFFSETFROM:+0200
TZOFFSETTO:+0100
TZNAME:CET
DTSTART:20251026T010000
END:STANDARD
END:VTIMEZONE
BEGIN:VEVENT
DTSTART;TZID=Europe/Madrid:20250531T110000
DTEND;TZID=Europe/Madrid:20250531T140000
DTSTAMP:20260425T150051
CREATED:20250528T122228Z
LAST-MODIFIED:20250528T122808Z
UID:8051-1748689200-1748700000@panticosa.es
SUMMARY:Fiesta de la Primavera 2025 – AMPA Panticosa 🌸
DESCRIPTION:El próximo sábado 31 de mayo de 2025 te esperamos para celebrar juntos la Fiesta de la Primavera organizada por el AMPA del colegio de Panticosa. \nUna jornada llena de actividades para todas las edades\, en un ambiente festivo\, familiar y muy primaveral. 🌸 \n📍 Lugar: Instalaciones del colegio de Panticosa🕦 Hora de inicio: A partir de las 11:30 h \n🎉 Actividades para disfrutar en familia: \n☀️ Mercadillo☀️ Bingo☀️ Concurso de tapas☀️ Venta de flores☀️ Juegos en familia☀️ Pintacaras \nUna ocasión ideal para celebrar la primavera con toda la comunidad educativa. Te esperamos ¡No te lo pierdas! 🌷
URL:https://panticosa.es/agenda/fiesta-de-la-primavera-2025-ampa-panticosa-%f0%9f%8c%b8/
LOCATION:Escuelas de Panticosa
CATEGORIES:Fiestas
ATTACH;FMTTYPE=image/jpeg:https://panticosa.es/wp-content/uploads/cartel-fiesta-primavera-2025.jpg
END:VEVENT
END:VCALENDAR