BEGIN:VCALENDAR
VERSION:2.0
PRODID:-//Panticosa - ECPv6.6.0.2//NONSGML v1.0//EN
CALSCALE:GREGORIAN
METHOD:PUBLISH
X-WR-CALNAME:Panticosa
X-ORIGINAL-URL:https://panticosa.es
X-WR-CALDESC:Eventos para Panticosa
REFRESH-INTERVAL;VALUE=DURATION:PT1H
X-Robots-Tag:noindex
X-PUBLISHED-TTL:PT1H
BEGIN:VTIMEZONE
TZID:Europe/Madrid
BEGIN:DAYLIGHT
TZOFFSETFROM:+0100
TZOFFSETTO:+0200
TZNAME:CEST
DTSTART:20250330T010000
END:DAYLIGHT
BEGIN:STANDARD
TZOFFSETFROM:+0200
TZOFFSETTO:+0100
TZNAME:CET
DTSTART:20251026T010000
END:STANDARD
END:VTIMEZONE
BEGIN:VEVENT
DTSTART;VALUE=DATE:20250628
DTEND;VALUE=DATE:20250629
DTSTAMP:20260425T150314
CREATED:20250618T104001Z
LAST-MODIFIED:20250618T104001Z
UID:8219-1751068800-1751155199@panticosa.es
SUMMARY:Fiestas en Honor a Santa Orosia en el Pueyo de Jaca 2025
DESCRIPTION:Estas son las actividades que se celebrarán el Sábado para celebrar las Fiestas de Santa Orosia este 2025. \n📅 Sábado\, 28 de junio \n\n\n\n\n12:00 h – Cuentacuentos infantil “El Gallo Kiriko”\, ideal para disfrutar en familia. \n\n\n19:00 h – Concierto de la Banda de Música de Zizur Mayor en la Plaza Caldarés. \n\n\n20:30 h y 00:30 h – Doble sesión de baile con la Orquesta Mediterránea. \n\n\nDurante el descanso\, ¡no faltes al tradicional Bingo!
URL:https://panticosa.es/agenda/fiestas-en-honor-a-santa-orosia-en-el-pueyo-de-jaca-2025-2/
LOCATION:El Pueyo de Jaca
CATEGORIES:Fiestas
ATTACH;FMTTYPE=image/jpeg:https://panticosa.es/wp-content/uploads/catel.jpeg
END:VEVENT
END:VCALENDAR