BEGIN:VCALENDAR
VERSION:2.0
PRODID:-//Panticosa - ECPv6.6.0.2//NONSGML v1.0//EN
CALSCALE:GREGORIAN
METHOD:PUBLISH
X-ORIGINAL-URL:https://panticosa.es
X-WR-CALDESC:Eventos para Panticosa
REFRESH-INTERVAL;VALUE=DURATION:PT1H
X-Robots-Tag:noindex
X-PUBLISHED-TTL:PT1H
BEGIN:VTIMEZONE
TZID:Europe/Madrid
BEGIN:DAYLIGHT
TZOFFSETFROM:+0100
TZOFFSETTO:+0200
TZNAME:CEST
DTSTART:20250330T010000
END:DAYLIGHT
BEGIN:STANDARD
TZOFFSETFROM:+0200
TZOFFSETTO:+0100
TZNAME:CET
DTSTART:20251026T010000
END:STANDARD
END:VTIMEZONE
BEGIN:VEVENT
DTSTART;TZID=Europe/Madrid:20250814T120000
DTEND;TZID=Europe/Madrid:20250817T233000
DTSTAMP:20260424T092801
CREATED:20250622T142503Z
LAST-MODIFIED:20250810T182611Z
UID:8250-1755172800-1755473400@panticosa.es
SUMMARY:Fiestas de Panticosa del 14 al 17 de agosto 2025
DESCRIPTION:Fiestas en honor a la Asunción y San Roque\, del 14 al 17 de agosto. Orquestas\, bingo\, actividades para niños y mayores\, pastorada\, palotiau y mucho más. \n  \n \n \n \n \n \n  \n2025-08-05 V01 Pliegos Programa Fiestas de Panticosa 2025 Pequeño 10×10
URL:https://panticosa.es/agenda/fiestas-de-panticosa-del-14-al-17-de-agosto-2025-2/
CATEGORIES:Cultura,Fiestas,Gastronomía,Infantil,Música
ATTACH;FMTTYPE=image/png:https://panticosa.es/wp-content/uploads/fiestas-1.png
END:VEVENT
END:VCALENDAR