BEGIN:VCALENDAR
VERSION:2.0
PRODID:-//Panticosa - ECPv6.6.0.2//NONSGML v1.0//EN
CALSCALE:GREGORIAN
METHOD:PUBLISH
X-WR-CALNAME:Panticosa
X-ORIGINAL-URL:https://panticosa.es
X-WR-CALDESC:Eventos para Panticosa
REFRESH-INTERVAL;VALUE=DURATION:PT1H
X-Robots-Tag:noindex
X-PUBLISHED-TTL:PT1H
BEGIN:VTIMEZONE
TZID:Europe/Madrid
BEGIN:DAYLIGHT
TZOFFSETFROM:+0100
TZOFFSETTO:+0200
TZNAME:CEST
DTSTART:20230326T010000
END:DAYLIGHT
BEGIN:STANDARD
TZOFFSETFROM:+0200
TZOFFSETTO:+0100
TZNAME:CET
DTSTART:20231029T010000
END:STANDARD
END:VTIMEZONE
BEGIN:VEVENT
DTSTART;TZID=Europe/Madrid:20231129T070000
DTEND;TZID=Europe/Madrid:20231206T233000
DTSTAMP:20260423T161749
CREATED:20231202T122433Z
LAST-MODIFIED:20231202T122759Z
UID:5700-1701241200-1701905400@panticosa.es
SUMMARY:Agenda Valle de Tena del 29 al 6 de diciembre 2023
DESCRIPTION:[vc_row][vc_column width=»1/2″][vc_column_text]Viernes\, 1 de diciembre \nDe 9:00 a 14:00 y de 17:00 a 20:00h. Exposición tu visión de la ciencia. Del 2 de noviembre al 21 de diciembre. Aula UNED. Sabiñánigo. Entrada libre. Abierto de lunes a viernes. \n16:30 – 19:00h Centro interpretación LA TORRAZA. Visita libre. Entrada gratuita. Biescas. \n18:30h Cata de cervezas “el origen de Tensina” Imprescindible reserva previa: tensina@tensina.es y 671428610. Tramacastilla de Tena. \n18:30h Menudo teatro. “Una de ratones\, hoy me toca con mamá”. Búho teatro. Auditorio la colina\, Sabiñánigo. \n  \nSábado\, 2 diciembre \n11:30h a 13:30h Belén de Lanuza. Del 2 de diciembre al 7 de enero. Entrada libre. Horario: viernes de 17:30h a 20:00h\, sábados y los días 6\,7\,8 y 9 de diciembre de 11:30h a 13:30h y de 17:00h a 20:00h\, domingos y los días 24 y 31 de diciembre de 11:30h a 13:30h. \n11:30 – 13:30h. Visitas guiadas Alto Gállego: “Iglesias de Serrablo”. C.I. LÁRREDE. Inscripciones: iglesiasdeserrablo@gmail.com \n16:30 – 19:00h Visita libre: Centro de interpretación La Torraza. Entrada Gratuita. BIESCAS. \n18:00h Visita guiada “Historia y leyendas de Brujas y Brujos en el Alto Gállego”. Inscripción obligatoria: piedrafitadejaca2021@gmail.com Punto de encuentro: C.I. De la Brujería PIEDRAFITA DE JACA. \n18:00h Cine “Los juegos del hambre”.  Auditorio La Colina SABIÑÁNIGO. \n21:00h Cine “Five nights al Freddy´s.” Auditorio La Colina SABIÑÁNIGO. \nDomingo\, 3 de diciembre \n17:00h Cine “Five nights at Freddy´s”. Auditorio La Colina SABIÑÁNIGO. \n19:45h Cine “Los juegos del hambre”. Auditorio La Colina SABIÑÁNIGO. \n  \nLunes\, 4 de diciembre \n20:30h Cine “Los juegos del hambre”. Día del espectador\, entrada 5\,20€. Auditorio La Colina SABIÑÁNIGO. \n  \nMartes\, 5 de diciembre \nExposición mujer y deporte en la montaña del alto Gállego. Del 5 al 10 de diciembre. Imágenes del concurso de fotografía 2023. CC. Pablo Neruda\, Biescas. \nMiércoles\, 6 de diciembre \n09:00h Mercado Navidad de Panticosa. Del 6 al 9 de diciembre. Selección de mercaderes y artesanos con productos navideños\, animación orientada sobre todo al público infantil\, con duendes de navidad\, hadas\, títeres y cuentos\, pasacalles con seres de fantasía\, etc. Parking la Fajuala\, Panticosa. \n11:30h. Visita guiada Biescas. Inscripción previa: iglesiasdeserrablo@gmail.com . Actividad gratuita. Plazas limitadas. . \n  \nEXPOSICIONES TEMPORALES \n\nMUDDI – Museo de Dibujo Julio Gavín -Castillo de Larrés. Exposición “El oficio del dibujante”\, de Juan Berrio. LARRÉS.\n\nMUSEOS Y CENTROS DE INTERPRETACIÓN \n\nC.I. BRUJERÍA ALTO GÁLLEGO – PIEDRAFITA DE JACA\n\nEl centro no tiene horario y puede ser visitado cuando se desee \n\nC.I. IGESIAS DEL SERRABLO- LÁRREDE\n\nEl centro no tiene horario y puede ser visitado cuando se desee. \n\nMUSEO DE DIBUJO JULIO GAVÍN\n\nDE 10:00 a 14:00 y de 16:30 a 20:30h. Lunes cerrado. \n\nMUSEO ÁNGEL ORENSANZ Y ARTES DEL SERRABLO\n\nDe 10:00 a 13:30 y de 15:00 a 18:30h. Abierto de martes a domingo. \n\nC.I. LA PEZ – YÉSERO\n\nVisita con cita previa. Telf. 649 018 015 \n\nC.I. DE SANTA OROSIA – YEBRA DE BASA\n\nEl centro no tiene horario y puede ser visitado cuando se desee.[/vc_column_text][/vc_column][vc_column width=»1/2″][vc_cta h2=»Agenda Valle de Tena en pdf»]Agenda 29 oct – 6 dic[/vc_cta][/vc_column][/vc_row]
URL:https://panticosa.es/agenda/agenda-valle-de-tena-del-29-al-6-de-diciembre-2023/
LOCATION:Huesca
CATEGORIES:Artesanía,Cine,Cultura,Deporte,Educación,Fiestas,Gastronomía,Infantil,Música,Naturaleza y medioambiente,Teatro
ATTACH;FMTTYPE=image/jpeg:https://panticosa.es/wp-content/uploads/Agenda-semanal-e1651664556240.jpg
END:VEVENT
BEGIN:VEVENT
DTSTART;TZID=Europe/Madrid:20231206T070000
DTEND;TZID=Europe/Madrid:20231212T233000
DTSTAMP:20260423T161749
CREATED:20231207T124648Z
LAST-MODIFIED:20231207T125034Z
UID:5708-1701846000-1702423800@panticosa.es
SUMMARY:Agenda Valle de Tena del 6 al 12 de diciembre 2023
DESCRIPTION:[vc_row][vc_column width=»1/2″][vc_column_text]Miércoles\, 6 de diciembre de 2023 \nDe 9h a 14h y de 17h a 20h. Exposición tu visión de la ciencia\, del 2 de noviembre al 21 de diciembre. Aula UNED. Sabiñánigo. Entrada libre. Abierto de lunes a viernes \n11:30 – 13:30h. Visitas guiadas Alto Gállego: Visita guiada Biescas.  Precio: 3€ adultos / 2€ niños (7-12 años) Imprescindible reserva previa iglesiasdeserrablo@gmail.com Punto de encuentro oficina de turismo de Biescas. \nBelén de Lanuza. Iglesia San Salvador de Lanuza. Del 2 de diciembre al 7 de enero. Entrada libre. Horario: viernes de 17:30h a 20:00h\, Sábados y los días 6\,7\,8 y 9 de diciembre de 11:30h a 13:30h y de 17:30h a 20:00h\, Domingos y los días 24 y 31 de diciembre de 11:30h a 13:30h \n16:30h Mercado navideño Panticosa. Del 6 al 9 de diciembre. Selección de mercaderes y artesanos con productos navideños\, animación orientada sobre todo al público infantil\, con duendes de navidad\, hadas\, títeres y cuentos\, pasacalles con seres de fantasía\, etc.… Parking la Fajuala\, Panticosa. \n17:00h a 21:00h Mercado de artesanía. Asociación artesanos de la jacetania. Porches de la plaza. Biescas \n17:00h Cata bodegas Bal minuta. Visita magnum\, precio: 50€\, visita con cata maridaje. Reservas: visitas@bodegasbalminuta.es o telf. 699708382 \n18:00h Visita bodegas Bal minuta. Visita estándar\, precio: 19€. Reservas: visitas@bodegasbalminuta.es o telf. 699708382 \n19:00h Encendido de luces de navidad y árbol de los deseos. Plaza del Ayuntamiento. Biescas \n19:30h a 21:00h Exposición mujer y deporte en la montaña del Alto Gállego. Del 5 al 10 de diciembre 2023. Imágenes del concurso de fotografía 2023. CC: Pablo Neruda\, Biescas \n  \n  \nJueves\, 7 de diciembre de 2023 \nDe 9h a 14h y de 17h a 20h. Exposición tu visión de la ciencia\, del 2 de noviembre al 21 de diciembre. Aula UNED. Sabiñánigo. Entrada libre. Abierto de lunes a viernes \n11:30 – 13:30h. Visitas guiadas Alto Gállego: Visita guiada Sallent de Gállego.  Precio: 3€ adultos / 2€ niños (7-12 años) Imprescindible reserva previa iglesiasdeserrablo@gmail.com Punto de encuentro oficina de turismo de Sallent de Gállego. \nBelén de Lanuza. Iglesia San Salvador de Lanuza. Del 2 de diciembre al 7 de enero. Entrada libre. Horario: viernes de 17:30h a 20:00h\, Sábados y los días 6\,7\,8 y 9 de diciembre de 11:30h a 13:30h y de 17:30h a 20:00h\, Domingos y los días 24 y 31 de diciembre de 11:30h a 13:30h. \n  \n16:30h a 21:30h Mercado navideño Panticosa. Del 6 al 9 de diciembre. Selección de mercaderes y artesanos con productos navideños\, animación orientada sobre todo al público infantil\, con duendes de navidad\, hadas\, títeres y cuentos\, pasacalles con seres de fantasía\, etc.… Parking la Fajuala\, Panticosa. \n  \n17:00h Cata bodegas Bal minuta. Visita magnum \, precio: 50€\, visita con cata maridaje. Reservas: visitas@bodegasbalminuta.es o telf. 699708382 \n  \n18:00h Visita bodegas Bal minuta. Visita estándar\, precio: 19€. Reservas: visitas@bodegasbalminuta.es o telf. 699708382 \n  \n19:30 a 21:00h Exposición mujer y deporte en la montaña del Alto Gállego. Del 5 al 10 de diciembre 2023. Imágenes del concurso de fotografía 2023. CC: Pablo Neruda\, Biescas. \n20:00h Cuarteto de saxofones ciudad de Sabiñánigo. CC pablo Neruda\, Biescas. \n  \nViernes\, 8 de diciembre de 2023 \n  \nBelén de Lanuza. Iglesia San Salvador de Lanuza. Del 2 de diciembre al 7 de enero. Entrada libre. Horario: viernes de 17:30h a 20:00h\, Sábados y los días 6\,7\,8 y 9 de diciembre de 11:30h a 13:30h y de 17:30h a 20:00h\, Domingos y los días 24 y 31 de diciembre de 11:30h a 13:30h. \n11:30 – 13:30h. Visitas guiadas Alto Gállego: Visita guiada Gésera.  Precio: 3€ adultos / 2€ niños (7-12 años) Imprescindible reserva previa iglesiasdeserrablo@gmail.com Punto de encuentro Plaza de Gésera (Guarguera). \n  \n16:30h Mercado navideño Panticosa. Del 6 al 9 de diciembre. Selección de mercaderes y artesanos con productos navideños\, animación orientada sobre todo al público infantil\, con duendes de navidad\, hadas\, títeres y cuentos\, pasacalles con seres de fantasía\, etc.… Parking la Fajuala\, Panticosa. \n16:30 – 19:00h Visita libre: Centro de interpretación La Torraza. Entrada Gratuita. Biescas \n17:00h Cata bodegas Bal minuta. Visita magnum\, precio: 50€\, visita con cata maridaje. Reservas: visitas@bodegasbalminuta.es o telf. 699708382 \n18:00h Visita bodegas Bal minuta. Visita estándar\, precio:  19€. Reservas: visitas@bodegasbalminuta.es o telf. 699708382 \n18:30h Cata de cervezas “El origen de Tensina”. Imprescindible reserva previa: tensina@tensina.es y 671 428 610. TRAMACASTILLA DE TENA \n19:30h a 21:00h Exposición mujer y deporte en la montaña del Alto Gállego. Del 5 al 10 de diciembre 2023. Imágenes del concurso de fotografía 2023. CC: Pablo Neruda\, Biescas. \n19:45h Cine. “Napoleón” Auditorio La Colina. Sabiñánigo. \n20:00h Parapente\, una visión diferente de la montaña. A cargo de Musty Mujica\, técnico deportivo de parapente. CC Pablo Neruda\, Biescas. \n  \nSábado\, 9 de diciembre de 2023 \n11:30 – 13:30h. Visitas guiadas Alto Gállego: Visita guiada Iglesias de Serrablo.  Precio: 3€ adultos / 2€ niños (7-12 años) Imprescindible reserva previa iglesiasdeserrablo@gmail.com \nBelén de Lanuza. Iglesia San Salvador de Lanuza. Del 2 de diciembre al 7 de enero. Entrada libre. Horario: viernes de 17:30h a 20:00h\, Sábados y los días 6\,7\,8 y 9 de diciembre de 11:30h a 13:30h y de 17:30h a 20:00h\, Domingos y los días 24 y 31 de diciembre de 11:30h a 13:30h \n16:30h Mercado navideño Panticosa. Del 6 al 9 de diciembre. Selección de mercaderes y artesanos con productos navideños\, animación orientada sobre todo al público infantil\, con duendes de navidad\, hadas\, títeres y cuentos\, pasacalles con seres de fantasía\, etc.… Parking la Fajuala\, Panticosa. \n16:30 – 19:00h Visita libre: Centro de interpretación La Torraza. Entrada Gratuita. BIESCAS. \n18:00h Visita guiada “Historia y leyendas de Brujas y Brujos en el Alto Gállego”. Inscripción obligatoria: piedrafitadejaca2021@gmail.com Punto de encuentro: C.I. De la Brujería PIEDRAFITA DE JACA. \n17:00h Cata bodegas Bal minuta. Visita magnum\, precio: 50€\, visita con cata maridaje. Reservas: visitas@bodegasbalminuta.es o telf. 699708382 \n18:00h Visita bodegas Bal minuta. Visita estándar\, precio: 19€. Reservas: visitas@bodegasbalminuta.es o telf. 699708382 \n18:00h Cine “Wish: el poder de los deseos”.  Auditorio La Colina SABIÑÁNIGO. \n19:30h a 21:00h Exposición mujer y deporte en la montaña del Alto Gállego. Del 5 al 10 de diciembre 2023. Imágenes del concurso de fotografía 2023. CC: Pablo Neruda\, Biescas \n20:00h Cuarteto de saxofones ciudad de Sabiñánigo. Centro social “La Fajuala” Panticosa. \n20:45h Cine “Napoleón” Auditorio La Colina SABIÑÁNIGO \n  \n  \nDomingo\, 10 de diciembre de 2023 \n  \nBelén de Lanuza. Iglesia San Salvador de Lanuza. Del 2 de diciembre al 7 de enero. Entrada libre. Horario: viernes de 17:30h a 20:00h\, Sábados y los días 6\,7\,8 y 9 de diciembre de 11:30h a 13:30h y de 17:30h a 20:00h\, Domingos y los días 24 y 31 de diciembre de 11:30h a 13:30h \n17:00h Cata bodegas Bal minuta. Visita magnum\, precio: 50€\, visita con cata maridaje. Reservas: visitas@bodegasbalminuta.es o telf. 699708382 \n18:00h Visita bodegas Bal minuta. Visita estándar\, precdio: 19€. Reservas: visitas@bodegasbalminuta.es o telf. 699708382 \n17:00h Cine “Wish: el poder de los deseos”. Auditorio La Colina SABIÑÁNIGO. \n19:30h a 21:00h Exposición mujer y deporte en la montaña del Alto Gállego. Del 5 al 10 de diciembre 2023. Imágenes del concurso de fotografía 2023. CC: Pablo Neruda\, Biescas \n19:45h Cine “Napoleón”. Auditorio La Colina SABIÑÁNIGO. \n  \nLunes\, 11 de diciembre de 2023 \nDe 9h a 14h y de 17h a 20h. Exposición tu visión de la ciencia\, del 2 de noviembre al 21 de diciembre. Aula UNED. Sabiñánigo. Entrada libre. Abierto de lunes a viernes \nBelén de Lanuza.  Iglesia San Salvador de Lanuza. Del 2 de diciembre al 7 de enero. Entrada libre. Horario: viernes de 17:30h a 20:00h\, Sábados y los días 6\,7\,8 y 9 de diciembre de 11:30h a 13:30h y de 17:30h a 20:00h\, Domingos y los días 24 y 31 de diciembre de 11:30h a 13:30h \n20:30h Cine “Napoleón”. Día del espectador\, precio 5\,20€. Auditorio La Colina SABIÑÁNIGO \n  \n  \nMartes\, 12 de diciembre de 2023 \nDe 9h a 14h y de 17h a 20h. Exposición tu visión de la ciencia\, del 2 de noviembre al 21 de diciembre. Aula UNED. Sabiñánigo. Entrada libre. Abierto de lunes a viernes \nBelén de Lanuza. Del 2 de diciembre al 7 de enero. Entrada libre. Horario: viernes de 17:30h a 20:00h\, Sábados y los días 6\,7\,8 y 9 de diciembre de 11:30h a 13:30h y de 17:30h a 20:00h\, Domingos y los días 24 y 31 de diciembre de 11:30h a 13:30h \n17:30h Jugar en familia. Sallent de Gállego. Reservas: comarcaaltogallego.es \n  \nEXPOSICIONES TEMPORALES \n\nMUDDI – Museo de Dibujo Julio Gavín -Castillo de Larrés. Exposición “El oficio del dibujante”\, de Juan Berrio. LARRÉS.\n\nMUSEOS Y CENTROS DE INTERPRETACIÓN \n\nC.I. BRUJERÍA ALTO GÁLLEGO – PIEDRAFITA DE JACA\n\nEl centro no tiene horario y puede ser visitado cuando se desee \n\nC.I. IGESIAS DEL SERRABLO- LÁRREDE\n\nEl centro no tiene horario y puede ser visitado cuando se desee. \n\nMUSEO DE DIBUJO JULIO GAVÍN\n\nDE 10:00 a 14:00 y de 16:30 a 20:30h. Lunes cerrado. \n\nMUSEO ÁNGEL ORENSANZ Y ARTES DEL SERRABLO\n\nDe 10:00 a 13:30 y de 15:00 a 18:30h. Abierto de martes a domingo. \n\nC.I. LA PEZ – YÉSERO\n\nVisita con cita previa. Telf. 649 018 015 \n\nC.I. DE SANTA OROSIA – YEBRA DE BASA\n\nEl centro no tiene horario y puede ser visitado cuando se desee.[/vc_column_text][/vc_column][vc_column width=»1/2″][/vc_column][/vc_row]
URL:https://panticosa.es/agenda/agenda-valle-de-tena-del-6-al-12-de-diciembre-2023/
LOCATION:Huesca
CATEGORIES:Artesanía,Cine,Cultura,Deporte,Educación,Fiestas,Gastronomía,Infantil,Música,Naturaleza y medioambiente,Teatro
ATTACH;FMTTYPE=image/jpeg:https://panticosa.es/wp-content/uploads/Agenda-semanal-e1651664556240.jpg
END:VEVENT
END:VCALENDAR