BEGIN:VCALENDAR
VERSION:2.0
PRODID:-//Panticosa - ECPv6.6.0.2//NONSGML v1.0//EN
CALSCALE:GREGORIAN
METHOD:PUBLISH
X-ORIGINAL-URL:https://panticosa.es
X-WR-CALDESC:Eventos para Panticosa
REFRESH-INTERVAL;VALUE=DURATION:PT1H
X-Robots-Tag:noindex
X-PUBLISHED-TTL:PT1H
BEGIN:VTIMEZONE
TZID:Europe/Madrid
BEGIN:DAYLIGHT
TZOFFSETFROM:+0100
TZOFFSETTO:+0200
TZNAME:CEST
DTSTART:20230326T010000
END:DAYLIGHT
BEGIN:STANDARD
TZOFFSETFROM:+0200
TZOFFSETTO:+0100
TZNAME:CET
DTSTART:20231029T010000
END:STANDARD
END:VTIMEZONE
BEGIN:VEVENT
DTSTART;TZID=Europe/Madrid:20231221T070000
DTEND;TZID=Europe/Madrid:20231231T233000
DTSTAMP:20260423T161959
CREATED:20231222T094618Z
LAST-MODIFIED:20231222T094650Z
UID:5740-1703142000-1704065400@panticosa.es
SUMMARY:Agenda Valle de Tena del 21 al 31 de diciembre 2023
DESCRIPTION:[vc_row][vc_column width=»1/2″][vc_column_text]Jueves\, 21 de diciembre de 2023 \n  \nDe 9h a 14h y de 17h a 20h. Exposición tu visión de la ciencia\, del 2 de noviembre al 21 de diciembre. Aula UNED. Sabiñánigo. Entrada libre. Abierto de lunes a viernes. \n12:00h San Silvestre solidaria. Organizada por el colegio de Sallent de Gállego. Plaza Valle de Tena. Sallent de Gállego \n20:00h Concierto Navidad. Interpretado por el coral San Feliciano Parroquia Cristo Rey. Sabiñánigo. \n  \nViernes\, 22 de diciembre de 2023 \nBelén de Lanuza. Iglesia San Salvador de Lanuza. Del 2 de diciembre al 7 de enero. Entrada libre. Horario: viernes de 17:30h a 20:00h\, Sábados de 11:30h a 13:30h y de 17:30h a 20:00h\, Domingos y los días 24 y 31 de diciembre de 11:30h a 13:30h. \n16:30 – 19:00h Visita libre: Centro de interpretación La Torraza. Entrada Gratuita. Biescas \n18:00h Chocolate y villancicos intergeneracional y belén viviente. Centro social Sallent de Gállego \n18:30h Cata de cervezas “El origen de Tensina”. Imprescindible reserva previa: tensina@tensina.es y 671 428 610. TRAMACASTILLA DE TENA \n  \nSábado\, 23 de diciembre de 2023 \n10:00h Museo Ángel Orensanz y artes del serrablo. Jornada puertas abiertas\, Sabiñánigo. \n11:30 – 13:30h. Visitas guiadas Alto Gállego: Visita guiada Iglesias de Serrablo.  Precio: 3€ adultos / 2€ niños (7-12 años) Imprescindible reserva previa iglesiasdeserrablo@gmail.com \nBelén de Lanuza. Iglesia San Salvador de Lanuza. Del 2 de diciembre al 7 de enero. Entrada libre. Horario: viernes de 17:30h a 20:00h\, Sábados y los días 6\,7\,8 y 9 de diciembre de 11:30h a 13:30h y de 17:30h a 20:00h\, Domingos y los días 24 y 31 de diciembre de 11:30h a 13:30h \n16:30 – 19:00h Visita libre: Centro de interpretación La Torraza. Entrada Gratuita. BIESCAS. \n18:00h Visita guiada “Historia y leyendas de Brujas y Brujos en el Alto Gállego”. Inscripción obligatoria: piedrafitadejaca2021@gmail.com Punto de encuentro: C.I. De la Brujería PIEDRAFITA DE JACA. \n20:00h Concierto de Navidad. Orfeón serrablés. Parroquia Cristo Rey\, Sabiñánigo. \n20:30h Concierto villancicos. Grupo folclórico Sallent de Gállego. Iglesia de Sallent de Gállego. \n  \nDomingo\, 24 de diciembre de 2023 \n10:00h Museo Ángel Orensanz y artes del serrablo. Jornada puertas abiertas\, Sabiñánigo. \n10:00h Visita Papá Noel.   Estación de esquí Formigal. \nBelén de Lanuza. Iglesia San Salvador de Lanuza. Del 2 de diciembre al 7 de enero. Entrada libre. Horario: viernes de 17:30h a 20:00h\, Sábados de 11:30h a 13:30h y de 17:30h a 20:00h\, Domingos y los días 24 y 31 de diciembre de 11:30h a 13:30h. \n16:00h Papanoelada motera. Encuentro de motos y recorrido por Biescas. \n17:00h Villancicos\, torta y poncho. Biescas (junto a la residencia) \n18:00h Visita Papá Noel. Plaza de España\, Sabiñánigo. \n  \nMartes\, 26 de diciembre de 2023 \n19:00h Concierto de Villancicos. Agrupación folclórica de Panticosa. Iglesia de la Asunción\, Panticosa. \n  \nMiércoles\, 27 de diciembre de 2023 \n11:00h Visita y cata Bodegas Bal minuta. Visita bodega y cata maridaje. Precio Visita magnum 50€. Información y reservas: visitas@bodegasbalminuta.es Tel: 699 708 382 \n12:00h Visita Bodegas Bal minuta. Visita bodega estándar. Precio: 19€. Información y reservas: visitas@bodegasbalminuta.es Tel: 699 708 382 \n18:00h Visita histórica Panticosa. Un paseo por las calles de Panticosa buscando los rincones más emblemáticos. Reserva previa: panticosaturismo@gmail.com \n18:30h Película infantil “Elemental”. Polideportivo Escaladillo. Sallent de Gállego. \n  \nJueves\, 28 de diciembre de 2023 \n11:00h Visita y cata Bodegas Bal minuta. Visita bodega y cata maridaje. Precio Visita magnum 50€. Información y reservas: visitas@bodegasbalminuta.es Tel: 699 708 382 \n12:00h Visita Bodegas Bal minuta. Visita bodega estándar. Precio: 19€. Información y reservas: visitas@bodegasbalminuta.es Tel: 699 708 382 \n18:00h a 20:00h Recogida de cartas de los pajes de sus Majestades los Reyes Magos de Oriente. Centro social Sallent de Gállego. \n18:00h Un paseo de Navidad\, curiosidades y tradiciones. Reserva previa: panticosaturismo@gmail.com \n  \nViernes\, 29 de diciembre de 2023 \n11:00h Visita y cata Bodegas Bal minuta. Visita bodega y cata maridaje. Precio Visita magnum 50€. Información y reservas: visitas@bodegasbalminuta.es Tel: 699 708 382 \n12:00h Visita Bodegas Bal minuta. Visita bodega estándar. Precio: 19€. Información y reservas: visitas@bodegasbalminuta.es Tel: 699 708 382 \n18:00h Actuación infantil “la risa todo lo cura”. Patio de las escuelas (junto a la iglesia) Sallent de Gállego. \n18:45h Concierto de Navidad. La coral de la Asunción. Iglesia parroquial de Panticosa. \n19:00h Sueños y propósitos año nuevo. A cargo de huella pirenaica. Inscripciones oficina de turismo Biescas. Precio: 3€ \nBelén de Lanuza. Iglesia San Salvador de Lanuza. Del 2 de diciembre al 7 de enero. Entrada libre. Horario: viernes de 17:30h a 20:00h\, Sábados de 11:30h a 13:30h y de 17:30h a 20:00h\, Domingos y los días 24 y 31 de diciembre de 11:30h a 13:30h. \n20:30h Concierto de Navidad. Interpretado por la Banda Chicotén. Sabiñánigo. \n  \nSábado\, 30 de diciembre de 2023 \n11:30 – 13:30h. Visitas guiadas Alto Gállego: Visita guiada Iglesias de Serrablo.  Precio: 3€ adultos / 2€ niños (7-12 años) Imprescindible reserva previa iglesiasdeserrablo@gmail.com \nBelén de Lanuza. Iglesia San Salvador de Lanuza. Del 2 de diciembre al 7 de enero. Entrada libre. Horario: viernes de 17:30h a 20:00h\, Sábados de 11:30h a 13:30h y de 17:30h a 20:00h\, Domingos y los días 24 y 31 de diciembre de 11:30h a 13:30h. \n17:00h Visita y cata Bodegas Bal minuta. Visita bodega y cata maridaje. Precio Visita magnum 50€. Información y reservas: visitas@bodegasbalminuta.es Tel: 699 708 382 \n18:00h Visita Bodegas Bal minuta. Visita bodega estándar. Precio: 19€. Información y reservas: visitas@bodegasbalminuta.es Tel: 699 708 382 \n18:00h Navidad Pelaire. Fiesta infantil a cargo de ÁREA ACTIVA. Hasta 14 años. Polideportivo Biescas. Entrada libre hasta completar aforo. \n  \n  \nDomingo\, 31 de diciembre de 2023 \n11:00h Visita y cata Bodegas Bal minuta. Visita bodega y cata maridaje. Precio Visita magnum 50€. Información y reservas: visitas@bodegasbalminuta.es Tel: 699 708 382 \n12:00h Visita Bodegas Bal minuta. Visita bodega estándar. Precio: 19€. Información y reservas: visitas@bodegasbalminuta.es Tel: 699 708 382 \nBelén de Lanuza. Iglesia San Salvador de Lanuza. Del 2 de diciembre al 7 de enero. Entrada libre. Horario: viernes de 17:30h a 20:00h\, sábados de 11:30h a 13:30h y de 17:30h a 20:00h\, Domingos y los días 24 y 31 de diciembre de 11:30h a 13:30h. \n17:00h XXXIII San Silvestre “Puente Sardas”\,  con trofeos para los tres primeros clasificados de cada categoría\, tanto masculina como femenina (benjamín\, alevín\, infantil\, cadete\, y popular) además de premio especial para el mejor disfraz individual y mejor disfraz colectivo \n18:30h. Bajada de antorchas. Estación de esquí Formigal\, llegada a sextas. \n  \nFin de año 2023 \n01:00h Fiesta fin de año. Discomóvil Caprice. Patio de las escuelas. Sallent de Gállego. Entrada libre. \n01:00h Fiesta fin de año. DJ Alex Tena. Polideportivo Biescas. Entrada libre \n  \nEXPOSICIONES TEMPORALES \n\nMUDDI – Museo de Dibujo Julio Gavín -Castillo de Larrés. Exposición “El oficio del dibujante”\, de Juan Berrio. LARRÉS\nDel 6 de diciembre al 6 de enero visita el Belén Monumental en la Serrería de Biescas. (Se ve desde el exterior).\n\n  \nMUSEOS Y CENTROS DE INTERPRETACIÓN \n\nC.I. BRUJERÍA ALTO GÁLLEGO – PIEDRAFITA DE JACA\n\nEl centro no tiene horario y puede ser visitado cuando se desee \n\nC.I. IGESIAS DEL SERRABLO- LÁRREDE\n\nEl centro no tiene horario y puede ser visitado cuando se desee. \n\nMUSEO DE DIBUJO JULIO GAVÍN\n\nDE 10:00 a 14:00 y de 16:30 a 20:30h. Lunes cerrado. \n\nMUSEO ÁNGEL ORENSANZ Y ARTES DEL SERRABLO\n\nDe 10:00 a 13:30 y de 15:00 a 18:30h. Abierto de martes a domingo. \n\nC.I. LA PEZ – YÉSERO\n\nVisita con cita previa. Telf. 649 018 015 \n\nC.I. DE SANTA OROSIA – YEBRA DE BASA\n\nEl centro no tiene horario y puede ser visitado cuando se desee.[/vc_column_text][/vc_column][/vc_row]
URL:https://panticosa.es/agenda/agenda-valle-de-tena-del-21-al-31-de-diciembre-2023/
LOCATION:Huesca
CATEGORIES:Artesanía,Cine,Cultura,Deporte,Educación,Fiestas,Gastronomía,Infantil,Música,Naturaleza y medioambiente,Teatro
ATTACH;FMTTYPE=image/jpeg:https://panticosa.es/wp-content/uploads/Agenda-semanal-e1651664556240.jpg
END:VEVENT
END:VCALENDAR