BEGIN:VCALENDAR
VERSION:2.0
PRODID:-//Panticosa - ECPv6.6.0.2//NONSGML v1.0//EN
CALSCALE:GREGORIAN
METHOD:PUBLISH
X-ORIGINAL-URL:https://panticosa.es
X-WR-CALDESC:Eventos para Panticosa
REFRESH-INTERVAL;VALUE=DURATION:PT1H
X-Robots-Tag:noindex
X-PUBLISHED-TTL:PT1H
BEGIN:VTIMEZONE
TZID:Europe/Madrid
BEGIN:DAYLIGHT
TZOFFSETFROM:+0100
TZOFFSETTO:+0200
TZNAME:CEST
DTSTART:20230326T010000
END:DAYLIGHT
BEGIN:STANDARD
TZOFFSETFROM:+0200
TZOFFSETTO:+0100
TZNAME:CET
DTSTART:20231029T010000
END:STANDARD
END:VTIMEZONE
BEGIN:VEVENT
DTSTART;VALUE=DATE:20230105
DTEND;VALUE=DATE:20230106
DTSTAMP:20260425T044310
CREATED:20221231T153608Z
LAST-MODIFIED:20221231T171210Z
UID:4765-1672876800-1672963199@panticosa.es
SUMMARY:Gran Cabalgata de Reyes 2023 en Panticosa
DESCRIPTION:SS. MM. los Reyes Magos de Oriente llegarán a Panticosa el día 5 de Enero a partir de las 18h partiendo desde la Calle Santa Cruz (altura Estacho) hasta llegar a la plaza del Esquiador\, donde harán la entrega de regalos a los niños. \nLos padres interesados pueden pasar por la oficina de turismo de Panticosa el día 4 de diciembre en horario de 9:00 a 14:00 y 17 a 19:30h o el día 5 de diciembre entre las 9:00 y 14:00h.
URL:https://panticosa.es/agenda/gran-cabalgata-de-reyes-2023-en-panticosa/
LOCATION:Panticosa\, Calle Santa Cruz\, Panticosa\, 22661\, España
CATEGORIES:Fiestas
ATTACH;FMTTYPE=image/jpeg:https://panticosa.es/wp-content/uploads/cabalgata.jpg
END:VEVENT
END:VCALENDAR