BEGIN:VCALENDAR
VERSION:2.0
PRODID:-//Panticosa - ECPv6.6.0.2//NONSGML v1.0//EN
CALSCALE:GREGORIAN
METHOD:PUBLISH
X-ORIGINAL-URL:https://panticosa.es
X-WR-CALDESC:Eventos para Panticosa
REFRESH-INTERVAL;VALUE=DURATION:PT1H
X-Robots-Tag:noindex
X-PUBLISHED-TTL:PT1H
BEGIN:VTIMEZONE
TZID:Europe/Madrid
BEGIN:DAYLIGHT
TZOFFSETFROM:+0100
TZOFFSETTO:+0200
TZNAME:CEST
DTSTART:20230326T010000
END:DAYLIGHT
BEGIN:STANDARD
TZOFFSETFROM:+0200
TZOFFSETTO:+0100
TZNAME:CET
DTSTART:20231029T010000
END:STANDARD
END:VTIMEZONE
BEGIN:VEVENT
DTSTART;VALUE=DATE:20230401
DTEND;VALUE=DATE:20230402
DTSTAMP:20260424T234226
CREATED:20230325T172825Z
LAST-MODIFIED:20230325T172825Z
UID:4948-1680307200-1680393599@panticosa.es
SUMMARY:Apertura de Pasarelas de Panticosa Temporada 2023
DESCRIPTION:UNA EXPERIENCIA UNICA EN EL VALLE DE TENA\nJusto antes de llegar a Panticosa\, el río Caldarés se abre paso entre el Tozal de las Tierras y la Peña O Calvé abriendo un corto pero angosto cañón con verticales paredes rocosas. \n¿Quieres saber algunas de las cosas que vas a descubrir si realizas esta ruta circular de 1 hora de duración súper accesible? \n\nEl milenario trabajo erosivo de las aguas que ha perfilado este impresionante desfiladero y que gracias a las pasarelas aéreas ahora puedes disfrutar tu.\nUna panorámica 360° de Panticosa y su imponente entorno natural\, desde el Mirador O Calvé. Uno de los miradores con las mejores vistas de todo el Valle de Tena.\nDos de los más de 6. 000 búnkeres ubicados en todo el Pirineo que forman parte de la colosal Línea Defensiva P.\nLa gran riqueza biológica característica de esta zona de alta montaña aragonesa perteneciente a la Reserva de la Biosfera Ordesa Viñamala.\n\nMuchas personas nos preguntan porque Panticosa está de moda y todos quieren venir a visitarnos. La respuesta es fácil\, si vienes a comprobarlo con tus propios ojos\, sabrás porque. Te esperamos! \nInformación y venta online de entradas ya disponible en www.pasarelasdepanticosa.com \n* Desde el 1 de abril hasta mediados de junio solo abiertos fines de semana\, festivos y puentes en horario de 10:00h a 17:40 h. Puedes consultar fechas en la web de pasarelas.
URL:https://panticosa.es/agenda/apertura-de-pasarelas-de-panticosa-temporada-2023/
LOCATION:Huesca
CATEGORIES:Infantil,Naturaleza y medioambiente
ATTACH;FMTTYPE=image/png:https://panticosa.es/wp-content/uploads/1.png
END:VEVENT
BEGIN:VEVENT
DTSTART;TZID=Europe/Madrid:20230406T131500
DTEND;TZID=Europe/Madrid:20230406T131500
DTSTAMP:20260424T234226
CREATED:20230401T105445Z
LAST-MODIFIED:20230401T105506Z
UID:5016-1680786900-1680786900@panticosa.es
SUMMARY:Loquillo en concierto en la Estación de Esquí de Panticosa
DESCRIPTION:Los próximos 5 y 6 de abril de abril llega a la estación de Aramón Formigal-Panticosa el Vive Latino Snow Weekend. Un evento organizado por el Grupo Aramón y Vive Latino\, en colaboración con el Ayuntamiento de Panticosa. \nLa gran leyenda del Rock&Roll Loquillo estará con nosotros en la Estación de esquí de Panticosa\, el jueves 6 de abril a las 13:15. \nVaya comienzo de Semana Santa os tenemos preparado!!! 🤩 \n¿Te vienes a disfrutar de un súper conciertazo rodeado de las más imponentes montañas en uno de los mejores escenarios del Valle de Tena esta Semana Santa? \n \n 
URL:https://panticosa.es/agenda/5016/
LOCATION:Huesca
CATEGORIES:Cultura,Fiestas,Naturaleza y medioambiente
ATTACH;FMTTYPE=image/jpeg:https://panticosa.es/wp-content/uploads/WhatsApp-Image-2023-03-29-at-12.23.52.jpeg
END:VEVENT
BEGIN:VEVENT
DTSTART;TZID=Europe/Madrid:20230409T113000
DTEND;TZID=Europe/Madrid:20230409T113000
DTSTAMP:20260424T234226
CREATED:20230402T104225Z
LAST-MODIFIED:20230402T123753Z
UID:5080-1681039800-1681039800@panticosa.es
SUMMARY:Visita guiada al Abeto de los 3 Quiñones de Panticosa en Semana Santa
DESCRIPTION:¿Quieres descubrir Panticosa y su entorno\, su historia\, su patrimonio y algunas curiosidades más sobre Semana Santa? \nHuella Pirenaica\, ofrecerá la ultima de sus visitas guiadas  aptas para todo tipo de públicos\, en Panticosa. \n\nDomingo 9 de abril: Paseo Interpretativo al Abeto de los 3 Quiñones a las 11:30 h.\n\nPlazas limitadas ! Reservas en contacto@huellapirenaica.com o teléfono 699708382. \n\n		\n		\n			\n				\n			\n			\n		\n\n  \n 
URL:https://panticosa.es/agenda/visitas-guiadas-por-panticosa-en-semana-santa-2/
LOCATION:Panticosa\, Calle Santa Cruz\, Panticosa\, 22661\, España
CATEGORIES:Naturaleza y medioambiente
ATTACH;FMTTYPE=image/png:https://panticosa.es/wp-content/uploads/Blue-Pink-White-Handwritten-Five-Minute-Meditation-YouTube-Thumbnail.png
END:VEVENT
END:VCALENDAR