BEGIN:VCALENDAR
VERSION:2.0
PRODID:-//Panticosa - ECPv6.6.0.2//NONSGML v1.0//EN
CALSCALE:GREGORIAN
METHOD:PUBLISH
X-WR-CALNAME:Panticosa
X-ORIGINAL-URL:https://panticosa.es
X-WR-CALDESC:Eventos para Panticosa
REFRESH-INTERVAL;VALUE=DURATION:PT1H
X-Robots-Tag:noindex
X-PUBLISHED-TTL:PT1H
BEGIN:VTIMEZONE
TZID:Europe/Madrid
BEGIN:DAYLIGHT
TZOFFSETFROM:+0100
TZOFFSETTO:+0200
TZNAME:CEST
DTSTART:20230326T010000
END:DAYLIGHT
BEGIN:STANDARD
TZOFFSETFROM:+0200
TZOFFSETTO:+0100
TZNAME:CET
DTSTART:20231029T010000
END:STANDARD
END:VTIMEZONE
BEGIN:VEVENT
DTSTART;TZID=Europe/Madrid:20230602T000000
DTEND;TZID=Europe/Madrid:20230603T170000
DTSTAMP:20260424T201638
CREATED:20230319T122842Z
LAST-MODIFIED:20230520T134107Z
UID:4908-1685664000-1685811600@panticosa.es
SUMMARY:II Edición Panticosa Country Festival
DESCRIPTION:Panticosa volverá a bailar a ritmo de Country \nEl fin de semana del 2 y 3 de junio de 2023 debe estar especialmente señalado en el calendario de los amantes del country\, porque Panticosa se convertirá estos días en el centro neurálgico de la música country de nuestro país. \nEn este II Festival Country que se celebrará en Panticosa se podrá disfrutar de talleres y workshops además del gran concierto la noche del sábado que este año correrá a cargo del grupo ALLWOODS Country Band. \nTe aseguramos que esta banda de gran recorrido hará vibrar a todo el que se acerque al Pabellón Deportivo La Paul en Panticosa este fin de semana. \nLa cultura country se encuentra muy ligada a la tierra\, a la vida en el pueblo y a la vida sana\, precisamente por eso hace que este Festival se fusione a la perfección en Panticosa\, un paraíso rodeado de naturaleza y montañas\, donde poder disfrutar los 365 días del año. \nEl acceso a todas las actividades es completamente gratuito. \n\n¿Quieres aprender a bailar al mas estilo cowbow?\n¿Te gustaría pasar un rato divertido escuchando buena música?\n¿Te atreves a venir con tus amigos para hacer una actividad completamente diferente?\n\nEntonces\, marca la fecha en tu agenda YA. Prepara tu mejor outfit\, ya sabes… tejanos\, camisa a cuadros\, sombrero y botas al más estilo cowboy 😉  Te esperamos… \nY recuerda\, aprovecha este finde para descubrir todo lo que Panticosa ofrece en esta época del año: senderos infinitos\, ibones\, ruta de los miradores\, pasarelas de Panticosa\, bikepark\, Balneario… \n \n 
URL:https://panticosa.es/agenda/ii-edicion-panticosa-country-festival/
LOCATION:Panticosa\, Calle Santa Cruz\, Panticosa\, 22661\, España
CATEGORIES:Fiestas,Música
ATTACH;FMTTYPE=image/jpeg:https://panticosa.es/wp-content/uploads/Panticosa-Country-Festival.jpeg
END:VEVENT
BEGIN:VEVENT
DTSTART;VALUE=DATE:20230621
DTEND;VALUE=DATE:20230623
DTSTAMP:20260424T201638
CREATED:20230608T173133Z
LAST-MODIFIED:20230624T133709Z
UID:5137-1687305600-1687478399@panticosa.es
SUMMARY:V CONGRESO MUNDIAL DE TURISMO RURAL SOSTENIBLE
DESCRIPTION:BIENVENIDOS AL V CONGRESO DE TURISMO RURAL SOSTENIBLE\nLos próximos 21 y 22 de junio se llevará a cabo en Panticosa la quinta edición del Congreso de Turismo Rural Sostenible\, COMTUR. \nEl tema elegido para este año es «Proyectos impulsores del turismo rural».  \nEste congreso es una oportunidad única para debatir sobre las últimas tendencias en turismo rural\, además de conocer acerca de las prácticas más sostenibles y respetuosas con el medio ambiente dentro del sector turístico. \nOrganizado por ADEA (Asociación Directivos y Ejecutivos de Aragón) y con la participación\, como en años anteriores\, de excelentes ponentes\, COMTUR se ha consolidado como una de las citas más importantes para aquellos que quieren aprender y compartir experiencias innovadoras y conocimientos sobre turismo rural sostenible en nuestro territorio. \nEste evento será sin duda muy interesante para todos aquellos interesados en  conocer a otros profesionales involucrados en el turismo rural con los que podemos colaborar o intercambiar ideas\, obtener información de primera mano sobre las últimas tendencias del mercado\, aumentar su visibilidad dentro del sector\, etc. \n¡Te esperamos! \n  \nPrograma: \nMIÉRCOLES\, 21 DE JUNIO \n11.30 h. Bienvenida y recepción en el Ayuntamiento de Panticosa. Visita guiada. \n16.15 h. Apertura institucional del CONGRESO (Balneario de Panticosa). \n16.35 h. Conferencias de apertura V Congreso de Turismo Rural Sostenible. \n17.25 h. MESA 1. OPORTUNIDADES DEL SECTOR DEL TURISMO RURAL Y PERSPECTIVAS \n18.45 h. MESA 2. PROYECTOS E INICIATIVAS EN EL TURISMO A NIVEL LOCAL \n20.00 h. Finalización de las sesiones. \nJUEVES\, 22 DE JUNIO \n10.00 h. MESA 3. GRANDES PROYECTOS IMPULSORES DEL TURISMO RURAL: LA REAPERTURA DEL CANFRANC \n10.45 h. MESA 4. LA NIEVE COMO IMPULSOR DEL TURISMO RURAL \n11.30 h. Conferencia de clausura. \n12.00 h. Clausura Institucional. \n12.45 h. Fin del congreso. \n* Horarios sujetos a modificaciones \n  \nALGUNOS PONENTES CONFIRMADOS:\n \nConferencias de apertura: \n. Natalia Bayona. Directora de Innovación\, Educación e Inversión de la Organización Mundial del Turismo (OMT). \n. María Bellosta. Directora de Hotel Royal Hideaway Canfranc Estación\, de Barceló. \n  \nMesa 1. «Oportunidades del sector del Turismo Rural y perspectivas».  \n. Ana Muñoz Llabrés. Subdirectora General de Desarrollo y Sostenibilidad Turística. Secretaría de Estado de Turismo\, Ministerio de Industria\, Comercio y Turismo. Gobierno de España. \n. Sara Sánchez. CEO de Rusticae. \n. Eva Ballarín. Ponente internacional\, investigadora y analista especializada en Tendencias HORECA. Formación bilingüe y Consultoría estratégica. Fundadora Horeca Speakers. \n. Teresa Olivares. Directora de desarrollo de negocio de Ruralka. \n. Alfredo Ruiz Santolaya. Socio Director de Commercial criterio y autor del libro “Marketing del Vino”. \n  \nMesa 2. «Proyectos e iniciativas en el Turismo Rural». \n. Tamara Eneriz. CEO de ‘El Arrebol Comfort Camp’. \n. Fernando Blasco. Director Gerente de TU HUESCA. \n. Arturo Crosby. CEO Forum Natura Internacional\, Editor Natour. \n. Álvaro Antoñanzas. COO\, co-fundador de DeuSens y co-fundador de Alter Heaven. \n  \nMesa 3. «Grandes proyectos impulsores del Turismo Rural: La reapertura del Canfranc». \n  \nMesa 4. «La nieve como impulsor del turismo rural». \n. Josete Franco. Subdirector de Marketing de Aramon. \n. Martí Rafel. Director general de Nozar Hotels & Resorts. \n. Jesus Pellejero. Consejero Delegado en Ecohoteles. \nConferencia de clausura. \n. Pepe Rodríguez. Chef del restaurante El Bohío (Illescas)\, con una estrella Michelin. Embajador de la Fundación Cook & Chef Institute. \n  \nLa entrada se gratuita bajo inscripción. \n«Quiero asistir al Congreso de Turismo Rural en Panticosa» 
URL:https://panticosa.es/agenda/v-congreso-mundial-de-turismo-rural-sostenible/
LOCATION:Panticosa\, Calle Santa Cruz\, Panticosa\, 22661\, España
CATEGORIES:Cultura,Naturaleza y medioambiente
ATTACH;FMTTYPE=image/jpeg:https://panticosa.es/wp-content/uploads/v10-para-web-COMTUR-2023-Turismo-rural-sostenible23-2.jpg
END:VEVENT
BEGIN:VEVENT
DTSTART;TZID=Europe/Madrid:20230630T000000
DTEND;TZID=Europe/Madrid:20230702T000000
DTSTAMP:20260424T201638
CREATED:20230325T163640Z
LAST-MODIFIED:20230617T121728Z
UID:4941-1688083200-1688256000@panticosa.es
SUMMARY:Mercado Medieval Panticosa 2023
DESCRIPTION:MERCADO MEDIEVAL DE PANTICOSA 30 DE JUNIO\, 1 Y 2 DE JULIO \nUn año más la Fragua de Vulcano será la organizadora del Mercado Medieval en Panticosa que en esta ocasión\, tendrá lugar los días 30 de Junio\, 1 y 2 de Julio. \nEste mercado contará con un amplio programa de actividades de animación\, música\, talleres\, teatro de calle\, espectáculos nocturnos\, rincón infantil\, atracciones\, oficios tradicionales y artesanos\, gastronomía\, cerámica\, juguetes\, textil\, etc. \nMIRA TODO LO QUE TE ESPERA SI VIENES A VISITARNOS!!. PANTICOSA_PROGRAMA_2023 \n 
URL:https://panticosa.es/agenda/mercado-medieval-panticosa-2023/
LOCATION:Panticosa\, Calle Santa Cruz\, Panticosa\, 22661\, España
CATEGORIES:Artesanía,Fiestas,Infantil,Música
ATTACH;FMTTYPE=image/jpeg:https://panticosa.es/wp-content/uploads/PANTICOSA_MEDIEVAL_2023_1-scaled.jpg
END:VEVENT
END:VCALENDAR