BEGIN:VCALENDAR
VERSION:2.0
PRODID:-//Panticosa - ECPv6.6.0.2//NONSGML v1.0//EN
CALSCALE:GREGORIAN
METHOD:PUBLISH
X-ORIGINAL-URL:https://panticosa.es
X-WR-CALDESC:Eventos para Panticosa
REFRESH-INTERVAL;VALUE=DURATION:PT1H
X-Robots-Tag:noindex
X-PUBLISHED-TTL:PT1H
BEGIN:VTIMEZONE
TZID:Europe/Madrid
BEGIN:DAYLIGHT
TZOFFSETFROM:+0100
TZOFFSETTO:+0200
TZNAME:CEST
DTSTART:20230326T010000
END:DAYLIGHT
BEGIN:STANDARD
TZOFFSETFROM:+0200
TZOFFSETTO:+0100
TZNAME:CET
DTSTART:20231029T010000
END:STANDARD
END:VTIMEZONE
BEGIN:VEVENT
DTSTART;TZID=Europe/Madrid:20230830T070000
DTEND;TZID=Europe/Madrid:20230905T233000
DTSTAMP:20260424T151936
CREATED:20230830T171358Z
LAST-MODIFIED:20230830T171358Z
UID:5432-1693378800-1693956600@panticosa.es
SUMMARY:Agenda Valle de Tena Del 30 de agosto al 5 de septiembre de 2023
DESCRIPTION:[vc_row][vc_column width=»1/2″][vc_column_text] \n\n\n\n\n\nAgenda Valle de Tena\nDel 30 de agosto al 5 de septiembre de 2023  \nMiércoles 30 de agosto de 2023 \n10.00 – 13:00 h. Visitas guiadas Alto Gállego: “Un paseo entre quejicos”. Iglesia de ESCUER.\nInscripciones: turismocomarcaaltogallego@gmail.com \n10.00 – 11:30 h. Visita guiada Biescas (Punto de encuentro: oficina de turismo). Inscripciones en: https://bit.ly/4VisitaGuiadaBiescas \n11:30 – 13:00h. Visita guiada Sallent de Gállego (Punto encuentro: oficina turismo). \n11:30 h. Visitas comentadas Muddi\, GRATIS con la entrada al museo. LARRÉS. \n12:00h Visita guiada Bodegas Balminuta BARBENUTA.                                              Inscripción on-line: bodegasbalminuta.es.  \n22:00 h. Leyendas a la luz de la luna en el entorno de Santa Elena. Información y reservas en el 699 708 382 o en contacto@huellapirenaica.es \n  \nJueves 31 de agosto de 2023 \n10.00 – 13:00 h. Visitas guiadas Alto Gállego: “Descubriendo las abejas”. Aparcamiento entrada ARTOSILLA                                Inscripciones: turismocomarcaaltogallego@gmail.com \n10:30 h. Visita guiada a Santa Elena y su entorno a cargo de Huella Pirenaica. Punto de encuentro zoque de Santa Elena. Inscripciones en: bit.ly/visitaSantaElena \n11:30 h. Visitas comentadas Muddi\, GRATIS con la entrada al museo. LARRÉS. \n12:00h Visita guiada Bodegas Balminuta BARBENUTA.                                              Inscripción on-line: bodegasbalminuta.es \n17:30-18:30h. Visita guiada Panticosa (Inscripciones Oficina de Turismo info@panticosa.es). \n18:30 h. Visitas guiadas a las “Iglesias de Serrablo”. Inscripciones en 699708382 o en contacto@huellapirenaica.es \n  \nViernes 1 de septiembre de 2023 \nTRAIL \n10.00 – 13:00 h. Visitas guiadas Alto Gállego: “Camino de las Palizas”. Iglesia EL PUEYO DE JACA.\nInscripciones: turismocomarcaaltogallego@gmail.com \n12:00h Visita guiada Bodegas Balminuta BARBENUTA.                                                                            Inscripción on-line: bodegasbalminuta.es. \n  \nSábado 2 de septiembre de 2023 \n5:00h Salida corredores 8k Trail Valle de Tena en la plaza de Panticosa. \n  \n8:00h Salida corredores 4k Trail Valle de Tena en el Balneario de Panticosa. \n  \n10:00h Salida Mini Trail Valle de Tena en la plaza de Panticosa. \n  \n11.00 – 13:00 h. Visitas guiadas Alto Gállego: “Iglesias de Serrablo”. C.I. LÁRREDE. Inscripciones: turismocomarcaaltogallego@gmail.com \n  \n  \n12:00 h. Visita guiada Bodegas Balminuta BARBENUTA.                                              Inscripción on-line: bodegasbalminuta.es.  \n22:00h Concierto de Varosvan en la Plaza de Panticosa. \n22:00h–24:00 h. Visita guiada “Historia y leyendas de Brujas y Brujos en el Alto Gállego”. PIEDRAFITA DE JACA. Inscripciones: piedrafitadejaca2021@gmail.com \n23:00 h. Salto nocturno TIROLINA VALLE DE TENA. Reservas on-line. \nDomingo 3 de septiembre de 2023 \n9:00h Salida corredores 2k Trail Valle de Tena en la plaza de Panticosa. \n9:00-19:00h. Fiesta del Portalet. Val D’Ossau y Valle de Tena. En el Col du Portalet. \n10:00h Salida corredores 1k Trail Valle de Tena en la plaza de Panticosa. \n10.00 – 13:00 h. Visitas guiadas Alto Gállego: “Recorriendo el Quiñón de la Partacua”. Aparcamiento frente al pueblo de SAQUÉS. Inscripciones: turismocomarcaaltogallego@gmail.com \n12:00h Ceremonia amistad franco-española en la frontera. Fiesta del Portalet \n  \n12:00h Visita guiada Bodegas Balminuta BARBENUTA. Inscripción on-line: bodegasbalminuta.es \n13:30h Entrega de premios Trail Valle de Tena en la plaza de Panticosa. \n  \n14:45h Experiencia HIDE Lacuniacha PIEDRAFITA DE JACA. Reservas on-line: lacuniacha.es \nLunes 4 de septiembre de 2023 \n  \nMartes 5 de septiembre de 2023 \n  \nEXPOSICIONES TEMPORALES \n\nDel 19 de mayo al 30 de julio: “González Collado – Dibujos” Museo de Dibujo Julio Gavín – Castillo de Larrés LARRÉS.\n\n  \nMUSEOS Y C. DE INTERPRETACIÓN \n\nI. BRUJERÍA ALTO GÁLLEGO – PIEDRAFITA DE JACA\n\nNo tiene horario\, puede ser visitado cuando se desee. \n\nI LA TORRAZA – BIESCAS\n\nJulio y agosto: miércoles\, viernes y sábados de 17:00 a 19:45h \nVisita libre. Entrada gratuita \n\nI. LA SIERRA – BIESCAS\n\nJulio y agosto: martes y jueves de 17:00 a 19:45. \nVisita libre. Entrada gratuita. \n\nI. IGLESIAS DE SERRABLO – LÁRREDE\n\nNo tiene horario\, puede ser visitado cuando se desee. \n\nI. DE LOS GLACIARES – SENEGÜE \n\nHorarios \nDel 13 de julio al 31 de agosto todos los jueves\, viernes y sábados. \nDel 1 al 10 de septiembre viernes\, sábado y domingo. \n  \nTarifas \nAdultos: 2€.  Visita guiada (centro + morrena): 3\,5€ \nInfantil (9 a 16 años): 1€.  Visita guiada (centro + morrena): 2\,5€ \n\nMUSEO DE DIBUJO JULIO GAVÍN CASTILLO DE LARRÉS \n\nHorarios \nJulio-Agosto: Todos los días de 10:00 a 14:00 y 16:30 a 20:30 h. \nSeptiembre-Junio: de martes a domingo: 10:00 a 13:30 y 16:00 a 19:00 h \nTarifa única: 4\,00 €.\nMenores de 8 años: Entrada gratuita.\nGrupos: 3\,00 € (A partir de 20 pax.).\n* Visitas comentadas a las 11:30h con cita previa. \n\nMUSEO ÁNGEL ORENSANZ Y ARTES DE SERRABLO · EL PUENTE DE SABIÑÁNIGO\n\nDe 10:00 a 13:30 y de 15:00 a 18.30 horas.\nAbierto de martes a domingo\, festivos incluidos.\n\n\nI. DE SANTA OROSIA – YEBRA DE BASA\n\nNo tiene horario\, puede ser visitado cuando se desee.\n\n\nI. DE LA PEZ – YÉSERO\n\nVisita con reserva previa llamando al 649 018 015.\n\n\n\n*Precio 2€. Incluye: CI de la Pez e Iglesia de Yésero. \n\n\n\n\n\n[/vc_column_text][/vc_column][vc_column width=»1/2″][vc_cta h2=»Agenda Valle de Tena en pdf»]Agenda semanal del 26 de julio al 1 de agosto[/vc_cta][/vc_column][/vc_row]
URL:https://panticosa.es/agenda/agenda-valle-de-tena-del-30-de-agosto-al-5-de-septiembre-de-2023/
LOCATION:Huesca
CATEGORIES:Artesanía,Cine,Cultura,Deporte,Educación,Fiestas,Gastronomía,Infantil,Música,Naturaleza y medioambiente,Teatro
ATTACH;FMTTYPE=image/jpeg:https://panticosa.es/wp-content/uploads/Agenda-semanal-e1651664556240.jpg
END:VEVENT
BEGIN:VEVENT
DTSTART;TZID=Europe/Madrid:20230901T000000
DTEND;TZID=Europe/Madrid:20230903T000000
DTSTAMP:20260424T151936
CREATED:20230325T181830Z
LAST-MODIFIED:20230326T123826Z
UID:4955-1693526400-1693699200@panticosa.es
SUMMARY:VIII Edición Trail Valle de Tena 2023
DESCRIPTION:BIENVENIDOS AL TRAIL VALLE DE TENA\nUbicado en el corazón del Valle de Tena\, este increíble Trail ofrece a los amantes del running una oportunidad única para superarse\, disfrutar y explorar uno de los paisajes pirenaicos de alta montaña más impresionantes sin duda de todo nuestro país. \n\n*Información y datos extraídos de la web Asociación Valle de Tena:  \n1 al 3 de septiembre de 2023 \nTRΔIL VΔLLE DE TEηΔ 8K\, todo gira en torno a un paisaje Pirenaico\, a sus “tresmisles” y la ascensión del Garmo Negro\, a sus ibones naturales y la belleza de unos valles que os conducirán del granito al calcáreo por sus senderos y vuestras locuras entre refugios de altura y pueblos con encanto. \nUn recorrido de imponente presencia y fortaleza física\, reflejando la personalidad de nuestro Pirineo. \n\nCaracterísticas \n\n\n\n77 km 6.800 mD+\nCota máx: Garmo Negro 3.064m.\nCota mín: Panticosa 1.185m.\n3 refugios Federación Aragonesa Montaña.\n55% recorrido por encima 2.000m.\nGD:(6800/10)/78= 8.7\nITRA:78+(6800/100)= 146\n\nTRΔIL VΔLLE DE TEηΔ 4K\, esta modalidad compartirá recorrido y emociones con el trayecto largo\, desde el refugio de Casa de Piedra. .\nNo olvidéis la dureza de nuestro Pirineo. Recorrido también muy exigente. \n\nCaracterísticas\n\n\n\n43 Km 3.600 mD+ / 3.900 mD-\nCota máx: Garmo Negro 3.064 m.\nCota mín: Panticosa 1.185 m.\nAltitud: 65% recorrido por encima 2.000 m.\n2 Refugios Federación Aragonesa Montaña.\nGD:(3600/10)/42 = 8.5\nITRA: 42+(3600/100) = 7\n\nTRΔIL VΔLLE DE TEηΔ 2K\, Nuestra personalidad se mantiene intacta. Senderos\, rincones desconocidos y la seducción de los Pirineos Tensinos siempre en panorámica…\n¡Recorrido con carácter y bien equilibrado! \n\n\nCaracterísticas\n\n\n\n20 km 1.250 mD+\nCota máx: Punta dera Facera 2.288m.\nCota mín: Panticosa 1.185m.\n50% recorrido por encima 1.600m.\nGD:(1300/10)/20= 6.5\nITRA:20+(1300/100)= 33\n\nTRΔIL VΔLLE DE TEηΔ 1K \nUna propuesta de 10 km y 700 m de desnivel positivo con la que la exigente carrera se abre a gente que se esté iniciando en el mundo de las carreras por montaña.  Tras recorrer algunas de sus calles\, el recorrido enfilará por el camino de las Palizas hacia El Pueyo de Jaca para remontar hasta el refugio de Yandel\, dibujando la principal subida del trazado. Entonces atraviesa las planas y el barranco de Travenosa para coincidir con el Camino de las Tierras que devuelve a Panticosa. Este recorrido permanece señalizado todo el año. \n\nCaracterísticas\n\n\n\n12 km 600 mD+\nSalida: 10.00h domingo 4 de septiembre Panticosa\n\n  \nEste año\, además\, han lanzado la modalidad 8K Relevos\, en la que equipos mixtos de tres personas se dividirán el colosal trazado de la 8K para hacerlo por segmentos. El primero será de 25\,6 km y 2.480 m+ desde Panticosa al refugio Casa de Piedra. El segundo\, con 30\,4 km y 2.845 m+\, llegará hasta el embalse de La Sarra. Y el tercero regresará a Panticosa con 22 km y 1.345 m+. \n\n\n\n\n  \nVideo presentación Trail Valle de Tena 2022. \nToda la información e inscripciones en www.trailvalledetena.com
URL:https://panticosa.es/agenda/4955/
LOCATION:Panticosa\, Calle Santa Cruz\, Panticosa\, 22661\, España
CATEGORIES:Deporte
ATTACH;FMTTYPE=image/jpeg:https://panticosa.es/wp-content/uploads/trail-valle-de-tena.jpg
END:VEVENT
BEGIN:VEVENT
DTSTART;TZID=Europe/Madrid:20230903T090000
DTEND;TZID=Europe/Madrid:20230903T130000
DTSTAMP:20260424T151936
CREATED:20230826T113422Z
LAST-MODIFIED:20230826T113910Z
UID:5420-1693731600-1693746000@panticosa.es
SUMMARY:Fiesta del Pourtalet 2023
DESCRIPTION:En el corazón del Parque Nacional de los Pirineos\, La Fiesta del Pourtalet\, recordará las tradiciones y los vínculos transfronterizos ancestrales del pastoreo en torno a la discusión del Tratado de los Valles de Ossau y Tena. \nEl evento\, que se  también se centrará en las bellas paginas del pirineismo en Ossau y en las riquezas naturales de nuestro valle. \nSerá una oportunidad para transmitir a las nuevas generaciones la importancia de nuestras culturas\, el valor de nuestro patrimonio y la conservación de nuestras hermosas montañas. \nEntre Ossau y Tena no hay fronteras sino solidas amistades que la Asociación Lys Nostre Vilatge ha querido perpetuar a través de este evento. \nLa Asociación de mujeres Flor de nieve de Panticosa ha estado preparando con mucha ilusión y esfuerzo la escenificación de las Hilanderas de Panticosa. \nOs esperamos! \n 
URL:https://panticosa.es/agenda/fiesta-del-pourtalet-2023/
LOCATION:Portalet
CATEGORIES:Cultura,Fiestas
ATTACH;FMTTYPE=image/jpeg:https://panticosa.es/wp-content/uploads/Fiesta-Pourtalet-1.jpg
END:VEVENT
BEGIN:VEVENT
DTSTART;TZID=Europe/Madrid:20230906T070000
DTEND;TZID=Europe/Madrid:20230912T233000
DTSTAMP:20260424T151936
CREATED:20230907T142035Z
LAST-MODIFIED:20230907T142035Z
UID:5436-1693983600-1694561400@panticosa.es
SUMMARY:Agenda Valle de Tena del 6 al 12 de septiembre 2023
DESCRIPTION:[vc_row][vc_column width=»1/2″][vc_column_text] \n\n\n\n\n\nAgenda Semanal Valle de Tena\nDEL 6 AL 12 DE SEPTIEMBRE 2023 AGENDA DEL VALLE DE TENA\n\n\n\n\n\n\n\n\n\nJueves 7 de septiembre de 2023 \n12:00h Visita guiada Bodegas Balminuta BARBENUTA.                                              Inscripción on-line: bodegasbalminuta.es \n18:30 h. Visitas guiadas a las “Iglesias de Serrablo”. Inscripciones en 699708382 o en contacto@huellapirenaica.es \n  \nViernes 8 de septiembre de 2023 \n8-10 BMW Motorrad Days en SABIÑÁNIGO \n12:00h Visita guiada Bodegas Balminuta BARBENUTA.                                                                            Inscripción on-line: bodegasbalminuta.es. \n13:00h Salida “La vuelta ciclista a España” en el parking de Sextas de Formigal. \n20:00h Noches mágicas “Bosque con alma” en el Cajicar de JAVIERRE.  Inscripción presencial en la Oficina de Turismo de Biescas con precio de 3€. \n  \nSábado 9 de septiembre de 2023 \n12:00 h. Visita guiada Bodegas Balminuta BARBENUTA.                                              Inscripción on-line: bodegasbalminuta.es. \n18:00h Visita guiada “Historia y leyendas de Brujas y Brujos en el Alto Gállego”. PIEDRAFITA DE JACA. Inscripciones: piedrafitadejaca2021@gmail.com \n19:30h Presentación del libro “Agua y Corriente” en el salón de actos del Ayuntamiento de Sallent de Gállego. \n23:00 h. Salto nocturno TIROLINA VALLE DE TENA. Reservas on-line. \n  \nDomingo 10 de septiembre de 2023 \n10:00h Conoce las mariposas de Hoz de Jaca. Punto de encuentro: Oficina de Información de la tirolina. \n10:30h Apertura de la feria y concurso-exposición de la XL Feria del Ganado “Villa de Sallent”. \n11:30 Juegos tradicionales aragoneses en el recinto ferial de Sallent de Gállego. \n 12:00h Visita guiada Bodegas Balminuta BARBENUTA. Inscripción on-line: bodegasbalminuta.es \n14:45h Experiencia HIDE Lacuniacha PIEDRAFITA DE JACA. Reservas on-line: lacuniacha.es \n18:30h Ronda popular por las calles de Sallent. Grupo Folclórico de Laruns y Grupo Folclórico de Sallent. Salida desde el Ayuntamiento \n  \nLunes 11 de septiembre de 2023 \nEstad atentos a nuestras RRSS para posibles novedades y eventos \nMartes 12 de septiembre de 2023 \nEstad atentos a nuestras RRSS para posibles novedades y eventos \n\n\n\n\n  \nEXPOSICIONES TEMPORALES \n\nDel 19 de mayo al 30 de julio: “González Collado – Dibujos” Museo de Dibujo Julio Gavín – Castillo de Larrés LARRÉS.\n\n\n\n\n\nMUSEOS Y C. DE INTERPRETACIÓN \n\nI. BRUJERÍA ALTO GÁLLEGO – PIEDRAFITA DE JACA\n\nEl centro no tiene horario\, puede ser visitado cuando se desee. \n\nI. IGLESIAS DE SERRABLO – LÁRREDE\n\nEl centro no tiene horario y puede ser visitado cuando se desee. \n\nMUSEO ÁNGEL ORENSANZ Y ARTES DE SERRABLO – EL PUENTE DE SABIÑÁNIGO\n\nDe 10:00 a 13:30 y de 15:00 a 18.30 horas. \nAbierto de martes a domingo\, festivos incluidos. \n\nMUSEO DE DIBUJO JULIO GAVÍN CASTILLO DE LARRÉS\n\nDe 10:00 a 13:30 y de 16:00 a 19:00 horas. \nLunes cerrado. \nVisitas comentadas todos los días a las 11:30 horas. \n\nI. DE SANTA OROSIA – YEBRA DE BASA\n\nEl centro no tiene horario y puede ser visitado cuando se desee. \n\nI. DE LA PEZ – YÉSERO\n\nVisita con reserva previa llamando al 649 018 015. \nPrecio 2€. Incluye: CI de la Pez e Iglesia de Yésero. \n\n\n\n\n\n\n\n\n\n\n\n\n\n\n[/vc_column_text][/vc_column][vc_column width=»1/2″][vc_cta h2=»Agenda Valle de Tena en pdf»]Agenda semanal del 26 de julio al 1 de agosto[/vc_cta][/vc_column][/vc_row]
URL:https://panticosa.es/agenda/agenda-valle-de-tena-del-6-al-12-de-septiembre-2023/
LOCATION:Huesca
CATEGORIES:Artesanía,Cine,Cultura,Deporte,Educación,Fiestas,Gastronomía,Infantil,Música,Naturaleza y medioambiente,Teatro
ATTACH;FMTTYPE=image/jpeg:https://panticosa.es/wp-content/uploads/Agenda-semanal-e1651664556240.jpg
END:VEVENT
BEGIN:VEVENT
DTSTART;TZID=Europe/Madrid:20230913T070000
DTEND;TZID=Europe/Madrid:20230919T233000
DTSTAMP:20260424T151936
CREATED:20230914T091532Z
LAST-MODIFIED:20230914T091532Z
UID:5446-1694588400-1695166200@panticosa.es
SUMMARY:Agenda Valle de Tena del 13 al 19 de septiembre 2023
DESCRIPTION:[vc_row][vc_column width=»1/2″][vc_column_text] \n\n\n\n\n\nAgenda Valle de Tena\nDel 13 al 19 de septiembre de 2023 \nMiércoles 13 de septiembre de 2023 \n10:00 – 11:30h. Visita guiada Biescas. Inscripción previa: on-line o 974 485 522. Actividad gratuita. Plazas limitadas. Oficina Turismo BIESCAS. \n  \nFIESTAS EN HONOR A LA EXALTACIÓN DE LA STA CRUZ – SALLENT DE GÁLLEGO \n12:30 h.: Misa de difuntos\, Música Sacra Sallentina*. \n14:00 h.: Comida para nuestros mayores\, amenizada por la Asociación Grupo Folclórico “Sallent de Gállego”\, en el Polideportivo “El Escaladillo”. \n16: 30 h.: Espectáculo de magia: “MR. RAGONOV BOICOTEA A DANI EL MAGO MAJO” en la Plaza del Mentidero. \n18:00 h.: Actuación de la Asociación Grupo Folclórico “Sallent de Gállego”\, en el Polideportivo El Escaladillo. \n19:30 h.: Crono bajada en la Plaza Valle de Tena. Salida desde el Hotel Balaitus. \n22.00h.: Cena popular de alforja en el Polideportivo “El Escaladillo”. Bebida aportada por la Comisión de fiestas. \n23:30 h.: Sesión de noche en el Polideportivo “El Escaladillo”\, amenizado por: “TRíO MIRADA”. Bingo en el descanso y discomóvil al finalizar la orquesta. \n  \nJueves 14 de septiembre de 2023 \nFIESTAS EN HONOR A LA EXALTACIÓN DE LA STA CRUZ – SALLENT DE GÁLLEGO \n12:30 h.: Misa Solemne\, Música Sacra Sallentina*. \n13:30 h. Vermú popular en el patio del Centro Social*. \n16:00 h.: Carreras y paseos en burros. \n18:00 h.: Juegos tradicionales en la Plaza Valle de Tena. \n21:30 h.: Cena de caldereta en el Polideportivo “El Escaladillo”. \n22:00: Concurso de postres y sorteo de cesta. Anuncio de los ganadores del concurso de fotografía\, así como del rincón\, jardín y fachada más florida y del huerto mejor cuidado. \n23:00 h.: Sesión de noche en el Polideportivo “El Escaladillo”\, con la orquesta: “TRIO MIRADA”. Bingo en el descanso y discomóvil al finalizar la orquesta. \n22:30h Taller Pirineos Salsa Festival – Pirenarium SABIÑÁNIGO \n  \n  \n  \n  \nViernes 15 de septiembre de 2023 \n10:00 – 14:00 h y 16:00 – 20:00 h. Pirineos Salsa Festival – Pirenarium SABIÑÁNIGO \n17:00 – 19:30h Visita libre: Centro de interpretación de los bosques de la luz: La Sierra. Entrada Gratuita. BIESCAS. \n18:30h Cata de cervezas “El origen de Tensina”. Imprescindible reserva previa: tensina@tensina.es y 671 428 610 \n22:30h Show y DJ’s Pirineos Salsa Festival – Pirenarium SABIÑÁNIGO \n  \nSábado 16 de septiembre de 2023 \nTodo el día: Jornada ciudadana trasfronteriza de recogida de residuos “World Cleanup Day”. Inscripción previa +33 641462 397 o meco-ambassadeur@cc-ossau.fr EL PORTALET \n10:00 – 14:00 h y 16:00 – 20:00 h. Pirineos Salsa Festival – Pirenarium SABIÑÁNIGO \n11:00 y 16:00h Visitas comentadas jornada de puertas abiertas. Museo Angel Orensanz y Artes del Serrablo SABIÑÁNIGO \n11:00 – 14:00h Actividad lúdico-deportiva para niños con bicicletas de montaña – “Semana europea de la movilidad”. Inscripción previa obligatoria: Ayto Sabiñánigo. C/ Serrablo SABIÑÁNIGO. \n11.30 – 14:00h. Visitas guiadas Alto Gállego: “Iglesias de Serrablo”. C.I. LÁRREDE. Inscripciones: iglesiasdeserrablo@gmail.com \n  \n12:30 y 18:30h Cata de cervezas “El origen de Tensina”. Imprescindible reserva previa: tensina@tensina.es y 671 428 610 \n  \n17:00 – 19:30h Visita libre: Centro de interpretación La Torraza. Entrada Gratuita. BIESCAS. \n18:00 – 20:00h. Visita guiada “Historia y leyendas de Brujas y Brujos en el Alto Gállego”. PIEDRAFITA DE JACA. Inscripciones: piedrafitadejaca2021@gmail.com \n19:00h Cine: Misterio en Venecia. Auditorio La Colina SABIÑANIGO \n23:00 h. Orquesta y Dj’s. Pirineos Salsa Festival – Pirenarium SABIÑANIGO \nDomingo 17 de septiembre de 2023 \n10:30h Día del pedal Circuito urbano en bici. “Semana europea de la movilidad” Salida parking polideportivo Puente Sardas SABIÑÁNIGO. \n11:00 y 16:00h Visitas comentadas jornada de puertas abiertas. Museo Angel Orensanz y Artes del Serrablo SABIÑANIGO \n14:45h Experiencia HIDE Lacuniacha PIEDRAFITA DE JACA. Reservas on-line: lacuniacha.es \n  \nLunes 18 de septiembre de 2023 \n  \nMartes 19 de septiembre de 2023 \n11:00 – 13:00h Seminario web gratuito sobre emprendimiento rural: De la agroalimentación al emprendimiento social. Inscripciones on-line. \n19:30h Charla – coloquio: Jornadas de patrimonio “FUIMOS ROMA” “La Corona de San Salvador y la romanización del Alto Gállego”\, por Javier Rey Lanaspa y Salvador Melguizo Aisa\, arqueólogos del Gobierno de Aragón y redactores del plan director de la villa romana de La Corona de San Salvador. Molino Periel SABIÑÁNIGO. \n  \nEXPOSICIONES TEMPORALES \n\nDel 8 al 15 de septiembre exposición del concurso de fotografía “Sallent de Gállego: un pueblo de foto” en el Salón de actos del Ayuntamiento.\nDel 6 al 23 de septiembre: Exposición “Premio Internacional de Fotografía. David Gómez Samitier”. Sala Municipal de Arte SABIÑÁNIGO\nDel 8 al 28 de septiembre: Exposición “Infancias de libro”\, del programa “La Compañía ilustrada 2023”\, de la DPH. Valla de Adif\, C/ Serrablo junto a la Estación de Autobuses SABIÑÁNIGO.\nMUDDI – Museo de Dibujo Julio Gavín-Castillo de Larrés. Exposición “El oficio del dibujante”\, de Juan Berrio.LARRÉS.\n\n  \nMUSEOS Y C. DE INTERPRETACIÓN \n\nI. BRUJERÍA ALTO GÁLLEGO – PIEDRAFITA DE JACA\n\nNo tiene horario\, puede ser visitado cuando se desee. \n\nI LA TORRAZA – BIESCAS\n\nSábados de 17:00 a 19:30h. Visita libre. Entrada gratuita \n\nI. LA SIERRA – BIESCAS\n\nViernes de 17:00 a 19:30h. Visita libre. Entrada gratuita. \n\nI. IGLESIAS DE SERRABLO – LÁRREDE\n\nNo tiene horario\, puede ser visitado cuando se desee. \n\nMUSEO DE DIBUJO JULIO GAVÍN CASTILLO DE LARRÉS \n\nMartes a domingo: 10:00 a 13:30 y 16:00 a 19:00 h \nTarifa única: 5\,00 €. Menores de 8 años: Entrada gratuita.\nGrupos: 4\,00 € (A partir de 20 pax.).\n* Visitas comentadas a las 11:30h con cita previa: 974 48 29 81 \n\nMUSEO ÁNGEL ORENSANZ Y ARTES DE SERRABLO · EL PUENTE DE SABIÑÁNIGO\n\nDe martes a domingo 10:00 a 13:30 y de 15:00 a 18.30 horas. \n\nI. DE SANTA OROSIA – YEBRA DE BASA\n\nNo tiene horario\, puede ser visitado cuando se desee. \n\nI. DE LA PEZ – YÉSERO\n\nVisita con reserva previa llamando al 649 018 015. \n*Precio 2€. Incluye: CI de la Pez e Iglesia de Yésero. \n\n\n\n\n\n[/vc_column_text][/vc_column][vc_column width=»1/2″][vc_cta h2=»Agenda Valle de Tena en pdf»]Agenda semanal del 26 de julio al 1 de agosto[/vc_cta][/vc_column][/vc_row]
URL:https://panticosa.es/agenda/agenda-valle-de-tena-del-13-al-19-de-septiembre-2023/
LOCATION:Huesca
CATEGORIES:Artesanía,Cine,Cultura,Deporte,Educación,Fiestas,Gastronomía,Infantil,Música,Naturaleza y medioambiente,Teatro
ATTACH;FMTTYPE=image/jpeg:https://panticosa.es/wp-content/uploads/Agenda-semanal-e1651664556240.jpg
END:VEVENT
END:VCALENDAR