BEGIN:VCALENDAR
VERSION:2.0
PRODID:-//Panticosa - ECPv6.6.0.2//NONSGML v1.0//EN
CALSCALE:GREGORIAN
METHOD:PUBLISH
X-WR-CALNAME:Panticosa
X-ORIGINAL-URL:https://panticosa.es
X-WR-CALDESC:Eventos para Panticosa
REFRESH-INTERVAL;VALUE=DURATION:PT1H
X-Robots-Tag:noindex
X-PUBLISHED-TTL:PT1H
BEGIN:VTIMEZONE
TZID:Europe/Madrid
BEGIN:DAYLIGHT
TZOFFSETFROM:+0100
TZOFFSETTO:+0200
TZNAME:CEST
DTSTART:20230326T010000
END:DAYLIGHT
BEGIN:STANDARD
TZOFFSETFROM:+0200
TZOFFSETTO:+0100
TZNAME:CET
DTSTART:20231029T010000
END:STANDARD
END:VTIMEZONE
BEGIN:VEVENT
DTSTART;TZID=Europe/Madrid:20231028T070000
DTEND;TZID=Europe/Madrid:20231101T233000
DTSTAMP:20260424T120330
CREATED:20231029T105014Z
LAST-MODIFIED:20231029T105014Z
UID:5675-1698476400-1698881400@panticosa.es
SUMMARY:Agenda Valle de Tena del 28 al 1 de noviembre 2023
DESCRIPTION:[vc_row][vc_column width=»1/2″][vc_column_text] \n\n\n\n\n\nAgenda Valle de Tena\nDel 28 al 1 de octubre de 2023 \nJueves\, 26 de octubre de 2023 \n16:30 – 19:30h Visita libre: Centro de interpretación La Torraza. Entrada Gratuita. BIESCAS. \n20:00h Cata maridaje “Familia Martinez Bujanda”. Plazas limitadas: 683 661 250. Vermutería El Mentidero SALLENT DE GÁLLEGO. \n21:00h Observación astronómica con la agrupación astronómica Huesca. Ermita de Sta Orosia junto Bulevar M.A. Loriente SABIÑÁNIGO. \n  \nViernes\, 27 de octubre de 2023 \n18:30h Cata de cervezas “El origen de Tensina”. Imprescindible reserva previa: tensina@tensina.es y 671 428 610. TRAMACASTILLA DE TENA \n16:30 – 19:30h Visita libre: Centro de interpretación de los bosques de la luz “La Sierra”. Entrada Gratuita. BIESCAS. \n19:00 y 20:30h Microteatro “Los raticos oscuros de Shakespeare” interpretado por Zazurca Teatro y Lagarto Lagarto. Auditorio La Colina SABIÑÁNIGO. \n19:30h Concierto “Ni jota\, ni Jazz” HOZ DE JACA. \n  \nSábado\, 28 de octubre de 2023 \n\nFERIA STOCK SALLENT DE GÁLLEGO de 11:00 a 20:00h Polideportivo El Escaladillo.\n\n10:00h Paseos para descubrir la fauna en la RBOV “Balsas de las Ranas” BALNEARIO DE PANTICOSA. Imprescindible reserva previa en 974 486 472. \n10:30h Un paseo por el Hayedo de Yosa. Precio: 3€. Inscripciones Oficina Turismo Biescas Punto de encuentro Iglesia de YOSA DE SOBREMONTE. \nJornada de puertas abiertas Museo A. Orensanz.  Visitas comentadas a las 11:00 y a las 16:00 horas. SABIÑÁNIGO. \n11:30 – 13:30h. Visitas guiadas Alto Gállego: “Iglesias de Serrablo”. C.I. LÁRREDE. Inscripciones: iglesiasdeserrablo@gmail.com \n12:30 y 18:30h Cata de cervezas “El origen de Tensina”. Imprescindible reserva previa: tensina@tensina.es y 671 428 610 TRAMACASTILLA DE TENA. \n17:00 – 19:30h Visita libre: Centro de interpretación La Torraza. Entrada Gratuita. BIESCAS. \nTARDE DE BRUJAS\, BRUJOS Y ESPÍRITUS EN PIEDRAFITA DE JACA \n16:00h. Taller de calabazas (imprescindible llevar calabaza y cuchara). Menores 6 años acompañados de un adulto. Salón de actos Ayto. PIEDRAFITA DE JACA. \n18:00 – 20:00h. Visita guiada “Historia y leyendas de Brujas y Brujos en el Alto Gállego”. Inscripciones: piedrafitadejaca2021@gmail.com PIEDRAFITA DE JACA. \n18:00h Charla “Las otras herencias: el legado de los antepasados en nuestras vidas. La memoria biológica”\, por Elisa Buisán. Museo A. Orensanz SABIÑÁNIGO. \n19:00h Cine: “Alimañas” Auditorio La Colina SABIÑANIGO. \n20:30h Entrega de premios XVI Concurso de relatos cortos “Luis del Val”. Actuación Trio Gradus. Iglesia de la Asunción SALLENT DE GÁLLEGO. \n  \nDomingo\, 29 de octubre de 2023 \n\nFERIA STOCK SALLENT DE GÁLLEGO de 11:00 a 20:00h Polideportivo El Escaladillo.\n\n10:00h Paseos para descubrir la fauna en la RBOV “Barranco del infierno – Ruta de la Pez” YÉSERO. Imprescindible reserva previa en 974 486 472. \nJornada de puertas abiertas Museo A. Orensanz.  Visitas comentadas a las 11:00 y a las 16:00 horas. SABIÑÁNIGO. \n  \n14:45h Experiencia HIDE Lacuniacha PIEDRAFITA DE JACA. Reservas on-line: lacuniacha.es \n  \n16:00h Café concierto con Lorena Margalló “Feria Stock Sallent” Polideportivo El Escaladillo SALLENT DE GÁLLEGO. \n  \nMartes\, 31 de octubre de 2023 \nDesde las 18:30h Nuei d’ almetas “La Pardina encantada” Imprescindible reserva previa: https://www.turismobiescas.com/noticias/nuei-de-almetas/ BIESCAS. \n  \nMiércoles\, 1 de noviembre de 2023  \n10:00 – 11:30h. Visita guiada Biescas. Inscripción previa: on-line o 974 485 522. Actividad gratuita. Plazas limitadas. Oficina Turismo BIESCAS. \n18:00h Cine “Los asesinos de la luna” Auditorio La Colina SABIÑÁNIGO. \n  \nSABIWEEN – Molino Periel SABIÑÁNIGO \n\nDe 17:00 a 18:45 Pinta caras terrorífico (para edades entre 3 y 6 años).\nA partir de las 18:00: Chocolatada escalofriante\, hasta agotar existencias.\nDe 19:00 a 20:00: Gymkhana de terror (a partir de 7 años)\n\n  \nEXPOSICIONES TEMPORALES \n\nDel 16 al 30 de octubre – Exposición fotográfica: “Mujer y deporte en la montaña Alto Gállego”. Centro Cultural La Fajuala PANTICOSA.\nMUDDI – Museo de Dibujo Julio Gavín -Castillo de Larrés. Exposición “El oficio del dibujante”\, de Juan Berrio. LARRÉS.\n\nMUSEOS Y C. DE INTERPRETACIÓN \n\nI. BRUJERÍA ALTO GÁLLEGO – PIEDRAFITA DE JACA\n\nNo tiene horario\, puede ser visitado cuando se desee. \n\nI. LA SIERRA – BIESCAS\n\nViernes de 17:00 a 19:30h. Visita libre. Entrada gratuita. \n\nI LA TORRAZA – BIESCAS\n\nSábados de 17:00 a 19:30h. Visita libre. Entrada gratuita \n\nI. IGLESIAS DE SERRABLO – LÁRREDE\n\nNo tiene horario\, puede ser visitado cuando se desee. \n\nMUSEO DE DIBUJO JULIO GAVÍN CASTILLO DE LARRÉS \n\nMartes a domingo: 10:00 a 13:30 y 16:00 a 19:00 h \nTarifa única: 5\,00 €. Menores de 8 años: Entrada gratuita.\nGrupos: 4\,00 € (A partir de 20 pax.).\n* Visitas comentadas a las 11:30h con cita previa: 974 48 29 81 \n\nMUSEO ÁNGEL ORENSANZ Y ARTES DE SERRABLO · EL PUENTE DE SABIÑÁNIGO\n\nDe martes a domingo 10:00 a 13:30 y de 15:00 a 18.30 horas. \n\nI. DE SANTA OROSIA – YEBRA DE BASA\n\nNo tiene horario\, puede ser visitado cuando se desee. \n\nI. DE LA PEZ – YÉSERO\n\nVisita con reserva previa llamando al 649 018 015. \n*Precio 2€. Incluye: CI de la Pez e Iglesia de Yésero. \n\n\n\n\n\n[/vc_column_text][/vc_column][vc_column width=»1/2″][vc_cta h2=»Agenda Valle de Tena en pdf»]Agenda 26 oct – 1 nov[/vc_cta][/vc_column][/vc_row]
URL:https://panticosa.es/agenda/agenda-valle-de-tena-del-28-al-1-de-noviembre-2023/
LOCATION:Huesca
CATEGORIES:Artesanía,Cine,Cultura,Deporte,Educación,Fiestas,Gastronomía,Infantil,Música,Naturaleza y medioambiente,Teatro
ATTACH;FMTTYPE=image/jpeg:https://panticosa.es/wp-content/uploads/Agenda-semanal-e1651664556240.jpg
END:VEVENT
BEGIN:VEVENT
DTSTART;TZID=Europe/Madrid:20231103T090000
DTEND;TZID=Europe/Madrid:20231105T130000
DTSTAMP:20260424T120330
CREATED:20231015T105027Z
LAST-MODIFIED:20231028T162349Z
UID:5615-1699002000-1699189200@panticosa.es
SUMMARY:Celebración del Día Internacional de las Reservas de la Biosfera de la UNESCO
DESCRIPTION:Reserva Biosfera Ordesa Viñamala\nDeclarada como tal por la UNESCO en 1977\, la Reserva de la Biosfera de Ordesa-Viñamala tiene el honor de ser una de las dos primeras reservas de la biosfera declaradas en España\, y es una de las mejores representaciones de los ecosistemas de montaña del Pirineo\, y en concreto de los sistemas naturales ligados a formaciones de erosión y glaciarismo\, y extensas formaciones vegetales de singular valor. Asimismo\, alberga especies de flora y fauna singulares dentro del contexto regional e internacional\, muchas de ellas con algún grado de amenaza\, cuya conservación es fundamental para el mantenimiento de la diversidad biológica. \nEn mayo de 2013 es ampliada hasta alcanzar las 117.364 Ha extendiéndose por los municipios de Biescas\, Hoz de Jaca\, Panticosa\, Sallent de Gallego y Yesero\, en la Comarca del Alto Gallego\, y por Bielsa\, Broto\, Fanlo\, Puertolas-Escalona\, Tella-Sin y Torla en la Comarca de Sobrarbe. \nLas Reservas de la Biosfera son territorios que han sido reconocidas internacionalmente como tales en el marco del Programa sobre el Hombre y la Biosfera (MAB) de la UNESCO\, cuyo objetivo es armonizar la conservación de la diversidad biológica y cultural y el desarrollo económico y social a través de la relación de las personas con la naturaleza. Se establecen sobre zonas ecológicamente representativas o de valor único\, en ambientes terrestres\, costeros y marinos\, en las cuales la integración de la población humana y sus actividades con la conservación son esenciales. \n  \n\nProgramación del evento que tendrá lugar el Día Internacional de las Reservas de la Biosfera en Panticosa.\n\n\n  \n\nViernes día 3 de noviembre. \nMesa debate sobre el recurso natural de la Reserva de la Biosfera Ordesa-Viñamala. \n“ Cambios en el paisaje de la Reserva de la Biosfera Ordesa-Viñamala. Propuesta de gestión”. Doctor José Manuel Nicolau Ibarra. Profesor de Ecología Escuela Politécnica Superior de Huesca y Presidente del Consejo de Protección de la Naturaleza de Aragón. \n“Buitres y servicios ecosistémicos” Doctor Antoni Margalida. Investigador del IPE-CSIC especialista en Ornitología. \nMesa Redonda: \nDª. Elena Villagrasa Ferrer. Directora del Parque Nacional Ordesa y RBOV \nDoctora Teresa Tarazona. Asociación Amigos de la RBOV \nModerador: D. Javier Bellido Santos. Director Albergue Quinta Vista Alegre. Miembro Asociación RBVO \n  \nSábado día 4 de noviembre. \nMesa debate El deporte y la Reserva de la Biosfera Ordesa-Viñamala. \n“ Riqueza florística en la Reserva de la Biosfera Ordesa-Viñamala“ Doctor Pablo Tejero Ibarra. Director conservador del Herbario de Jaca IPE-CSIC \n“Influencia de algunas actividades deportivas en las especies protegidas” Doctor Jesús Martínez-Padilla. ARAID Investigador Senior IPE (CSIC) \nMesa Redonda: \nD. Oscar Díez Sánchez. Presidente Fundación Conservación del Quebrantahuesos. \nDª. Paola Cabestani\, Técnico deportivo en barrancos\, escalada y montaña Miembro y formadora de la AEGM \nD. Julio Armesto Arranz\, Guía de alta montaña UIAGM. Fundador de la AEGM. Presidente de la Asociación de Guías Profesionales de Aragón APAGM \nModerador: D. Antonio Quintanilla Peña. Guía de Montaña. Miembro Asociación de Amigos de la Reserva de la Biosfera Ordesa-Viñamala \n  \nDomingo día 5 de noviembre. \nMesa debate la ganadería y la Reserva de la Biosfera Ordesa-Viñamala. \n“Pasado\, presente y futuro de la ganadería de la Reserva de la Biosfera Ordesa-Viñamala” Doctor Federico Fillat. Especialista en pastos. Investigador del IPE-CSIC \nMesa Redonda: \nD. Ricardo Azón\, Director de la Asociacion de criadores de ovino de Raza Churra Tensina \nD. Enrique Ramón\, Presidente de la Asociación de la Mancomunidad Ganaderos de Broto\, Fragen y Linás \nD. Enrique del Río Turrubia\, Ganadero de Panticosa \nD. Sergio García Atarés. Gestor Reserva Biosfera Ordesa Viñamala. \nModeradora: Dra. Tarazona. Asociación de Amigos de la Reserva de la Biosfera Ordesa-Viñamala. \n\n  \nLugar: Oficina de Turismo. Edificio Fajuala. C/ San Miguel s/n\, 22661 Panticosa\, Huesca. \nHorario: El comienzo de todas las mesas será  a las 17:00 h. \n\n\nOrganiza: Asociación Amigos de la Reserva de la Biosfera Ordesa-Viñamala. \n\nColaboran: Ayuntamiento de Panticosa\, Oficina de Turismo\, Reserva de la Biosfera Ordesa-Viñamala\, Albergue Quinta Vista Alegre\, Instituto Pirenaico de Ecología\, Asociación Flor de Nieve\, Fundación para la Conservación del Quebrantahuesos.
URL:https://panticosa.es/agenda/celebracion-del-dia-internacional-de-las-reservas-de-la-biosfera-de-la-unesco/
LOCATION:Panticosa\, Calle Santa Cruz\, Panticosa\, 22661\, España
CATEGORIES:Educación,Naturaleza y medioambiente
ATTACH;FMTTYPE=image/jpeg:https://panticosa.es/wp-content/uploads/1-1.jpg
END:VEVENT
BEGIN:VEVENT
DTSTART;TZID=Europe/Madrid:20231129T070000
DTEND;TZID=Europe/Madrid:20231206T233000
DTSTAMP:20260424T120330
CREATED:20231202T122433Z
LAST-MODIFIED:20231202T122759Z
UID:5700-1701241200-1701905400@panticosa.es
SUMMARY:Agenda Valle de Tena del 29 al 6 de diciembre 2023
DESCRIPTION:[vc_row][vc_column width=»1/2″][vc_column_text]Viernes\, 1 de diciembre \nDe 9:00 a 14:00 y de 17:00 a 20:00h. Exposición tu visión de la ciencia. Del 2 de noviembre al 21 de diciembre. Aula UNED. Sabiñánigo. Entrada libre. Abierto de lunes a viernes. \n16:30 – 19:00h Centro interpretación LA TORRAZA. Visita libre. Entrada gratuita. Biescas. \n18:30h Cata de cervezas “el origen de Tensina” Imprescindible reserva previa: tensina@tensina.es y 671428610. Tramacastilla de Tena. \n18:30h Menudo teatro. “Una de ratones\, hoy me toca con mamá”. Búho teatro. Auditorio la colina\, Sabiñánigo. \n  \nSábado\, 2 diciembre \n11:30h a 13:30h Belén de Lanuza. Del 2 de diciembre al 7 de enero. Entrada libre. Horario: viernes de 17:30h a 20:00h\, sábados y los días 6\,7\,8 y 9 de diciembre de 11:30h a 13:30h y de 17:00h a 20:00h\, domingos y los días 24 y 31 de diciembre de 11:30h a 13:30h. \n11:30 – 13:30h. Visitas guiadas Alto Gállego: “Iglesias de Serrablo”. C.I. LÁRREDE. Inscripciones: iglesiasdeserrablo@gmail.com \n16:30 – 19:00h Visita libre: Centro de interpretación La Torraza. Entrada Gratuita. BIESCAS. \n18:00h Visita guiada “Historia y leyendas de Brujas y Brujos en el Alto Gállego”. Inscripción obligatoria: piedrafitadejaca2021@gmail.com Punto de encuentro: C.I. De la Brujería PIEDRAFITA DE JACA. \n18:00h Cine “Los juegos del hambre”.  Auditorio La Colina SABIÑÁNIGO. \n21:00h Cine “Five nights al Freddy´s.” Auditorio La Colina SABIÑÁNIGO. \nDomingo\, 3 de diciembre \n17:00h Cine “Five nights at Freddy´s”. Auditorio La Colina SABIÑÁNIGO. \n19:45h Cine “Los juegos del hambre”. Auditorio La Colina SABIÑÁNIGO. \n  \nLunes\, 4 de diciembre \n20:30h Cine “Los juegos del hambre”. Día del espectador\, entrada 5\,20€. Auditorio La Colina SABIÑÁNIGO. \n  \nMartes\, 5 de diciembre \nExposición mujer y deporte en la montaña del alto Gállego. Del 5 al 10 de diciembre. Imágenes del concurso de fotografía 2023. CC. Pablo Neruda\, Biescas. \nMiércoles\, 6 de diciembre \n09:00h Mercado Navidad de Panticosa. Del 6 al 9 de diciembre. Selección de mercaderes y artesanos con productos navideños\, animación orientada sobre todo al público infantil\, con duendes de navidad\, hadas\, títeres y cuentos\, pasacalles con seres de fantasía\, etc. Parking la Fajuala\, Panticosa. \n11:30h. Visita guiada Biescas. Inscripción previa: iglesiasdeserrablo@gmail.com . Actividad gratuita. Plazas limitadas. . \n  \nEXPOSICIONES TEMPORALES \n\nMUDDI – Museo de Dibujo Julio Gavín -Castillo de Larrés. Exposición “El oficio del dibujante”\, de Juan Berrio. LARRÉS.\n\nMUSEOS Y CENTROS DE INTERPRETACIÓN \n\nC.I. BRUJERÍA ALTO GÁLLEGO – PIEDRAFITA DE JACA\n\nEl centro no tiene horario y puede ser visitado cuando se desee \n\nC.I. IGESIAS DEL SERRABLO- LÁRREDE\n\nEl centro no tiene horario y puede ser visitado cuando se desee. \n\nMUSEO DE DIBUJO JULIO GAVÍN\n\nDE 10:00 a 14:00 y de 16:30 a 20:30h. Lunes cerrado. \n\nMUSEO ÁNGEL ORENSANZ Y ARTES DEL SERRABLO\n\nDe 10:00 a 13:30 y de 15:00 a 18:30h. Abierto de martes a domingo. \n\nC.I. LA PEZ – YÉSERO\n\nVisita con cita previa. Telf. 649 018 015 \n\nC.I. DE SANTA OROSIA – YEBRA DE BASA\n\nEl centro no tiene horario y puede ser visitado cuando se desee.[/vc_column_text][/vc_column][vc_column width=»1/2″][vc_cta h2=»Agenda Valle de Tena en pdf»]Agenda 29 oct – 6 dic[/vc_cta][/vc_column][/vc_row]
URL:https://panticosa.es/agenda/agenda-valle-de-tena-del-29-al-6-de-diciembre-2023/
LOCATION:Huesca
CATEGORIES:Artesanía,Cine,Cultura,Deporte,Educación,Fiestas,Gastronomía,Infantil,Música,Naturaleza y medioambiente,Teatro
ATTACH;FMTTYPE=image/jpeg:https://panticosa.es/wp-content/uploads/Agenda-semanal-e1651664556240.jpg
END:VEVENT
END:VCALENDAR