BEGIN:VCALENDAR
VERSION:2.0
PRODID:-//Panticosa - ECPv6.6.0.2//NONSGML v1.0//EN
CALSCALE:GREGORIAN
METHOD:PUBLISH
X-ORIGINAL-URL:https://panticosa.es
X-WR-CALDESC:Eventos para Panticosa
REFRESH-INTERVAL;VALUE=DURATION:PT1H
X-Robots-Tag:noindex
X-PUBLISHED-TTL:PT1H
BEGIN:VTIMEZONE
TZID:Europe/Madrid
BEGIN:DAYLIGHT
TZOFFSETFROM:+0100
TZOFFSETTO:+0200
TZNAME:CEST
DTSTART:20240331T010000
END:DAYLIGHT
BEGIN:STANDARD
TZOFFSETFROM:+0200
TZOFFSETTO:+0100
TZNAME:CET
DTSTART:20241027T010000
END:STANDARD
END:VTIMEZONE
BEGIN:VEVENT
DTSTART;TZID=Europe/Madrid:20240705T170000
DTEND;TZID=Europe/Madrid:20240707T210000
DTSTAMP:20260423T232742
CREATED:20240524T162711Z
LAST-MODIFIED:20240705T085453Z
UID:6180-1720198800-1720386000@panticosa.es
SUMMARY:Mercado Medieval de Panticosa 2024
DESCRIPTION:XXVIII Edición: Un Viaje en el Tiempo del 5 al 7 de Julio\nUn Encuentro con la Historia\nDel 5 al 7 de julio\, Panticosa se transformará de nuevo en un vibrante mercado medieval\, ofreciendo a los visitantes la oportunidad de viajar en el tiempo y sumergirse en la magia y el misterio de la Edad Media. Este evento\, como todos los años anteriores\, promete ser una experiencia inolvidable para toda la familia. \n\nUn Ambiente Único\nEl mercado medieval de Panticosa destaca por su ambientación meticulosamente cuidada. Las calles principales del municipio se decoran con estandartes\, escudos y colores típicos de la época\, creando un entorno auténtico que transporta a los visitantes varios siglos atrás. Las paradas de artesanos\, distribuidos a lo largo del casco antiguo\, ofrecen productos como joyería\, cerámica\, textiles y un sin fin de artículos perfectos para personas que prefieren compras sostenibles y regalos llenos de autenticidad etc. \nEspectáculos y Animaciones\nMalabaristas\, músicos y actores vestidos con diferentes y llamativos atuendos animarán las calles con sus actuaciones. Los visitantes podrán disfrutar también de varias demostraciones de cetrería\, donde majestuosas aves de presa mostrarán sus habilidades de vuelo. \nGastronomía\nLa amplia oferta gastronómica de los bares y restaurantes de Panticosa es otro de los grandes atractivos durante este fin de semana que invitan a degustar una amplia variedad de productos y elaboraciones para todos los gustos. \nProgramación \n\n\nTalleres y actividades para todos\nEl mercado medieval de Panticosa también ofrece actividades participativas. Los más pequeños podrán disfrutar de juegos medievales mientras que los adultos podrán aprender tomar algo y disfrutar en la taberna cercana. \nEl acceso al mercado es gratuito y estará abierto desde la mañana hasta la noche\, permitiendo a los visitantes disfrutar de las diversas actividades a lo largo del día. Panticosa\, un paraíso en el Valle de Tena\, fácilmente accesible desde muchos puntos y cuenta con varias opciones de alojamiento para aquellos que deseen prolongar su estancia y explorar esos días las bellezas naturales de nuestro entorno. \nTe esperamos en un viaje al pasado que nunca olvidarás… \n\n		\n		\n			\n				\n			\n			\n				\n			\n			\n				\n			\n			\n				\n			\n			\n				\n			\n			\n				\n			\n		\n\nNovedades para esta edición 2024\nEste año como novedad habrá un Puesto Solidario para Sandro. Un niño autista de Panticosa. Queremos ayudar a sus padres para recaudar fondos y obtener un perro de asistencia que ayudará al pequeño a mejorar su calidad de vida. \nTodo Panticosa está volcada en esta iniciativa solidaria para que Sandro pueda cumplir sus sueños. Así que animamos a todos a pasar por todos los puestos artesanos que participarán este año\, pero en especial por el de Sandro. \nOtra de las novedades este año es que\, gracias a la Asociación Flor de Nieve\, las Hilanderas de Panticosa volverán a participar en el Mercado Medieval. Este SABADO de 12 a 14 h y de 17 a 20 h estarán practicando las técnicas del hilado y el tejido de la lana en la parada cerca de la casa del médico.
URL:https://panticosa.es/agenda/mercado-medieval-de-panticosa-2024/
LOCATION:Panticosa\, Calle Santa Cruz\, Panticosa\, 22661\, España
CATEGORIES:Artesanía,Fiestas,Infantil,Música,Teatro
ATTACH;FMTTYPE=image/png:https://panticosa.es/wp-content/uploads/mercado-medieval-web.png
END:VEVENT
BEGIN:VEVENT
DTSTART;TZID=Europe/Madrid:20240712T183000
DTEND;TZID=Europe/Madrid:20240712T200000
DTSTAMP:20260423T232742
CREATED:20240705T145555Z
LAST-MODIFIED:20240705T145659Z
UID:6434-1720809000-1720814400@panticosa.es
SUMMARY:Presentación de la novela "Las hechizadas de las montañas"
DESCRIPTION:Presentación de la novela «Las hechizadas de las montañas» (Editorial Pirineo) \nCharla con proyección: «La brujería en Panticosa y Valle de Tena» \nY presentación de la novela por su autor José Antonio Adell \nDía: 12 de julio\nLugar: Centro Cultural La Fajuala (Panticosa)\nHora: 18:30 horas\n 
URL:https://panticosa.es/agenda/presentacion-de-la-novela-las-hechizadas-de-las-montanas/
LOCATION:Centro Cultural La Fajuala\, Calle San Miguel\, Panticosa\, Huesca\, 22661
CATEGORIES:Cultura,Educación
ATTACH;FMTTYPE=image/jpeg:https://panticosa.es/wp-content/uploads/Hechizadas-de-las-mont.jpg
END:VEVENT
BEGIN:VEVENT
DTSTART;VALUE=DATE:20240713
DTEND;VALUE=DATE:20240720
DTSTAMP:20260423T232742
CREATED:20240224T181240Z
LAST-MODIFIED:20240713T110340Z
UID:5877-1720828800-1721433599@panticosa.es
SUMMARY:Descubre la magia del Festival Internacional "Tocando el Cielo 2024" en Panticosa
DESCRIPTION:Festival Internacional de Panticosa «Tocando el Cielo» 2024\nEl Festival Internacional de Panticosa «Tocando el Cielo» se ha consagrado como uno de los encuentros musicales más emblemáticos que mayor numero de melómanos atrae al Valle de Tena\, deseosos de una experiencia musical única. \nCon el telón de fondo proporcionado por las majestuosas montañas del Pirineo Aragonés y las cumbres mas elevadas del entorno de Panticosa\, este festival combina el placer de la música con la imponente belleza de la naturaleza de alta montaña. \nAdentrándonos en el corazón del Valle de Tena\, descubrimos el Balneario de Panticosa\, una joya natural rodeada de paisajes que cortan la respiración. El FIP es un punto de encuentro donde aficionados y profesionales de la música se dan cita para disfrutar de actuaciones en directo y compartir su pasión por las melodías que\, literalmente\, tocan el cielo. \nBienvenidos al Escenario de los Sueños\nEl festival de música de Panticosa no es solo un evento\, es una experiencia imperdible para todos los amantes de la música clásica y contemporánea. Con una selecta lista de interpretes\, el festival como siempre promete como años anteriores\, una programación rica y diversa. \n¿Por qué el Festival de Panticosa es Único?\nEl Festival Internacional de Panticosa «Tocando el Cielo» se distingue por su increíble entorno. Situado a elevadas alturas\, las vibraciones musicales parecen fusionarse con el etéreo ambiente montañoso\, creando una experiencia que vacila en la línea entre lo terrenal y lo divino. \nExperiencias que resuenan más allá de la música\n\nTalleres y Masterclasses: Aprende de los más grandes\, ya que el festival también se convierte en un espacio de aprendizaje y perfeccionamiento musical.\nEncuentros con artistas: Crea conexiones personales con tus músicos preferidos en eventos diseñados para acercar al público y artistas.\nExcursiones Musicales: Combina la pasión por la música con el amor por la naturaleza\, en recorridos que te llevan a explorar esta maravillosa zona.\n\nUna experiencia inolvidable para cualquier amante de la Música\nSi estás buscando el plan perfecto para este verano 2024\, el Festival Internacional de Panticosa «Tocando el Cielo» debería estar en tu calendario. \nNo te pierdas la oportunidad de ser parte y visita el sitio oficial para más información y estar al día de todos los detalles. Recuerda compartir esta cita con otros aficionados a la música que conozcas\, para vivirlo en la mejor compañía. \n ¡Te esperamos! \n 
URL:https://panticosa.es/agenda/descubre-la-magia-del-festival-internacional-tocando-el-cielo-2024-en-panticosa/
LOCATION:Balneario de Panticosa\, C/ Balneario\, Baños de Panticosa\, HUesca\, 22650\, España
CATEGORIES:Cultura,Música,Naturaleza y medioambiente
ATTACH;FMTTYPE=image/jpeg:https://panticosa.es/wp-content/uploads/cartel-programa-fip-2024_compressed_page-0001-scaled.jpg
ORGANIZER;CN="Fundaci%C3%B3n Garc%C3%ADa Esteban":MAILTO:info@festivalpanticosa.com
END:VEVENT
BEGIN:VEVENT
DTSTART;TZID=Europe/Madrid:20240715T200000
DTEND;TZID=Europe/Madrid:20240715T210000
DTSTAMP:20260423T232742
CREATED:20240713T175843Z
LAST-MODIFIED:20240713T180817Z
UID:6476-1721073600-1721077200@panticosa.es
SUMMARY:Bienvenidos al Circo de Panticosa
DESCRIPTION:Por primera ¡Una experiencia única para toda la familia! ¡Circo en Panticosa con Transformers!\n\n\n \n\n\n📅 Fecha: Lunes\, 15 de julio\n\n\n🕗 Hora: 20:00\n\n\n📍 Lugar: Parking del Polideportivo La Paul\, Panticosa\n\n\n💸 Precio único: 7 euros\n\n\n \n\n\nPara más información\, contacta: 637167528
URL:https://panticosa.es/agenda/bienvenidos-al-circo-de-panticosa/
LOCATION:Huesca
CATEGORIES:Cultura,Infantil
ATTACH;FMTTYPE=image/png:https://panticosa.es/wp-content/uploads/Copia-de-San-Jorge-web.png
END:VEVENT
BEGIN:VEVENT
DTSTART;TZID=Europe/Madrid:20240719T183000
DTEND;TZID=Europe/Madrid:20240719T200000
DTSTAMP:20260423T232742
CREATED:20240702T083023Z
LAST-MODIFIED:20240719T090623Z
UID:6125-1721413800-1721419200@panticosa.es
SUMMARY:CINETURA Julio "Un océano de Islas" por el Día Internacional de la Conservación del Suelo
DESCRIPTION:Documental «Un océano de Islas»\, el viernes 19 de julio a las 18:30h\, para celebrar el Día internacional de la Conservación del suelo  \nLa serie documental de 6 capítulos producida por la BBC\, Pacífico sur\, es una extraordinaria serie sobre la vida animal\, la cultura\, y la historia de este enorme océano y las miles de islas que lo pueblan desde las costas de Hawái a la Isla de Pascua . Con sus arrecifes de coral\, lagunas de color turquesa y atolones oceánicos\, el Pacífico Sur es el paraíso arquetípico. \nLa increíble fotografía y los descubrimientos de esta serie captan la asombrosa vida natural de la región: desde las erupciones de volcanes submarinos a los fascinantes arrecifes tropicales y desde tiburones tigre que capturan crías de albatros a los gigantes cangrejos de los cocos. Revela además cómo el aislamiento de las islas ha ayudado a evolucionar de manera partica a las especies que aquí habitan. Los espectáculos naturales increíbles\, imágenes e historias fascinantes\, Pacífico Sur va a cambiar la manera en que ve este océano para siempre. \nLa cita esta vez no será el primer viernes del mes\, sino el tercero\, el 19 de julio a las 18:30 en el Albergue del Pueyo de Jaca. \nLa duración aproximada del documental es de 50 min. \n¡Te esperamos!
URL:https://panticosa.es/agenda/cinetura-julio-por-el-dia-internacional-del-medio-ambiente/
LOCATION:El Pueyo de Jaca
CATEGORIES:Educación,Naturaleza y medioambiente
ATTACH;FMTTYPE=image/jpeg:https://panticosa.es/wp-content/uploads/cartel-cinetura-julio-cambio-dia.jpg
END:VEVENT
BEGIN:VEVENT
DTSTART;VALUE=DATE:20240720
DTEND;VALUE=DATE:20240722
DTSTAMP:20260423T232742
CREATED:20240216T114535Z
LAST-MODIFIED:20240229T170214Z
UID:5831-1721433600-1721606399@panticosa.es
SUMMARY:IXS European Downhill Cup en Panticosa 20 y 21 de julio 2024
DESCRIPTION:Prepárate para vivir la adrenalina sobre ruedas en uno de los eventos más emocionantes del verano. La Copa Europea de Descenso 2024 se celebrará en los imponentes paisajes de Panticosa\, ofreciendo un espectáculo sin igual a todos los apasionados de la BTT. \n Serás testigo de la emoción en cada curva\nDurante el 20 y 21 de julio\, los ciclistas de más alto nivel de Europa se enfrentarán en las pistas de Panticosa\, desafiando la gravedad y la técnica en una competición que promete ser única. ¿Estás listo para ver la acción en primera fila? \nQué puedes esperar de la Copa Europea de Descenso\n\nCompetencia del más alto nivel: Contempla cómo los mejores corredores de descenso (BTT) se baten para conquistar la cima del podio.\nPaisajes que cortan la respiración: Disfruta de la naturaleza y belleza única de Panticosa\, creando el ambiente perfecto para los amantes del deporte y la aventura.\nActividades para toda la familia: Aunque el descenso (Downhill) sea el protagonista\, habrá entretenimiento para todos los públicos. ¡No te pierdas esta celebración del ciclismo de montaña!\n\nSi eres amante de la BTT y el descenso DH.  Si amas la velocidad\, la técnica\, y compartir experiencias con personas como tu\, la Copa Europea de Descenso es tu cita obligatoria este verano. \nMarca la fecha en tu calendario y acompañarnos en uno de los escenarios mas impresionantes de España y Europa. El equipo de Ociosport está trabajando incansablemente para ofrecernos la mejor experiencia. Síguenos en Panticosa Turismo en redes sociales para disfrutar al máximo de tu visita a Panticosa. \n¡Te esperamos en Panticosa! \n\nhttps://panticosa.es/wp-content/uploads/EXPORT_HORITZONTAL1-1.mp4
URL:https://panticosa.es/agenda/ixs-european-downhill-cup-en-panticosa-20-y-21-de-julio-2024/
LOCATION:Panticosa\, Calle Santa Cruz\, Panticosa\, 22661\, España
CATEGORIES:Deporte,Naturaleza y medioambiente
ATTACH;FMTTYPE=image/png:https://panticosa.es/wp-content/uploads/imagen-destacada-cartel-web-1.png
END:VEVENT
BEGIN:VEVENT
DTSTART;TZID=Europe/Madrid:20240728T080000
DTEND;TZID=Europe/Madrid:20240728T170000
DTSTAMP:20260423T232742
CREATED:20240613T171141Z
LAST-MODIFIED:20240727T172020Z
UID:6319-1722153600-1722186000@panticosa.es
SUMMARY:Mercado de artesania de Jacetania en Panticosa
DESCRIPTION:El Mercado Artesanal de la Jacetania llega de nuevo a Panticosa es un evento  que se celebra anualmente en la localidad de Panticosa en verano. \nEste mercado es una muestra del trabajo artesano (bisuteria\, jabones\, acuarelas\, miniaturas\, madera de boj) de algunos de los componentes de la Asociación de Arte y Artesanía de la Jacetania.  \nAprovecha para venir a Panticosa y disfrutar de su increíble entorno natural\, pasarelas\, el Tren del Sarrio\, Telecabina que facilita ahora mismo el acceso a los Lagos de Sabocos y Asnos\, la Ruta de los Miradores y como no el entorno del Balneario… \nLas fecha elegida este año será el 28 de julio en la Plaza del Esquiador\, a lo largo de todo el día y la tarde. \n\nSi quieres conocer un poquito mejor\, todo lo que puedes hacer y ver en Panticosa mientras disfrutas de un paseo por el Mercado\, haz clic aquí. \nVen a disfrutar en familia o con amigos! \n 
URL:https://panticosa.es/agenda/mercado-de-artesania-de-jacetania-en-panticosa/
LOCATION:Huesca
CATEGORIES:Artesanía
ATTACH;FMTTYPE=image/jpeg:https://panticosa.es/wp-content/uploads/cartel-3.jpeg
END:VEVENT
BEGIN:VEVENT
DTSTART;TZID=Europe/Madrid:20240731T193000
DTEND;TZID=Europe/Madrid:20240731T210000
DTSTAMP:20260423T232742
CREATED:20240730T102217Z
LAST-MODIFIED:20240730T102217Z
UID:6528-1722454200-1722459600@panticosa.es
SUMMARY:Presentación de la revista "Panticosa: historias de su historia"
DESCRIPTION:Explicación del proyecto: Elena Cubero y Carmen Navarro \nCharla a cargo de Juan José Guillén \n  \nDía: 31 de julio\nLugar: Centro Cultural La Fajuala (Panticosa)\nHora: 19:30 horas\n 
URL:https://panticosa.es/agenda/presentacion-de-la-revista-panticosa-historias-de-su-historia/
LOCATION:Centro Cultural La Fajuala\, Calle San Miguel\, Panticosa\, Huesca\, 22661
CATEGORIES:Cultura,Educación
ATTACH;FMTTYPE=image/jpeg:https://panticosa.es/wp-content/uploads/Cartel-para-movil.jpg
END:VEVENT
END:VCALENDAR