BEGIN:VCALENDAR
VERSION:2.0
PRODID:-//Panticosa - ECPv6.6.0.2//NONSGML v1.0//EN
CALSCALE:GREGORIAN
METHOD:PUBLISH
X-WR-CALNAME:Panticosa
X-ORIGINAL-URL:https://panticosa.es
X-WR-CALDESC:Eventos para Panticosa
REFRESH-INTERVAL;VALUE=DURATION:PT1H
X-Robots-Tag:noindex
X-PUBLISHED-TTL:PT1H
BEGIN:VTIMEZONE
TZID:Europe/Madrid
BEGIN:DAYLIGHT
TZOFFSETFROM:+0100
TZOFFSETTO:+0200
TZNAME:CEST
DTSTART:20240331T010000
END:DAYLIGHT
BEGIN:STANDARD
TZOFFSETFROM:+0200
TZOFFSETTO:+0100
TZNAME:CET
DTSTART:20241027T010000
END:STANDARD
END:VTIMEZONE
BEGIN:VEVENT
DTSTART;TZID=Europe/Madrid:20240802T183000
DTEND;TZID=Europe/Madrid:20240802T193000
DTSTAMP:20260423T215129
CREATED:20240725T173718Z
LAST-MODIFIED:20240725T173607Z
UID:6142-1722623400-1722627000@panticosa.es
SUMMARY:CINETURA Agosto "Agua Dulce" por el Día Internacional de las tribus indígenas
DESCRIPTION:Documental «Agua Dulce»\, el viernes 2 de agosto a las 18:30h\, para celebrar el Día internacional de las tribus indígenas (duración: 49 min aprox) \nEste episodio de la serie de la BBC enseña la vida de los ríos\, desde las montañas hasta el mar\, mostrando los ecosistemas de inexploradas aguas. \nEl episodio comienza en el sur de Venezuela\, escenario del relato «El mundo perdido» de Arthur Conan Doyle\, donde existe uno de los saltos de agua más grandes del planeta\, el salto del Ángel\, con una caída de 979 metros. \nEl documental también muestra las cataratas de Iguazú y el Pantanal\, en Brasil\, la zona de pantanos más extensa del planeta\, hogar de temibles pirañas. Para captar este paraje en todo su esplendor y conseguir la máxima visibilidad bajo las aguas\, el equipo de rodaje contó con apenas unos días\, la época anual en la que las aguas del pantano dejan de estar turbias. \nEl documental también se adentra en el lago más profundo de la tierra -el Baikal\, en Siberia-\, hogar de la única foca de agua dulce y de gigantes anfibios prehistóricos\, y muestra otros curiosos animales\, como los delfines del Amazonas\, las salamandras gigantes de algunos ríos de Japón o los macacos de Indonesia\, filmados\, por primera vez\, buceando durante grandes distancias. \nLa cita es el 2 de agosto a las 18:30 en el Centro Cultural La Fajuala de Panticosa ¡Te esperamos!
URL:https://panticosa.es/agenda/cinetura-agosto-agua-dulce-por-el-dia-internacional-de-las-tribus-indigenas/
LOCATION:Centro Cultural La Fajuala\, Calle San Miguel\, Panticosa\, Huesca\, 22661
CATEGORIES:Educación,Naturaleza y medioambiente
ATTACH;FMTTYPE=image/png:https://panticosa.es/wp-content/uploads/5-ok.png
END:VEVENT
BEGIN:VEVENT
DTSTART;TZID=Europe/Madrid:20240802T203000
DTEND;TZID=Europe/Madrid:20240802T220000
DTSTAMP:20260423T215129
CREATED:20240718T122317Z
LAST-MODIFIED:20240721T173511Z
UID:6492-1722630600-1722636000@panticosa.es
SUMMARY:Le Piano du Lac 2024 -"VOLOSWING" Balneario de Panticosa
DESCRIPTION:LA XATA LA RIFA Y LE PIANO DU LAC PRESENTAN: \nSobre el espectáculo:\n \nVoloSwing es un pedaleo musical a bordo de un prototipo artesanal navegable. Con esta estructura híbrida\, a medio camino entre el hidropedal y el barco de vapor de ruedas-paletas\, el público se transporta a la música de la época de oro y los locos años 20. Un piano vertical descansa sobre un bote de pedales combinado con hermosos acabados en madera. Todo se maniobra con la fuerza de las piernas y la danza mediante un ingenioso sistema de pedales dobles. \nLaurent Labejof y Voël Martin trabajan juntos desde hace varios años tocando en diferentes formaciones\, pero sobre todo en calle\, festivales\, cafés concierto. Su música está muy influenciada por el jazz y el swing de Nueva Orleans; Se suma a capitanear el Pedalo\, Mónica Cofiño\, bailarina atípica\, de fuertes tendencias innovadoras. Este barco anfibio acoge este trío que se entrega en un cóctel divertido y bailable mezclando el swing desenfrenado con estética contemporánea. \nPiano\, trombón\, voz\, percusión y danza flotan en esta estructura híbrida entre los instrumentos de luthier y la navegación.\nVen a bailar o a relajarte con esta velada al atardecer. \nSobre el equipo artístico: \nle pianO du lac / Pedalo PianO\, creación Vöel\npiano y trombón: Voel Martin\nvoz y percusión: Laurent Labejof\ndanza y capitana: Mónica Cofiño\nsonido: Aurelie Richer \nVoël Martin\, fundador de la asociación «La volière» y co-director de le pianO du lac\, es pianista\, trompetista y creador de todos estos pianos nómadas\, transforma estas máquinas y lanza proyectos que tienen el piano como denominador común.\nLaurent Labejof es un personaje atípico\, experto en todos los oficios\, músico talentoso\, también cantante y bailarín. Sus orígenes lejanos siguen siendo un misterio\, podemos imaginarlo como cocinero en una taberna al borde del Amazonas\, como percusionista en un barco frente a la costa del Caribe o con su voz en un coro de Gospel.\nMónica Cofiño vive de su pasión\, la danza y los acontecimientos artísticos que genera. Hiper implicada localmente\, no duda en inventar y crear formas que sacuden al espectador\, hacen preguntas\, desafían … pero lo que hace\, es hermoso.\nYa era hora de que estos tres se reunieran y decidieran irse juntos\, libres de invitar a otros artistas durante su itinerancia acuática. Si eres pianista te invitamos a tocar y flotar después del concierto. \n>> TAQUILLA AUTOGESTIONADA\n \n\nPrecio aconsejado 12€ / Precio colaborador 18€ / Precio para desemplead@s 8€ / Precio Carné Joven Europeo – European Youth Card 8€ / Precio niñ@s 6€\nPuedes dar más para apoyar al proyecto y a su equipo o dar menos si cuentas con un presupuesto ajustado ¡Todos sois bienvenidos!\n\nLa Gira de le pianO du lac es un proyecto auto financiado\, el espectáculo existe gracias a tu participación\nEs aconsejable comprar anticipadamente la entrada online\n\n>> HORARIO: \n\n19.30h >> apertura de taquilla en el lugar del espectáculo. Ten preparada tu entrada y muestra el código QR en tu teléfono (te recomendamos descargarlo previamente ya que en algunos lugares donde actuamos no hay cobertura)\n20:30h >> inicio del espectáculo (duración aproximada 1h 15′)\n\n>> INFORMACIÓN PRÁCTICA: \n\n¡No hay butacas! Recuerda acudir con cojín\, manta\, toalla\, silla o similar para sentarte cómodamente\nLos perros son bienvenidos siempre que de la normativa del espacio lo permita\nEn caso de lluvia ligera el concierto se mantiene ¡trae paraguas!\nEs posible venir con tu picnic.\n\nMas información AQUI.
URL:https://panticosa.es/agenda/le-piano-du-lac-2024-voloswing-balneario-de-panticosa/
LOCATION:Balneario de Panticosa\, C/ Balneario\, Baños de Panticosa\, HUesca\, 22650\, España
CATEGORIES:Cultura,Música,Naturaleza y medioambiente
ATTACH;FMTTYPE=image/png:https://panticosa.es/wp-content/uploads/Piano-du-lac.png
END:VEVENT
BEGIN:VEVENT
DTSTART;TZID=Europe/Madrid:20240802T220000
DTEND;TZID=Europe/Madrid:20240802T233000
DTSTAMP:20260423T215129
CREATED:20240719T143719Z
LAST-MODIFIED:20240719T143719Z
UID:6498-1722636000-1722641400@panticosa.es
SUMMARY:Teatro "La Rosaurada"
DESCRIPTION:Teatro con Ros Beret. \nLa Rosaurada es la epopeya del fauno Rosauro I de la Gorrebia\, fundador del bosque\, a cuya peripecia e imaginación debemos la pervivencia de la arboleda y de todas las criaturas que la habitan\, la custodian y la protegen. Es la historia del único hombre del que se tiene noticia que fue proclamado fauno por sus gestas en favor de la natura. Un canto a la obstinación de Rosauro\, que tantas veces fue arrancado del bosque para ser arrojado a la sociedad y\, tantas veces\, escapó de ella para volver a sentir el salvaje palpitar de la floresta.\n\n2 de agosto. \n22 horas. \nPlaza Camarada del Pueyo de Jaca
URL:https://panticosa.es/agenda/teatro-la-rosaurada/
LOCATION:Plaza Camarada\, Plaza Camarada\, El Pueyo de Jaca\, Huesca\, 22661
CATEGORIES:Cultura,Teatro
ATTACH;FMTTYPE=image/jpeg:https://panticosa.es/wp-content/uploads/Rosaurada-3_page-0001.jpg
END:VEVENT
BEGIN:VEVENT
DTSTART;VALUE=DATE:20240807
DTEND;VALUE=DATE:20241001
DTSTAMP:20260423T215129
CREATED:20240807T174643Z
LAST-MODIFIED:20240807T180524Z
UID:6581-1722988800-1727740799@panticosa.es
SUMMARY:Exposición fotográfica "Retazos de Panticosa: Ventana al Pasado" (7 de agosto al 30 de septiembre)
DESCRIPTION:Dicen que una imagen vale más que mil palabras… Asi comienza el recorrido de esta exposición que tendrá lugar en Panticosa los meses de agosto y septiembre. \nSi has paseado por Panticosa\, seguro has notado su entorno privilegiado. Esta exposición es una ventana al pasado\, que pretende ser una muestra para rendir homenaje a quienes habitaron estas tierras\, mostrando su rica historia a quienes visitan este valle en busca de lugares únicos y llenos de memorias. \nLas fotografías presentadas formaron parte de la II Exposición «Fotos Antiguas de Panticosa» organizada por la «Asociación Flor de Nieve» en 2016\, destacando el trabajo de recopilación de álbumes familiares y del fotógrafo Ricardo Compairé. \nLa exposición se estructura en cuatro pilares: \n\nImágenes antiguas del pueblo de Panticosa y el Pueyo.\nLa vida cotidiana en Panticosa.\nInfancia y juventud.\nEl balneario: un refugio de salud y descanso.\n\nAdemás\, se exhiben objetos y herramientas utilizadas en la vida cotidiana de los Panticutos\, aportados por Fernando Giménez (Casa Randas). Los textos de las fotos están en Panticuto\, una variedad del aragonés hablado en Panticosa. \n¡Te invitamos a disfrutar de esta oportunidad única en el Centro Cultural La Fajuala de Panticosa (Horario Oficina de Turismo)! \nHorario Exposición: \nLunes a Jueves ( De 9:00 a 14:00 y de 17:00 a 19:00) \nViernes\, sábados y domingos  (9:00 a 14:00 y 16:00 a 20:00) \n 
URL:https://panticosa.es/agenda/exposicion-fotografica-retazos-de-panticosa-ventana-al-pasado-7-de-agosto-al-30-de-septiembre/
LOCATION:Centro Cultural La Fajuala\, C/ La fajuala\, Panticosa\, Huesca\, 22661\, España
CATEGORIES:Cultura,Naturaleza y medioambiente
ATTACH;FMTTYPE=image/png:https://panticosa.es/wp-content/uploads/Poster-Exposicion-de-arte-Antiguo-Negro.png
END:VEVENT
BEGIN:VEVENT
DTSTART;TZID=Europe/Madrid:20240810T204500
DTEND;TZID=Europe/Madrid:20240810T213000
DTSTAMP:20260423T215129
CREATED:20240721T173709Z
LAST-MODIFIED:20240730T114855Z
UID:6505-1723322700-1723325400@panticosa.es
SUMMARY:Concierto Coral de la Asunción de Panticosa
DESCRIPTION:[vc_row][vc_column][vc_column_text]Concierto de la Coral de la Asunción de Panticosa \nSábado 10 de agosto\, 20:45 (después de la Misa) \nIglesia Parroquial de la Asunción de Panticosa.[/vc_column_text][/vc_column][/vc_row]
URL:https://panticosa.es/agenda/concierto-coral-de-la-asuncion-de-panticosa-3/
LOCATION:Iglesia de la Asunción de Panticosa\, Calle San Miguel\, Panticosa\, Huesca\, 22661
CATEGORIES:Cultura,Música
ATTACH;FMTTYPE=image/png:https://panticosa.es/wp-content/uploads/Concierto-coral.png
END:VEVENT
BEGIN:VEVENT
DTSTART;TZID=Europe/Madrid:20240811T223000
DTEND;TZID=Europe/Madrid:20240811T235900
DTSTAMP:20260423T215129
CREATED:20240705T165023Z
LAST-MODIFIED:20240810T081733Z
UID:6439-1723415400-1723420740@panticosa.es
SUMMARY:Observación  Astronómica en Panticosa. AFORO COMPLETO\, NO QUEDAN PLAZAS
DESCRIPTION:[vc_row][vc_column][vc_column_text]EVENTO COMPLETO\, NO HAY MÁS PLAZAS \nExplicación del cielo de verano y observación nocturna a simple vista y con telescopios. \nPlazas limitadas\, apertura de inscripciones a partir del día 28 de julio en la oficina de turismo de Panticosa\, \nescribiendo a info@panticosa.es  o llamando a 974 487 314. \n  \nInformación adicional \n\nEl tiempo estimado es de 22\,30 a 00\,30 aproximadamente.\nEl aforo máximo es de 50/70 pax. Por tanto las plazas son limitadas.\nHacemos un recorrido a simple vista y con telescopios del cielo nocturno para identificar y explicar los objetos de la bóveda celeste. Constelaciones\, estrellas\, planetas y objetos de cielo profundo.\nAlgunas veces vemos la Estación Espacial Internacional 0 la Estación Espacial China Tiangong.\nTambién podremos ver los satélites Starlink de Elon Musk y algún Iridium\, pero es pronto para saberlo aún. Lo que si veremos seguro y a simple vista serán los satélites artificiales: de telecomunicaciones\, científicos\, militares\, meteorológicos\, espías…\nLa explicación ofrecida por Guy González Arruebo que lleva años realizando esta actividad\, será sobre mitología\, datos científicos\, medidas\, distancias\, anécdotas\, curiosidades\, historia espacial\, cohetería\, tipos de telescopios\, física elemental.  La explicación trata de adaptarse a todo tipo de públicos.\nSe recomienda llevar ropa de abrigo y tumbona o esterilla.\nLa actividad podrá suspenderse o aplazarse por causas meteorológicas adversas.\n\n[/vc_column_text][/vc_column][/vc_row]
URL:https://panticosa.es/agenda/observacion-astronomica-en-panticosa-2/
LOCATION:Piscinas Municipales de Panticosa\, Panticosa\, 22661\, España
CATEGORIES:Cultura,Naturaleza y medioambiente
ATTACH;FMTTYPE=image/jpeg:https://panticosa.es/wp-content/uploads/Cartel-Panticosa-Pueyo_page-0001-scaled.jpg
END:VEVENT
BEGIN:VEVENT
DTSTART;TZID=Europe/Madrid:20240812T223000
DTEND;TZID=Europe/Madrid:20240812T233000
DTSTAMP:20260423T215129
CREATED:20240705T165818Z
LAST-MODIFIED:20240810T081832Z
UID:6443-1723501800-1723505400@panticosa.es
SUMMARY:Observación  Astronómica en El Pueyo de Jaca. AFORO COMPLETO\, NO QUEDAN PLAZAS
DESCRIPTION:[vc_row][vc_column][vc_column_text]EVENTO COMPLETO\, NO HAY MÁS PLAZAS \nExplicación del cielo de verano y observación nocturna a simple vista y con telescopios. \nPlazas limitadas\, apertura de inscripciones a partir del día 28 de julio en la oficina de turismo de Panticosa\, \nescribiendo a info@panticosa.es  o llamando a 974 487 314. \n  \nInformación adicional \n\nEl tiempo estimado es de 22\,30 a 00\,30 aproximadamente.\nEl aforo máximo es de 50/70 pax. Por tanto las plazas son limitadas.\nHacemos un recorrido a simple vista y con telescopios del cielo nocturno para identificar y explicar los objetos de la bóveda celeste. Constelaciones\, estrellas\, planetas y objetos de cielo profundo.\nAlgunas veces vemos la Estación Espacial Internacional 0 la Estación Espacial China Tiangong.\nTambién podremos ver los satélites Starlink de Elon Musk y algún Iridium\, pero es pronto para saberlo aún. Lo que si veremos seguro y a simple vista serán los satélites artificiales: de telecomunicaciones\, científicos\, militares\, meteorológicos\, espías…\nLa explicación ofrecida por Guy González Arruebo que lleva años realizando esta actividad\, será sobre mitología\, datos científicos\, medidas\, distancias\, anécdotas\, curiosidades\, historia espacial\, cohetería\, tipos de telescopios\, física elemental.  La explicación trata de adaptarse a todo tipo de públicos.\nSe recomienda llevar ropa de abrigo y tumbona o esterilla.\nLa actividad podrá suspenderse o aplazarse por causas meteorológicas adversas.\n\n[/vc_column_text][/vc_column][/vc_row]
URL:https://panticosa.es/agenda/observacion-astronomica-en-el-pueyo-de-jaca-2/
LOCATION:Piscinas Municipales de Panticosa\, Panticosa\, 22661\, España
CATEGORIES:Cultura,Naturaleza y medioambiente
ATTACH;FMTTYPE=image/jpeg:https://panticosa.es/wp-content/uploads/Cartel-Panticosa-Pueyo_page-0001-scaled.jpg
END:VEVENT
BEGIN:VEVENT
DTSTART;TZID=Europe/Madrid:20240813T100000
DTEND;TZID=Europe/Madrid:20240813T113000
DTSTAMP:20260423T215129
CREATED:20240806T170944Z
LAST-MODIFIED:20240806T170944Z
UID:6576-1723543200-1723548600@panticosa.es
SUMMARY:Visita guiada a Panticosa
DESCRIPTION:Todos los martes de  agosto\, ven a conocer la historia y algunos rincones emblemáticos de la localidad panticuta en la visita guiada que organiza el Ayuntamiento de Panticosa. \nLa inscripción es obligatoria en la oficina de turismo\, ya que las plazas son limitadas. Grupo mínimo 5 personas. \nPunto de inicio: parque de la iglesia (junto a la estatua del esquiador) \nTodos los martes de agosto a las 10:00 horas. \nActividad GRATUITA. Plazas limitadas. Grupo Mínimo 5 personas.
URL:https://panticosa.es/agenda/visita-guiada-a-panticosa-3/
LOCATION:Huesca
CATEGORIES:Cultura
ATTACH;FMTTYPE=image/png:https://panticosa.es/wp-content/uploads/1-2.png
ORGANIZER;CN="Turismo Panticosa":MAILTO:info@panticosa.es
END:VEVENT
BEGIN:VEVENT
DTSTART;TZID=Europe/Madrid:20240814T120000
DTEND;TZID=Europe/Madrid:20240817T235900
DTSTAMP:20260423T215129
CREATED:20240806T092557Z
LAST-MODIFIED:20240806T092557Z
UID:6565-1723636800-1723939140@panticosa.es
SUMMARY:Fiestas de Panticosa del 14 al 17 de agosto 2024
DESCRIPTION:[vc_row][vc_column width=»1/2″][/vc_column][vc_column width=»1/2″][/vc_column][/vc_row][vc_row][vc_column][/vc_column][vc_column][vc_gallery type=»image_grid» images=»6568\,6567\,6566\,6570\,6569″ img_size=»large»][/vc_column][vc_column][/vc_column][vc_column][/vc_column][vc_column][/vc_column][/vc_row]
URL:https://panticosa.es/agenda/fiestas-de-panticosa-del-14-al-17-de-agosto-2024-2/
LOCATION:Panticosa\, Calle Santa Cruz\, Panticosa\, 22661\, España
CATEGORIES:Cultura,Fiestas,Infantil,Música
ATTACH;FMTTYPE=image/png:https://panticosa.es/wp-content/uploads/fiestas-1.png
END:VEVENT
BEGIN:VEVENT
DTSTART;TZID=Europe/Madrid:20240818T200000
DTEND;TZID=Europe/Madrid:20240818T210000
DTSTAMP:20260423T215129
CREATED:20240803T101032Z
LAST-MODIFIED:20240815T115159Z
UID:6554-1724011200-1724014800@panticosa.es
SUMMARY:Presentación del libro "Agua y Corriente\, cuando los ibones perdieron su nombre"
DESCRIPTION:Carlos Tarazona presenta su libro \nEl libro Agua y Corriente es un documento único que expone de forma cronológica la construcción de las Presas\, Centrales hidroeléctricas y conducciones de agua que durante gran parte del siglo XX\, constituyeron la creación de una nueva fuente de energía para el desarrollo de la Industria\, sobre todo química\, que afectó en gran medida a nuestro Valle de Tena. Carlos Tarazona hace un estudio pormenorizado de estos importantísimos hechos. \nEl Balneario de Panticosa\, tiene una rica historia relacionada con el trabajo de construcción de infraestructuras\, como las presas. \nDurante el siglo XX\, varias presas se construyeron en las cercanías del balneario para almacenar agua y generar electricidad. Estas presas\, como la de Búbal y Bachimaña\, formaban parte de proyectos hidroeléctricos que requerían mano de obra local. \nLos vecinos de Panticosa y otros pueblos cercanos (también de otras localidades de España) contribuyeron de manera significativa a la construcción de estas presas. Estos proyectos proporcionaron por tanto empleo a los habitantes de la zona. \nAdemás\, la construcción de presas en el entorno natural del balneario ayudó a controlar el caudal de los ríos y a aprovechar la energía hidroeléctrica. \nEl Balneario de Panticosa también se benefició de la creación de estas infraestructuras\, ya que ayudaron a gestionar los recursos hídricos en la zona. \n¿Te gustaría saber más sobre la historia o la construcción de alguna presa en particular? Acércate este domingo a la presentación del Libro! Te esperamos! \nDía: 18 de agosto\nLugar: Centro Cultural La Fajuala (Panticosa)\nHora: 20:00 horas
URL:https://panticosa.es/agenda/presentacion-del-libro-agua-y-corriente-cuando-los-ibones-perdieron-su-nombre/
LOCATION:Centro Cultural La Fajuala\, Calle San Miguel\, Panticosa\, Huesca\, 22661
CATEGORIES:Cultura,Educación
ATTACH;FMTTYPE=image/png:https://panticosa.es/wp-content/uploads/Cartel-Presentacion-ok.png
END:VEVENT
BEGIN:VEVENT
DTSTART;TZID=Europe/Madrid:20240820T190000
DTEND;TZID=Europe/Madrid:20240820T210000
DTSTAMP:20260423T215129
CREATED:20240803T090648Z
LAST-MODIFIED:20240816T104654Z
UID:6547-1724180400-1724187600@panticosa.es
SUMMARY:Presentación del libro "Homero en Nueva York"
DESCRIPTION:Cristina Inigo Franco presenta su libro: «Homero en Nueva York» con vino y picoteo \nCharles Andrews\, un reputado profesor de historia de la Universidad de Columbia\, conoce casualmente en la Quinta Avenida de Nueva York\, a un anciano fantasioso y extravagante que dice ser el mismo Homero. Una serie de situaciones rocambolescas harán que estos dos personajes tan dispares entablen una entrañable relación de amistad basada en su amor por la historia y la Antigüedad\, que les llevará a recorrer algunos de los lugares más emblemáticos de la ciudad mientras discuten y debaten sobre distintos episodios históricos relativos al nacimiento de Grecia como nación y al descubrimiento de América. \nPorque si los griegos no hubieran vencido al gran ejército persa en las guerras Médicas de Maratón\, Termópilas\, Salamina y Platea\, o sin el nacimiento de las escuelas filosóficas de Sócrates\, Platón y Aristóteles\, todo el pensamiento Occidental que disfrutamos hoy en día no existiría. Y si navegantes como Cristóbal Colón\, Magallanes o Elcano no se hubiesen aventurado a desafiar al océano Atlántico\, a creer que la Tierra era redonda y no plana y a confiar en que hubiera tierra más allá de las Columnas que el Dios Hércules colocó en los promontorios del estrecho de Gibraltar para marcar el fin del mundo conocido\, América no se hubiera descubierto en el Siglo XV y no se hubiera dado la primera vuelta al mundo en el Siglo XVI. \nEste libro trata de un viaje  de Homero al futuro… ¿o al pasado? \nDía: 20 de agosto\nLugar: Centro Cultural La Fajuala (Panticosa)\nHora: 19:00 horas\n 
URL:https://panticosa.es/agenda/presentacion-del-libro-homero-en-nueva-york/
LOCATION:Centro Cultural La Fajuala\, Calle San Miguel\, Panticosa\, Huesca\, 22661
CATEGORIES:Cultura,Educación
ATTACH;FMTTYPE=image/jpeg:https://panticosa.es/wp-content/uploads/Homero-en-Nueva-York.jpg
END:VEVENT
BEGIN:VEVENT
DTSTART;TZID=Europe/Madrid:20240823T190000
DTEND;TZID=Europe/Madrid:20240823T200000
DTSTAMP:20260423T215129
CREATED:20240806T112607Z
LAST-MODIFIED:20240812T101204Z
UID:6562-1724439600-1724443200@panticosa.es
SUMMARY:Presentación de la novela "Las hechizadas de las montañas"
DESCRIPTION:Presentación de la novela «Las hechizadas de las montañas» (Editorial Pirineo) \nCharla con proyección: «La brujería en Panticosa y Valle de Tena» \nY presentación de la novela por su autor José Antonio Adell \n  \n  \nDía: 23 de agosto\nLugar: Albergue de El Pueyo de Jaca\nHora: 19:00\n 
URL:https://panticosa.es/agenda/presentacion-de-la-novela-las-hechizadas-de-las-montanas-2/
LOCATION:El Pueyo de Jaca
CATEGORIES:Cultura,Educación
ATTACH;FMTTYPE=image/jpeg:https://panticosa.es/wp-content/uploads/Libro-Hechizadas-el-pueyo.jpeg
END:VEVENT
BEGIN:VEVENT
DTSTART;TZID=Europe/Madrid:20240824T120000
DTEND;TZID=Europe/Madrid:20240827T233000
DTSTAMP:20260423T215129
CREATED:20240715T112138Z
LAST-MODIFIED:20240823T114234Z
UID:6377-1724500800-1724801400@panticosa.es
SUMMARY:Fiestas del Pueyo de Jaca del 24 al 27 de agosto 2024
DESCRIPTION:[vc_row][vc_column][vc_gallery type=»image_grid» images=»6631\,6632\,6633\,6634\,6635\,6637\,6636\,6638″ img_size=»full»][vc_column_text] \nDESCARGAR\nPROGRAMA FIESTAS PUEYO DE JACA 2024 \n[/vc_column_text][/vc_column][/vc_row][vc_row][vc_column][vc_column_text] \n \n \n \n \n \n \n[/vc_column_text][/vc_column][/vc_row]
URL:https://panticosa.es/agenda/fiestas-del-pueyo-de-jaca-del-24-al-27-de-agosto-2024/
LOCATION:El Pueyo de Jaca
CATEGORIES:Cultura,Fiestas,Infantil,Música
ATTACH;FMTTYPE=image/png:https://panticosa.es/wp-content/uploads/fiestas-pueyo.png
END:VEVENT
BEGIN:VEVENT
DTSTART;TZID=Europe/Madrid:20240830T000000
DTEND;TZID=Europe/Madrid:20240901T235900
DTSTAMP:20260423T215129
CREATED:20240229T180245Z
LAST-MODIFIED:20240229T180307Z
UID:5907-1724976000-1725235140@panticosa.es
SUMMARY:IX Trail Valle de Tena Panticosa 30 al 1 de septiembre
DESCRIPTION:El Trail Valle de Tena\, en su novena edición\, ya ha abierto inscripciones para la carrera que se desarrollará entre el 30 de agosto y el 1 de septiembre en Panticosa. \nDisponibles estarán 1.500 dorsales para cinco categorías distintas\, con distancias que oscilan entre 10 y 78 kilómetros y un desnivel de hasta 6.800 positivos. \nLas inscripciones se realizan a través de su sitio web.
URL:https://panticosa.es/agenda/ix-trail-valle-de-tena-panticosa-30-al-1-de-septiembre/
LOCATION:Panticosa\, Calle Santa Cruz\, Panticosa\, 22661\, España
CATEGORIES:Deporte
ATTACH;FMTTYPE=image/jpeg:https://panticosa.es/wp-content/uploads/cartel.jpeg
END:VEVENT
END:VCALENDAR