BEGIN:VCALENDAR
VERSION:2.0
PRODID:-//Panticosa - ECPv6.6.0.2//NONSGML v1.0//EN
CALSCALE:GREGORIAN
METHOD:PUBLISH
X-ORIGINAL-URL:https://panticosa.es
X-WR-CALDESC:Eventos para Panticosa
REFRESH-INTERVAL;VALUE=DURATION:PT1H
X-Robots-Tag:noindex
X-PUBLISHED-TTL:PT1H
BEGIN:VTIMEZONE
TZID:Europe/Madrid
BEGIN:DAYLIGHT
TZOFFSETFROM:+0100
TZOFFSETTO:+0200
TZNAME:CEST
DTSTART:20240331T010000
END:DAYLIGHT
BEGIN:STANDARD
TZOFFSETFROM:+0200
TZOFFSETTO:+0100
TZNAME:CET
DTSTART:20241027T010000
END:STANDARD
END:VTIMEZONE
BEGIN:VEVENT
DTSTART;VALUE=DATE:20240807
DTEND;VALUE=DATE:20241001
DTSTAMP:20260423T202918
CREATED:20240807T174643Z
LAST-MODIFIED:20240807T180524Z
UID:6581-1722988800-1727740799@panticosa.es
SUMMARY:Exposición fotográfica "Retazos de Panticosa: Ventana al Pasado" (7 de agosto al 30 de septiembre)
DESCRIPTION:Dicen que una imagen vale más que mil palabras… Asi comienza el recorrido de esta exposición que tendrá lugar en Panticosa los meses de agosto y septiembre. \nSi has paseado por Panticosa\, seguro has notado su entorno privilegiado. Esta exposición es una ventana al pasado\, que pretende ser una muestra para rendir homenaje a quienes habitaron estas tierras\, mostrando su rica historia a quienes visitan este valle en busca de lugares únicos y llenos de memorias. \nLas fotografías presentadas formaron parte de la II Exposición «Fotos Antiguas de Panticosa» organizada por la «Asociación Flor de Nieve» en 2016\, destacando el trabajo de recopilación de álbumes familiares y del fotógrafo Ricardo Compairé. \nLa exposición se estructura en cuatro pilares: \n\nImágenes antiguas del pueblo de Panticosa y el Pueyo.\nLa vida cotidiana en Panticosa.\nInfancia y juventud.\nEl balneario: un refugio de salud y descanso.\n\nAdemás\, se exhiben objetos y herramientas utilizadas en la vida cotidiana de los Panticutos\, aportados por Fernando Giménez (Casa Randas). Los textos de las fotos están en Panticuto\, una variedad del aragonés hablado en Panticosa. \n¡Te invitamos a disfrutar de esta oportunidad única en el Centro Cultural La Fajuala de Panticosa (Horario Oficina de Turismo)! \nHorario Exposición: \nLunes a Jueves ( De 9:00 a 14:00 y de 17:00 a 19:00) \nViernes\, sábados y domingos  (9:00 a 14:00 y 16:00 a 20:00) \n 
URL:https://panticosa.es/agenda/exposicion-fotografica-retazos-de-panticosa-ventana-al-pasado-7-de-agosto-al-30-de-septiembre/
LOCATION:Centro Cultural La Fajuala\, C/ La fajuala\, Panticosa\, Huesca\, 22661\, España
CATEGORIES:Cultura,Naturaleza y medioambiente
ATTACH;FMTTYPE=image/png:https://panticosa.es/wp-content/uploads/Poster-Exposicion-de-arte-Antiguo-Negro.png
END:VEVENT
BEGIN:VEVENT
DTSTART;TZID=Europe/Madrid:20240830T000000
DTEND;TZID=Europe/Madrid:20240901T235900
DTSTAMP:20260423T202918
CREATED:20240229T180245Z
LAST-MODIFIED:20240229T180307Z
UID:5907-1724976000-1725235140@panticosa.es
SUMMARY:IX Trail Valle de Tena Panticosa 30 al 1 de septiembre
DESCRIPTION:El Trail Valle de Tena\, en su novena edición\, ya ha abierto inscripciones para la carrera que se desarrollará entre el 30 de agosto y el 1 de septiembre en Panticosa. \nDisponibles estarán 1.500 dorsales para cinco categorías distintas\, con distancias que oscilan entre 10 y 78 kilómetros y un desnivel de hasta 6.800 positivos. \nLas inscripciones se realizan a través de su sitio web.
URL:https://panticosa.es/agenda/ix-trail-valle-de-tena-panticosa-30-al-1-de-septiembre/
LOCATION:Panticosa\, Calle Santa Cruz\, Panticosa\, 22661\, España
CATEGORIES:Deporte
ATTACH;FMTTYPE=image/jpeg:https://panticosa.es/wp-content/uploads/cartel.jpeg
END:VEVENT
BEGIN:VEVENT
DTSTART;TZID=Europe/Madrid:20240904T173000
DTEND;TZID=Europe/Madrid:20240904T183000
DTSTAMP:20260423T202918
CREATED:20240829T173901Z
LAST-MODIFIED:20240830T135419Z
UID:6642-1725471000-1725474600@panticosa.es
SUMMARY:Fundación Valle de Tena
DESCRIPTION:Nueva presentación de la Fundación Valle de Tena\, el miércoles 4 de septiembre a las 17:30 h en en el Centro Cultural La Fajuala\, Panticosa \nLa sesión prevista tiene como objetivo presentar el proyecto de constitución de la futura Fundación Valle de Tena\, una iniciativa de seis personas vinculadas al valle que llevan trabajando desde hace dos años en la misma. \nEl primer proyecto embrionario se desarrolló a través de las dos ediciones del «Foro Valle de Tena»\, asistiendo a las cinco sesiones más de 100 personas vinculadas al territorio\, de manera directa o indirectamente. \nEn la sesión se pretende informar\, de manera transparente\, a la ciudadanía del valle\, que objetivos tiene la futura fundación\, qué proyectos con impacto se han pensado y\, sobre todo\, divulgar conocimiento de lo que es el movimiento de la filantropía comunitaria. \nLa Fundación tiene la ambición de impulsar proyectos con potencial transformador que además de apoyar al turismo también permitan desestacionalizar la actividad económica. \nLa sesión estará moderada por un representante del equipo motor.
URL:https://panticosa.es/agenda/fundacion-valle-de-tena/
LOCATION:Huesca
CATEGORIES:Empresa
ATTACH;FMTTYPE=image/jpeg:https://panticosa.es/wp-content/uploads/cartel-presentacion-Fundacion-VDT.jpeg
END:VEVENT
BEGIN:VEVENT
DTSTART;TZID=Europe/Madrid:20240906T183000
DTEND;TZID=Europe/Madrid:20240906T193000
DTSTAMP:20260423T202918
CREATED:20240828T124653Z
LAST-MODIFIED:20240828T114042Z
UID:6145-1725647400-1725651000@panticosa.es
SUMMARY:CINETURA Septiembre "Bosques" por el Día Internacional de la capa de ozono
DESCRIPTION:Documental «Bosques»\, el viernes 6 de septiembre a las 18:30h\, para celebrar el Día internacional de la capa de ozono. \nLos bosques son mundos misteriosos que albergan vidas animales extraordinarias desde perros salvajes que trabajan en equipo\, saltamontes ninja que luchan contra insectos asesinos y cálaos orientales que hacen todo lo posible para proteger a sus crías. \nLa cita es el 6 de septiembre a las 18:30 en el Centro Cultural La Fajuala de Panticosa ¡Te esperamos!
URL:https://panticosa.es/agenda/cinetura-septiembre-bosques-por-el-dia-internacional-de-la-capa-de-ozono/
LOCATION:Centro Cultural La Fajuala\, Calle San Miguel\, Panticosa\, Huesca\, 22661
CATEGORIES:Educación,Naturaleza y medioambiente
ATTACH;FMTTYPE=image/png:https://panticosa.es/wp-content/uploads/6.png
END:VEVENT
BEGIN:VEVENT
DTSTART;VALUE=DATE:20240929
DTEND;VALUE=DATE:20240930
DTSTAMP:20260423T202918
CREATED:20240919T074010Z
LAST-MODIFIED:20240919T082656Z
UID:6678-1727568000-1727654399@panticosa.es
SUMMARY:Taller iniciación a la Ornitología
DESCRIPTION:[vc_row][vc_column width=»1/2″][vc_column_text]¿Te interesa el fascinante mundo de las aves? La Asociación de amigos de la Reserva de la Biosfera Ordesa-Viñamala organiza junto con Comarca Alto Gallego esta actividad!. \nEl próximo domingo 29 de septiembre\, en Panticosa\, te invitamos a participar en un taller de iniciación a la ornitología\, ideal para aprender los conceptos básicos de la observación de aves en su hábitat natural. \nEl taller será impartido por Pablo Vallés Calvo\, experimentado educador ambiental y guía de media montaña\, con más de 30 años de trayectoria. Pablo es conocido por su trabajo como presentador y guionista de la serie “Amada Tierra” de Aragón TV y como autor de varios libros sobre aves. Además\, gestiona el centro de interpretación de la alberca de Alboré en Montmesa\, donde ha liderado proyectos de conservación de la biodiversidad durante la última década. \nEl taller estará dividido en dos partes: \n\nCharla teórica de 1h30 horas: Introducción a la identificación de especies y uso de materiales adecuados para su observación.\nPaseo de 3 horas: Pon en práctica lo aprendido\, descubriendo las aves locales y sus comportamientos en un recorrido guiado por la naturaleza.\n\n¡No pierdas esta oportunidad! \nInscripciones:\nReserva tu plaza enviando un correo a info@panticosa.es o llamando al teléfono 974 48 73 14 \nActividad Gratuita. ¡Plazas limitadas! \nActividad subvencionada por Comarca Alto Gallego.[/vc_column_text][/vc_column][vc_column width=»1/2″][vc_empty_space][vc_empty_space][vc_empty_space][/vc_column][/vc_row][vc_row][vc_column][vc_empty_space][/vc_column][/vc_row]
URL:https://panticosa.es/agenda/6678/
LOCATION:Huesca
CATEGORIES:Educación,Infantil,Naturaleza y medioambiente,Teatro
ATTACH;FMTTYPE=image/png:https://panticosa.es/wp-content/uploads/Jornada-Micologica-ok.png
END:VEVENT
END:VCALENDAR