BEGIN:VCALENDAR
VERSION:2.0
PRODID:-//Panticosa - ECPv6.6.0.2//NONSGML v1.0//EN
CALSCALE:GREGORIAN
METHOD:PUBLISH
X-ORIGINAL-URL:https://panticosa.es
X-WR-CALDESC:Eventos para Panticosa
REFRESH-INTERVAL;VALUE=DURATION:PT1H
X-Robots-Tag:noindex
X-PUBLISHED-TTL:PT1H
BEGIN:VTIMEZONE
TZID:Europe/Madrid
BEGIN:DAYLIGHT
TZOFFSETFROM:+0100
TZOFFSETTO:+0200
TZNAME:CEST
DTSTART:20240331T010000
END:DAYLIGHT
BEGIN:STANDARD
TZOFFSETFROM:+0200
TZOFFSETTO:+0100
TZNAME:CET
DTSTART:20241027T010000
END:STANDARD
END:VTIMEZONE
BEGIN:VEVENT
DTSTART;TZID=Europe/Madrid:20241004T183000
DTEND;TZID=Europe/Madrid:20241004T193000
DTSTAMP:20260423T190445
CREATED:20241001T095826Z
LAST-MODIFIED:20240504T100606Z
UID:6147-1728066600-1728070200@panticosa.es
SUMMARY:CINETURA Octubre "Nómadas del Viento" por el Día Internacional de las aves
DESCRIPTION:Documental «Nómadas del viento»\, Vuela por encima de tus sueños\, el viernes 4 de octubre a las 18:30h\, para celebrar el Día internacional de las aves. \nAmbicioso documental sobre la migración de las aves\, un viaje que recorre más de 40 países. 4 años de trabajo y más de 140 personas contribuyeron a la creación de un singular estudio\, no sólo de las diferentes aves migratorias y sus patrones migratorios\, sino del ecléctico\, espectacular y sorprendente planeta en el que vivimos. \nEstuvo nominado al Oscar al mejor documental. \nLa cita es el 4 de octubre a las 18:30 en el Centro Cultural La Fajuala de Panticosa \n¡Te esperamos!
URL:https://panticosa.es/agenda/cinetura-octubre-nomadas-del-viento-por-el-dia-internacional-de-las-aves/
LOCATION:Centro Cultural La Fajuala\, Calle San Miguel\, Panticosa\, Huesca\, 22661
CATEGORIES:Educación,Naturaleza y medioambiente
ATTACH;FMTTYPE=image/png:https://panticosa.es/wp-content/uploads/octubre.png
END:VEVENT
BEGIN:VEVENT
DTSTART;TZID=Europe/Madrid:20241005T090000
DTEND;TZID=Europe/Madrid:20241006T220000
DTSTAMP:20260423T190445
CREATED:20240830T114148Z
LAST-MODIFIED:20241004T121212Z
UID:6647-1728118800-1728252000@panticosa.es
SUMMARY:XII Jornadas Micológicas Panticosa
DESCRIPTION:[vc_row][vc_column width=»1/2″][vc_column_text]TODAS LAS SALIDAS DE CAMPO Y ACTIVIDADES (SALVO SABADO CON A REDOLADA) ESTAN COMPLETAS!!! \nPanticosa celebra la duodécima edición de las jornadas micológicas\, un evento ya consolidado en la localidad cuyo objetivo se centra en la divulgación de este recurso/actividad que gana cada día más adeptos. \n5 y 6 de octubre 2024 \n\nPara las salidas al campo (punto de encuentro oficina de turismo 9 am) y las actividades en familia\, es necesario hacer reserva previa en la Oficina de Turismo de Panticosa\, o en el 974 487 314. \nEdad mínima recomendada para la actividad del sábado con A redolada 5 años. (Punto de encuentro: Oficina de Turismo) \nPara la actividad del domingo con el duende Bellota (Punto de encuentro: Cabaña Escuela de Esquí de Panticosa)\, por ser destinadas a un publico infantil y ser plazas muy limitadas\, se aceptará máximo el acompañamiento de 1 adulto por cada 2/3 niños. Recomendable para edades comprendidas entre los 4-8/9 años. \nParalelamente la EXPOSICIÓN MICOLÓGICA estará abierta al público\, asesorada por los micólogos\, en el Edificio La Fajuala. \n\n¡Degusta las mejores setas cocinadas por nuestros mejores chefs! \nLos bares y restaurantes ofrecerán tapas\, platos o raciones elaborados con setas durante la celebración de las jornadas. \n\n  \nObjetos necesarios en las salidas al campo para los Participantes\n– Ropa y calzado cómodos y de abrigo \n– Gorra para proteger la cabeza del posible sol y del frío \n– Bolsa o mochila donde llevar avituallamiento y recoger los desechos de la excursión \n– Teléfono móvil para llamada de emergencia en caso de pérdida o accidente \n– Cesta de mimbre \n– Cuchillo o navaja (a ser posible con sistema de seguridad) \n– Brocha\, pincel o cepillo para limpiar la tierra de las setas \n\nOrganiza: Ayuntamiento de Panticosa \n\n\n[/vc_column_text][/vc_column][vc_column width=»1/2″][vc_empty_space][vc_empty_space][vc_empty_space][/vc_column][/vc_row][vc_row][vc_column][vc_row_inner][vc_column_inner][vc_single_image image=»6706″ img_size=»large» alignment=»center» onclick=»img_link_large»][/vc_column_inner][/vc_row_inner][vc_empty_space][/vc_column][/vc_row][vc_row][vc_column][vc_single_image image=»6707″ img_size=»large» alignment=»center» onclick=»img_link_large»][/vc_column][/vc_row]
URL:https://panticosa.es/agenda/xii-jornadas-micologicas-panticosa/
LOCATION:Centro Cultural La Fajuala\, Calle San Miguel\, Panticosa\, Huesca\, 22661
CATEGORIES:Educación,Gastronomía,Infantil,Naturaleza y medioambiente,Teatro
ATTACH;FMTTYPE=image/png:https://panticosa.es/wp-content/uploads/1-3.png
END:VEVENT
BEGIN:VEVENT
DTSTART;VALUE=DATE:20241026
DTEND;VALUE=DATE:20241027
DTSTAMP:20260423T190445
CREATED:20241019T105005Z
LAST-MODIFIED:20241214T165332Z
UID:6721-1729900800-1729987199@panticosa.es
SUMMARY:Presentación de la novela "CON O TOCHO Y RO MORRAL" de Antonio Poma por Ricardo Mur
DESCRIPTION:En el marco de las X Jornadas  «Flors de Nieu» de Panticosa\, el sábado 26 de octubre a las 17h\, Presentación de la novela «CON O TOCHO Y RO MORRAL» Ganadería Panticuta\, de Antonio Poma Pes por Ricardo Mur Saura. \nTras la presentación\, a las 17:30h se podrá disfrutar también de la representación «Adragon\, tierra de Leyenda»\, a cargo de la compañía MikrÓpera». \nEntrada Libre hasta completar aforo. \n\nLugar: C. Cultural La Fajuala (Panticosa)\nHora: A partir de las 17:00h\n  \n 
URL:https://panticosa.es/agenda/presentacion-de-la-novela-las-hechizadas-de-las-montanas-4/
LOCATION:Centro Cultural La Fajuala\, Calle San Miguel\, Panticosa\, Huesca\, 22661
CATEGORIES:Cultura,Educación
ATTACH;FMTTYPE=image/jpeg:https://panticosa.es/wp-content/uploads/CARTEL-OK-scaled.jpg
END:VEVENT
BEGIN:VEVENT
DTSTART;TZID=Europe/Madrid:20241026T173000
DTEND;TZID=Europe/Madrid:20241026T173000
DTSTAMP:20260423T190445
CREATED:20241025T170619Z
LAST-MODIFIED:20241026T095608Z
UID:6763-1729963800-1729963800@panticosa.es
SUMMARY:ADRAGON\, Tierra de Leyenda
DESCRIPTION:En el marco de las X Jornadas  «Flors de Nieu» de Panticosa\, el sábado 26 de octubre a las 17:00h y tras la presentación de la novela «CON O TOCHO Y RO MORRAL» Ganadería Panticuta\, de Antonio Poma Pes por Ricardo Mur Saura\, podremos disfrutar también de la representación «ADRAGON\, tierra de Leyenda»\, a cargo de la compañía MikrÓpera». \nEntrada Libre hasta completar aforo. \nLugar: C. Cultural La Fajuala (Panticosa)\nHora: A partir de las 17:00h\n  \n 
URL:https://panticosa.es/agenda/adragon-tierra-de-leyenda/
LOCATION:Centro Cultural La Fajuala\, Calle San Miguel\, Panticosa\, Huesca\, 22661
CATEGORIES:Cultura,Infantil
ATTACH;FMTTYPE=image/jpeg:https://panticosa.es/wp-content/uploads/Cartel-ADRAGON.jpeg
END:VEVENT
BEGIN:VEVENT
DTSTART;TZID=Europe/Madrid:20241031T170000
DTEND;TZID=Europe/Madrid:20241031T170000
DTSTAMP:20260423T190445
CREATED:20241026T102731Z
LAST-MODIFIED:20241026T103032Z
UID:6774-1730394000-1730394000@panticosa.es
SUMMARY:Halloween para niños en Panticosa
DESCRIPTION:Llegan esas fechas de comer castañas y boniatos  decoraciones de calabazas iluminadas\, telarañas y escobas voladoras  sabéis de lo que hablamos no??? \nY nosotras contentas de presentar esta actividad dirigida a los mas peques  así que\, si no tenéis plan para el 31 de Octubre a las 17:00h en la ludoteca de Panticosa\, estaremos dinamizando la fiesta de Halloween!!! \nAcordaros de venir con disfraces terroríficos para la ocasión\, nosotras nos encargaremos de pasar una divertida tarde con un pinta-caras\, manualidades de infarto y malabares mágicos \nLugar: Ludoteca (Panticosa)\nHora: A partir de las 17:00h\n  \n*Texto extraído de Instagram Tetratelleres \n  \n 
URL:https://panticosa.es/agenda/halloween-para-ninos-en-panticosa/
LOCATION:Ludoteca Panticosa
CATEGORIES:Fiestas,Infantil
ATTACH;FMTTYPE=image/jpeg:https://panticosa.es/wp-content/uploads/Halloween-Panticosa-2.jpeg
END:VEVENT
BEGIN:VEVENT
DTSTART;TZID=Europe/Madrid:20241031T200000
DTEND;TZID=Europe/Madrid:20241031T200000
DTSTAMP:20260423T190445
CREATED:20241026T102046Z
LAST-MODIFIED:20241026T102213Z
UID:6769-1730404800-1730404800@panticosa.es
SUMMARY:Nuei D´Almetas
DESCRIPTION:Alguna vez te ha interesado profundizar un poquito de dónde viene la fiesta mundialmente conocida como Halloween? \nVen a este encuentro para conocer las raíces de esta festividad. \nHablaremos sobre lo que se espera de la noche del 31 de octubre. Haremos un pequeño tetaller para conocernos entre nosotras y fundar nuestro propio aquelarre de brujas. \nSi quieres saber que mas secretos se esconden detrás de la noche de la víspera de todos los santos\, este es un lugar para escuchar\, compartir y agradecer. \nHabrá mercadillo mágico solidario e intercambio de ropa. \nActividad para adultas. Plazas limitadas. Inscripciones por mensaje directo o whatsapp (680 34 78 52) \nLugar: C. Cultural La Fajuala (Panticosa)\nHora: A partir de las 20:00h\n  \n*Texto extraído de Instagram Tetratelleres \n  \n 
URL:https://panticosa.es/agenda/nuei-dalmetas/
LOCATION:Centro Cultural La Fajuala\, Calle San Miguel\, Panticosa\, Huesca\, 22661
CATEGORIES:Cultura
ATTACH;FMTTYPE=image/jpeg:https://panticosa.es/wp-content/uploads/halloween-panticosa.jpeg
END:VEVENT
END:VCALENDAR