BEGIN:VCALENDAR
VERSION:2.0
PRODID:-//Panticosa - ECPv6.6.0.2//NONSGML v1.0//EN
CALSCALE:GREGORIAN
METHOD:PUBLISH
X-ORIGINAL-URL:https://panticosa.es
X-WR-CALDESC:Eventos para Panticosa
REFRESH-INTERVAL;VALUE=DURATION:PT1H
X-Robots-Tag:noindex
X-PUBLISHED-TTL:PT1H
BEGIN:VTIMEZONE
TZID:Europe/Madrid
BEGIN:DAYLIGHT
TZOFFSETFROM:+0100
TZOFFSETTO:+0200
TZNAME:CEST
DTSTART:20240331T010000
END:DAYLIGHT
BEGIN:STANDARD
TZOFFSETFROM:+0200
TZOFFSETTO:+0100
TZNAME:CET
DTSTART:20241027T010000
END:STANDARD
END:VTIMEZONE
BEGIN:VEVENT
DTSTART;TZID=Europe/Madrid:20241205T090000
DTEND;TZID=Europe/Madrid:20241208T220000
DTSTAMP:20260423T160137
CREATED:20241111T095816Z
LAST-MODIFIED:20241129T125147Z
UID:6800-1733389200-1733695200@panticosa.es
SUMMARY:Mercado Navideño de Panticosa 2024
DESCRIPTION:Este año\, Panticosa (Valle de Tena) de nuevo se convertirá del 5 al 8 de diciembre\, en un destino ideal para pasar el Puente de la Constitución y la Inmaculada\, gracias al mercado navideño que por segundo año consecutivo y tras el gran éxito de afluencia del año pasado\, ofrecerá diversas actividades y entretenimiento para todas las edades. \nEl mercado se ubicará en la Plaza del Esquiador y contará con una cuidada selección de mercaderes y artesanos con productos navideños. \nEl horario de apertura al público es de 12:00 a 21:30h de jueves a domingo. \nPor las tardes\, la diversión estará asegurada con la animación orientada al público familiar e infantil\, con duendes de navidad\, hadas\, títeres y cuentos\, pasacalles con seres de fantasía y como no venido de muy lejos con uno de los personajes más queridos por nuestros niños\, los cuales podrán dejar sus cartas en el Buzón Real 🙂 \nUna opción perfecta para vivir el ambiente navideño en un lugar único y lleno de encanto\, en  uno de los pueblos más bonitos del Pirineo Aragonés. \nPUEDES DESCARGAR EL PROGRAMA AQUI. \nOs esperamos!
URL:https://panticosa.es/agenda/mercado-navideno-de-panticosa-2024/
LOCATION:Panticosa\, Calle Santa Cruz\, Panticosa\, 22661\, España
CATEGORIES:Cultura,Fiestas
ATTACH;FMTTYPE=image/jpeg:https://panticosa.es/wp-content/uploads/cartel-4.jpeg
END:VEVENT
BEGIN:VEVENT
DTSTART;TZID=Europe/Madrid:20241210T090000
DTEND;TZID=Europe/Madrid:20241211T200000
DTSTAMP:20260423T160137
CREATED:20241204T105019Z
LAST-MODIFIED:20241204T113054Z
UID:6841-1733821200-1733947200@panticosa.es
SUMMARY:Celebración Día Internacional de las Montañas
DESCRIPTION:La Asociación de Amigos de la Reserva de la Biosfera\, P.R.E.P.A Bubal y Turismo de Panticosa se unen en la Celebración del Día Internacional de las Montañas con dos actividades especiales que tendrán lugar los días 10 y 11 de diciembre. ¡Te invitamos a sumarte a esta experiencia única para celebrar este día tan importante para nuestro territorio! \nMartes 10 de diciembre – Visita Guiada al Museo de Bubal\n\nHora: 10:00 h\nLugar: Museo Bubal (Bubal)\nPunto de encuentro: 9:30 h en el parking de La Fajuala (opción de coche compartido)\n\nEsta visita nos permitirá conocer el interesante Museo y el Programa de Recuperación y Utilización Educativa de Pueblos Abandonados\, una iniciativa que lleva más de 40 años promoviendo la revitalización del entorno rural. El personal del centro nos guiará por las instalaciones del museo y exteriores para explorar la historia y el legado cultural de Bubal. \nMiércoles 11 de diciembre – Cinetura: Proyección del Documental “Ara Salvaje”\n\nHora: 18:30 h\nLugar: Centro Cultural La Fajuala\, Panticosa\n\nDisfrutaremos de la proyección del inspirador documental “Ara Salvaje”\, una obra que nos invita a reflexionar sobre la conexión del ser humano con la naturaleza. Al finalizar\, habrá una degustación de tortillas de patata para todos los asistentes. Si quieres participar con tu tortilla especial\, eres bienvenido 🙂 \n¡No te pierdas esta oportunidad de celebrar el Día Internacional de las montañas con nosotros!
URL:https://panticosa.es/agenda/celebracion-dia-internacional-de-las-montanas/
LOCATION:Huesca
ATTACH;FMTTYPE=image/jpeg:https://panticosa.es/wp-content/uploads/DIA-INTERNACIONAL-MONTANAS.jpg
END:VEVENT
BEGIN:VEVENT
DTSTART;TZID=Europe/Madrid:20241211T183000
DTEND;TZID=Europe/Madrid:20241211T200000
DTSTAMP:20260423T160137
CREATED:20241129T124252Z
LAST-MODIFIED:20241206T091246Z
UID:6161-1733941800-1733947200@panticosa.es
SUMMARY:CINETURA Diciembre "Ara Salvaje" por el Día Internacional de las Montañas
DESCRIPTION:Documental «Ara Salvaje»\, el miércoles 11 de diciembre a las 18:30h\, para celebrar el Día internacional de las Montañas. \nMientras intenta encontrar su camino en un nuevo mundo\, un ciclista argentino llega con su bici a un lugar remoto. Allí descubrirá el último gran río salvaje del Pirineo. Para poder afrontar un cambio\, buscará un nuevo reto. Desde ese momento quedará ligado a sus aguas\, sus montañas\, su historia y sus gentes. \nAra Salvaje es una ficción documental en 4K de bici de montaña que trata de la lucha por la libertad del último gran río salvaje del Pirineo\, el río Ara\, y la persecución del sueño del rider argentino Martín Campoy a lomos de su bicicleta.  (*Extracto Cima Norte) \nTras el documental y para cerrar el programa anual de CINETURA 2024\, se procederá a una degustación de tortillas españolas. Puedes animarte y traer la tuya 🙂 ¡Te esperamos!
URL:https://panticosa.es/agenda/cinetura-diciembre-polos-por-el-dia-internacional-de-las-montanas/
LOCATION:Centro Cultural La Fajuala\, Calle San Miguel\, Panticosa\, Huesca\, 22661
CATEGORIES:Educación,Naturaleza y medioambiente
ATTACH;FMTTYPE=image/jpeg:https://panticosa.es/wp-content/uploads/carteles-cinetura-Ara-salvaje-ok.jpg
END:VEVENT
BEGIN:VEVENT
DTSTART;VALUE=DATE:20241218
DTEND;VALUE=DATE:20241219
DTSTAMP:20260423T160137
CREATED:20241214T170757Z
LAST-MODIFIED:20241215T094647Z
UID:7065-1734480000-1734566399@panticosa.es
SUMMARY:Hablemos de Snowboard
DESCRIPTION:¿Te apasionan los deportes de invierno o te gustaría probar algo nuevo esta temporada? Entonces este taller es perfecto para ti. \nDurante el taller\, descubrirás como ajustar tu material y las claves para mantener un buen equilibrio y dominar los movimientos básicos de este apasionante deporte. Además\, te proporcionaremos consejos de seguridad para disfrutar al máximo mientras te diviertes sobre la tabla. \nEl taller va dirigido a personas de todas las edades\, con o sin experiencia previa\, que quieran iniciarse o progresar en el snowboard. \nRealizaremos trabajo en seco en una moqueta para luego que te diviertas mas con tu Snowboard en las pistas y mejores tus sensaciones. \nImportante traer tu propio material: Tabla\, botas y fijaciones. \nTaller gratuito de material de snowboard MIÉRCOLES 18 DE DICIEMBRE de 18h a 20h  \n\nMarketing on snowboard\nHasta completar aforo\n\nPrecios: \n\nAbonados polideportivo: Gratis\nNo abonados: 5€ al entrar ( Precio entrada polideportivo)\n\nImparte:\nLuis Herraiz (Técnico Deportivo Superior. Técnico Deportivo en Snowboard. Snowboarder desde 1997) \nColaboran: \n\nAyuntamiento de Panticosa\nAcción Pirineos\n\nInscripciones:\nTeléfono: 619 227 452
URL:https://panticosa.es/agenda/hablemos-de-snowboard/
LOCATION:Huesca
CATEGORIES:Deporte
ATTACH;FMTTYPE=image/jpeg:https://panticosa.es/wp-content/uploads/snowboard.jpeg
END:VEVENT
BEGIN:VEVENT
DTSTART;VALUE=DATE:20241221
DTEND;VALUE=DATE:20241222
DTSTAMP:20260423T160137
CREATED:20241214T164220Z
LAST-MODIFIED:20241222T125339Z
UID:7059-1734739200-1734825599@panticosa.es
SUMMARY:La Orquesta de Cámara Aragonia actuará el Sábado 21 de diciembre en la Iglesia de Nuestra Señora de la Asunción
DESCRIPTION:La Orquesta de Cámara Aragonia ofrecerá un concierto el próximo sábado 21 de diciembre a las 20:00 horas en la Iglesia de Nuestra Señora de la Asunción de Panticosa. \nEsta actuación marcará el cierre del primer trimestre de la programación musical de la iniciativa ‘Aragón\, tierra de cultura’\, un proyecto que pone en valor el talento y la creatividad aragonesa a través de diferentes disciplinas artísticas. \nFundada en Zaragoza a finales de 2001\, la Orquesta de Cámara Aragonia nació de la unión de músicos apasionados por compartir su amor por la música. Desde sus comienzos como un pequeño grupo de cuerda pulsada\, la orquesta ha evolucionado hasta convertirse en una formación de cámara que incluye cuerdas y viento madera. \nEsta combinación poco común de instrumentos aporta una riqueza tímbrica y una versatilidad únicas\, que les permite interpretar tanto obras concebidas originalmente para orquesta sinfónica como piezas escritas para instrumentos solistas. \nEl repertorio que ofrece la orquesta es diverso y atractivo\, abarcando desde la música del Renacimiento hasta composiciones contemporáneas\, sin dejar de lado incursiones en géneros más alejados del ámbito clásico. Además\, tienen como objetivo recuperar y dar a conocer obras y compositores menos conocidos\, ofreciendo al público una experiencia musical amena y enriquecedora. \n  \nEsta formación ha llevado su música no solo a los escenarios más destacados de Aragón\, sino también a espacios históricos y únicos\, como iglesias y monasterios\, creando un vínculo especial entre la música y el patrimonio cultural. \nLa programación de ‘Aragón\, tierra de cultura’\, que ha pasado por lugares emblemáticos como la Cartuja de Aula Dei\, el Monasterio de Rueda\, la Catedral de Roda de Isábena\, la Iglesia de Santa María de Albarracín y el evento Lituénigo Folk\, concluirá este trimestre con esta actuación en Panticosa. \nEl próximo año\, la iniciativa continuará con una variada oferta artística que incluirá nuevas disciplinas y mantendrá su esencia aragonesa\, recorriendo distintos puntos del territorio para acercar la cultura a todos los rincones. \nOs dejamos unas imágenes del día después de este magnífico concierto con la presencia del Director General de Cultura del Gobierno de Aragón\, Pedro Olloqui Burillo y el Alcalde de Panticosa\, Jesus María Uríz\, entre otras autoridades.  El concierto dio comienzo ofreciendo un homenaje a las victimas y damnificados de Valencia representado a través del Himno de Valencia que puedes visualizar aquí.
URL:https://panticosa.es/agenda/la-orquesta-de-camara-aragonia-actuara-el-sabado-21-de-diciembre-en-la-iglesia-de-nuestra-senora-de-la-asuncion/
LOCATION:Huesca
CATEGORIES:Cultura,Música
ATTACH;FMTTYPE=image/jpeg:https://panticosa.es/wp-content/uploads/Concierto-Aragonia.jpg
END:VEVENT
BEGIN:VEVENT
DTSTART;TZID=Europe/Madrid:20241226T190000
DTEND;TZID=Europe/Madrid:20241226T200000
DTSTAMP:20260423T160137
CREATED:20241217T090126Z
LAST-MODIFIED:20241217T090407Z
UID:7115-1735239600-1735243200@panticosa.es
SUMMARY:Concierto de Villancicos - Asociación Folclórica de Panticosa
DESCRIPTION:La Asociacion Folklorica de Panticosa te invita a disfrutar de su concierto Navideño en la  Iglesia Parroquial de Nuestra Señora de la Asunción\, en Panticosa. \n🗓 Fecha: Jueves\, 26 de diciembre\n⏰ Hora: 19:00 h \n🌟 Entrada libre hasta completar aforo. \nUna noche especial para compartir en familia o con amigos en estas fechas señaladas. 🎶✨ ¡No te lo pierdas!
URL:https://panticosa.es/agenda/concierto-de-villancicos-asociacion-folklorica-de-panticosa/
LOCATION:Huesca
CATEGORIES:Cultura,Música
ATTACH;FMTTYPE=image/png:https://panticosa.es/wp-content/uploads/Concierto-de-Villancicos-2023-1.png
END:VEVENT
BEGIN:VEVENT
DTSTART;TZID=Europe/Madrid:20241227T183000
DTEND;TZID=Europe/Madrid:20241227T200000
DTSTAMP:20260423T160137
CREATED:20241215T125516Z
LAST-MODIFIED:20241228T101617Z
UID:7091-1735324200-1735329600@panticosa.es
SUMMARY:Antonio Poma Pes firmará su libro "Con o tocho y ro Morral" en Panticosa esta Navidad
DESCRIPTION:El próximo viernes 27 de diciembre\, la Biblioteca de Panticosa acogerá un evento muy especial: Antonio Poma Pes estará firmando ejemplares de su obra «Con o tocho y ro Morral». Una oportunidad única para los vecinos y visitantes interesados en la cultura y la ganadería panticuta\, temas que este libro recoge con gran sensibilidad y detalle. \nLa presentación oficial del libro tuvo lugar el pasado 26 de octubre durante las Jornadas Flor de Neu\, organizadas por la Comarca del Alto Gállego en colaboración con el Ayuntamiento de Panticosa. \nEl evento\, celebrado en el Centro Cultural La Fajuala\, fue un rotundo éxito\, llenando por completo el aforo y despertando un enorme interés entre los asistentes. Fue una jornada emotiva\, con numerosas anécdotas y reflexiones compartidas\, que dejó claro el arraigo y el interés de esta temática en nuestro municipio y en todo el Valle de Tena. \nDebido a la gran afluencia\, sin embargo\, no fue posible realizar la firma de libros ese día lo que llevó a programar este nuevo encuentro. \nOs invitamos a todos a acercaros por la tarde a la Biblioteca de Panticosa\, el 27 de diciembre\, para que os firme vuestro ejemplar y compartir con el vuestras impresiones o revivir otras historias que hablen de nuestras raíces y tradiciones en Panticosa. \nY aquí os dejamos el video con Toño emocionado el día de la presentación de su primer libro\, contando alguna que otra anécdota que ha dejado  reflejadas en su libro. \nDesde este espacio te animamos también a que continúes contándonos muchas otras historias de Panticosa que tu bien conoces.  Historias que son necesarias relatar para que no queden en el olvido. Gracias Toño! \n\n		\n		\n			\n				\n			\n			\n				\n			\n			\n				\n			\n			\n				\n			\n			\n				\n			\n			\n				\n			\n			\n				\n			\n			\n				\n			\n		\n\nEstas son algunas imágenes de la firma de libros el pasado 27 de diciembre en la Biblioteca de Panticosa
URL:https://panticosa.es/agenda/antonio-poma-pes-firmara-su-libro-con-o-tocho-y-ro-morral-en-panticosa/
LOCATION:Huesca
CATEGORIES:Cultura
ATTACH;FMTTYPE=image/png:https://panticosa.es/wp-content/uploads/firma-libro-Tono-de-Clara-1.png
END:VEVENT
BEGIN:VEVENT
DTSTART;TZID=Europe/Madrid:20241228T194500
DTEND;TZID=Europe/Madrid:20241228T203000
DTSTAMP:20260423T160137
CREATED:20241215T095953Z
LAST-MODIFIED:20241215T105116Z
UID:7078-1735415100-1735417800@panticosa.es
SUMMARY:Concierto Navideño Coral de la Asunción
DESCRIPTION:La Coral de la Asunción te invita a disfrutar de una velada musical y navideña en la  Iglesia Parroquial de Nuestra Señora de la Asunción\, en Panticosa. \n🗓 Fecha: Sábado\, 28 de diciembre\n⏰ Hora: 19:45 h \n🌟 Entrada libre hasta completar aforo. \n¡No te lo pierdas! Una noche especial para compartir en familia o con amigos en estas fechas señaladas. 🎶✨
URL:https://panticosa.es/agenda/concierto-navideno-coral-de-la-asuncion/
LOCATION:Huesca
CATEGORIES:Cultura,Música
ATTACH;FMTTYPE=image/png:https://panticosa.es/wp-content/uploads/concierto-coral-logos.png
END:VEVENT
BEGIN:VEVENT
DTSTART;TZID=Europe/Madrid:20241229T180000
DTEND;TZID=Europe/Madrid:20241229T200000
DTSTAMP:20260423T160137
CREATED:20241218T165431Z
LAST-MODIFIED:20241218T200913Z
UID:7134-1735495200-1735502400@panticosa.es
SUMMARY:Exhibición hilanderas y taller en familia "Crea tu Árbol de Navidad con Lana" en Panticosa
DESCRIPTION:¡Una actividad para disfrutar toda la familia esta Navidad! \nVen a conocer de cerca cómo trabajaban la lana nuestras ancestras gracias a la Exhibición en vivo de las Hilanderas de Panticosa. \nMadres\, hijas\, nietas y abuelas: Una ocasión perfecta para compartir una tarde juntas\, aprender sobre este arte ancestral de la lana y llevarte a casa tu propio árbol de Navidad decorado con lana de nuestras ovejas. \nMientras las hilanderas nos muestran este antiguo oficio\, los más pequeños tendrán la oportunidad de crear su pequeño árbol navideño  ¡un recuerdo único para estas fiestas! \n\nFecha: Domingo\, 29 de diciembre\nHora: 17:30h\nLugar: Centro Cultural La Fajuala\, Panticosa\n\n¡No te lo pierdas! Ayúdanos a poner en valor la memoria y las tradiciones del Valle asistiendo a esta actividad preparada con mucho cariño por la Asociación Flor de Nieve de Panticosa ¡Te esperamos! \nOrganizan: \n\nFlor de Nieve Panticosa\nAyuntamiento de Panticosa
URL:https://panticosa.es/agenda/exhibicion-hilanderas-y-taller-en-familia-crea-tu-arbol-de-navidad-con-lana-en-panticosa/
LOCATION:Centro Cultural La Fajuala\, C/ La fajuala\, Panticosa\, Huesca\, 22661\, España
CATEGORIES:Artesanía,Cultura
ATTACH;FMTTYPE=image/jpeg:https://panticosa.es/wp-content/uploads/cartel-hilanderas-navidad.jpg
END:VEVENT
END:VCALENDAR