BEGIN:VCALENDAR
VERSION:2.0
PRODID:-//Panticosa - ECPv6.6.0.2//NONSGML v1.0//EN
CALSCALE:GREGORIAN
METHOD:PUBLISH
X-WR-CALNAME:Panticosa
X-ORIGINAL-URL:https://panticosa.es
X-WR-CALDESC:Eventos para Panticosa
REFRESH-INTERVAL;VALUE=DURATION:PT1H
X-Robots-Tag:noindex
X-PUBLISHED-TTL:PT1H
BEGIN:VTIMEZONE
TZID:Europe/Madrid
BEGIN:DAYLIGHT
TZOFFSETFROM:+0100
TZOFFSETTO:+0200
TZNAME:CEST
DTSTART:20250330T010000
END:DAYLIGHT
BEGIN:STANDARD
TZOFFSETFROM:+0200
TZOFFSETTO:+0100
TZNAME:CET
DTSTART:20251026T010000
END:STANDARD
END:VTIMEZONE
BEGIN:VEVENT
DTSTART;TZID=Europe/Madrid:20250102T173000
DTEND;TZID=Europe/Madrid:20250102T183000
DTSTAMP:20260423T143129
CREATED:20241218T181638Z
LAST-MODIFIED:20250103T130418Z
UID:7146-1735839000-1735842600@panticosa.es
SUMMARY:Taller Familiar: Descubre los Mamíferos de la Reserva de la Biosfera Ordesa-Viñamala
DESCRIPTION:¿Sabías que en la Reserva de la Biosfera Ordesa-Viñamala habita una gran diversidad de mamíferos que juegan un papel fundamental en nuestro ecosistema? \nTe invitamos a participar en un divertido taller familiar GRATUITO donde los más pequeños\, junto a sus familias\, podrán descubrir y aprender más sobre la fauna que nos rodea. \n📅 Fecha: Jueves 2 de enero\n🕠 Hora: 17:30 h\n📍 Lugar: Centro Cultural La Fajuala\, Panticosa\n⏳ Duración: 45 minutos – 1 hora\n👶 Edad recomendada: A partir de 5 años (acompañados). \n¿Qué haremos en el taller?\nEl taller comenzará con una breve presentación en la que exploraremos la importancia de la Reserva de la Biosfera Ordesa-Viñamala y algunos de sus mamíferos más representativos. Aprenderemos a distinguirlos\, conoceremos sus características y algunas curiosidades. \nActividades del taller: \n\nDescubrimiento de rastros y cráneos para aprender a identificar los animales.\nJuego de reconocimiento de especies.\n\n¡Una actividad divertida para toda la familia!\nLas explicaciones didácticas están adaptadas para toda la familia. \nSi buscas una manera diferente de pasar la tarde esta Navidad\, este taller es para ti. Es la oportunidad perfecta para que los más pequeños se motiven para lograr ser grandes exploradores\, descubriendo los secretos de algunos de los animales que habitan nuestras montañas. \nNo te lo pierdas\, ¡te esperamos en el Centro Cultural La Fajuala para conocer mejor la naturaleza que nos rodea!
URL:https://panticosa.es/agenda/taller-familiar-descubre-los-mamiferos-de-la-reserva-de-la-biosfera-ordesa-vinamala/
LOCATION:Centro Cultural La Fajuala\, Calle San Miguel\, Panticosa\, Huesca\, 22661
CATEGORIES:Educación,Naturaleza y medioambiente
ATTACH;FMTTYPE=image/png:https://panticosa.es/wp-content/uploads/Taller-.png
END:VEVENT
BEGIN:VEVENT
DTSTART;TZID=Europe/Madrid:20250103T173000
DTEND;TZID=Europe/Madrid:20250103T173000
DTSTAMP:20260423T143129
CREATED:20241228T120439Z
LAST-MODIFIED:20250103T124838Z
UID:7220-1735925400-1735925400@panticosa.es
SUMMARY:¡Cine en Familia en Panticosa! CANCELADO
DESCRIPTION:CANCELADO\n¡Cine para todos los públicos! \nTe esperamos el miércoles 3 de enero para disfrutar de la película “Cigüeñas”\, una divertida aventura para toda la familia. \nAcompaña a Junior\, la mejor cigüeña mensajera\, y a su amiga Tulip en una misión inesperada para entregar a una recién nacida. ¿Lograrán hacerlo sin que su jefe se entere? \n📍 Lugar: Centro Cultural La Fajuala (Panticosa)\n🕒 Hora: 17:30 h – Duración: 87 minutos \n¡No te lo pierdas! Una oportunidad para pasar una tarde llena de risas y emociones. \n\n\n\n\n 
URL:https://panticosa.es/agenda/cine-en-familia-en-panticosa/
LOCATION:Centro Cultural La Fajuala\, Calle San Miguel\, Panticosa\, Huesca\, 22661
CATEGORIES:Cine,Infantil
ATTACH;FMTTYPE=image/png:https://panticosa.es/wp-content/uploads/Imagen2cine.png
END:VEVENT
BEGIN:VEVENT
DTSTART;TZID=Europe/Madrid:20250105T183000
DTEND;TZID=Europe/Madrid:20250105T183000
DTSTAMP:20260423T143129
CREATED:20241227T122753Z
LAST-MODIFIED:20250102T081251Z
UID:7209-1736101800-1736101800@panticosa.es
SUMMARY:Gran Cabalgata de Reyes en Panticosa
DESCRIPTION:SS. MM. los Reyes Magos de Oriente llegarán a Panticosa el día 5 de Enero a partir de las 18:30h partiendo desde la Calle Santa Cruz (altura Estacho) hasta llegar al Centro Cultural la Fajuala\, donde harán la entrega de regalos a los niños. \nLos padres interesados en participar pueden pasar por la oficina de turismo de Panticosa el día 3 y 4 de diciembre en horario de 9:00 a 14:00 o llamar a la oficina de turismo para mas información (974 48 73 14)
URL:https://panticosa.es/agenda/gran-cabalgata-de-reyes-en-panticosa/
LOCATION:Panticosa\, Calle Santa Cruz\, Panticosa\, 22661\, España
CATEGORIES:Fiestas
ATTACH;FMTTYPE=image/png:https://panticosa.es/wp-content/uploads/cabalgata.png
END:VEVENT
BEGIN:VEVENT
DTSTART;VALUE=DATE:20250119
DTEND;VALUE=DATE:20250120
DTSTAMP:20260423T143129
CREATED:20250105T100607Z
LAST-MODIFIED:20250105T101148Z
UID:7273-1737244800-1737331199@panticosa.es
SUMMARY:XVI Trofeo Panticosa U10-U12 - Comarca Pirineos Alto Gállego 2025
DESCRIPTION:El próximo 19 de enero de 2025\, el Estadio de Panticosa (Aramon Formigal-Panticosa) será el escenario del XVI Trofeo Panticosa\, un destacado evento deportivo enfocado en las categorías U10 y U12. Un torneo que celebra el talento y la pasión por el esquí entre los más jóvenes. \n\n\n\nEsta Carrera del Calendario de la Real Federación Española Deportes de Invierno y Federación Aragonesa de Deportes de Invierno es organizada por el Panticosa Esquí Club. \n\n\n\nEsquiadores de distintas localidades se darán cita en este icónico entorno para competir por los trofeos destinados a los cinco mejores clasificados de cada categoría y al Mejor Club de U10 y U12. \n\n\n\nMás allá de la competición\, este evento fomenta el espíritu deportivo entre los más jóvenes. \n\n\n\n¡No te pierdas esta jornada en un ambiente inigualable enmarcado en el espectacular paisaje del Valle de Tena! 🏆⛷️ \n\n 
URL:https://panticosa.es/agenda/xvi-trofeo-panticosa-u10-u12-comarca-pirineos-alto-gallego-2025/
LOCATION:Estación Esquí Panticosa ARAMON
CATEGORIES:Deporte
ATTACH;FMTTYPE=image/jpeg:https://panticosa.es/wp-content/uploads/pec3.jpeg
END:VEVENT
END:VCALENDAR