BEGIN:VCALENDAR
VERSION:2.0
PRODID:-//Panticosa - ECPv6.6.0.2//NONSGML v1.0//EN
CALSCALE:GREGORIAN
METHOD:PUBLISH
X-ORIGINAL-URL:https://panticosa.es
X-WR-CALDESC:Eventos para Panticosa
REFRESH-INTERVAL;VALUE=DURATION:PT1H
X-Robots-Tag:noindex
X-PUBLISHED-TTL:PT1H
BEGIN:VTIMEZONE
TZID:Europe/Madrid
BEGIN:DAYLIGHT
TZOFFSETFROM:+0100
TZOFFSETTO:+0200
TZNAME:CEST
DTSTART:20250330T010000
END:DAYLIGHT
BEGIN:STANDARD
TZOFFSETFROM:+0200
TZOFFSETTO:+0100
TZNAME:CET
DTSTART:20251026T010000
END:STANDARD
END:VTIMEZONE
BEGIN:VEVENT
DTSTART;TZID=Europe/Madrid:20250303T180000
DTEND;TZID=Europe/Madrid:20250304T000000
DTSTAMP:20260423T120743
CREATED:20250222T173318Z
LAST-MODIFIED:20250226T094724Z
UID:7552-1741024800-1741046400@panticosa.es
SUMMARY:¡Vive el Carnaval de Panticosa 2025!
DESCRIPTION:El Carnaval llega un año más a Panticosa con una explosión de color\, tradiciones y mucha fiesta. Durante los días 3 y 4 de marzo\, nuestro pueblo se llenará de música\, disfraces y sabores tradicionales. \nProgramación:\nLunes 3 de marzo \n\n18:00h – Ronda popular por las calles con la Agrupación Folclórica de Panticosa\n19:30h – II Concurso de Crespillos Panticutos\nTras la ronda\, nos reunimos en la plaza para disfrutar de la segunda edición de este delicioso concurso. ¡Anímate a participar y demostrar tu talento!\n\nMartes 4 de marzo \n\n17:15h – Pasacalles con charanga y cabezudos\nSalimos desde la plaza hasta el polideportivo con charanga y nuestros divertidos cabezudos.\n18:30h – Sesión de tarde con la Orquesta Swing Latino y Concurso de Disfraces Infantil\nUna tarde de música y diversión para los más pequeños\, acompañada de un concurso de disfraces para los niños.\n21:00h – Cena popular\nGran cena en el polideportivo para disfrutar juntos de una noche especial. Inscripciones previas en la Oficina de Turismo hasta el 22 de febrero.\n00:00h – Sesión de noche con la Orquesta Swing Latino y Concurso de Disfraces Adulto\nFiesta y concurso de disfraces para los adultos con música en vivo. Durante el descanso\, habrá BINGO\, y al finalizar\, quemaremos a Pedro Paya\, cerrando el carnaval con nuestra tradicional despedida.\n\nTe esperamos para disfrutar juntos del Carnaval de Panticosa 2025. ¡No olvides tu mejor disfraz y muchas ganas de pasarlo bien! \n 
URL:https://panticosa.es/agenda/vive-el-carnaval-de-panticosa-2025/
LOCATION:Panticosa\, Calle Santa Cruz\, Panticosa\, 22661\, España
CATEGORIES:Fiestas,Infantil,Música
ATTACH;FMTTYPE=image/jpeg:https://panticosa.es/wp-content/uploads/carnavalespanticosa2.jpeg
END:VEVENT
BEGIN:VEVENT
DTSTART;TZID=Europe/Madrid:20250307T183000
DTEND;TZID=Europe/Madrid:20250307T193000
DTSTAMP:20260423T120743
CREATED:20250305T164817Z
LAST-MODIFIED:20250306T165600Z
UID:7601-1741372200-1741375800@panticosa.es
SUMMARY:Cinetura Marzo "Cannelle. La última Osa"
DESCRIPTION:Este viernes en el Centro Cultural la Fajuala de Panticosa te invitamos a la proyección del documental La historia de la última osa pirenaica. \nUn relato emocionante sobre la vida de Cannelle\, la última osa autóctona del Pirineo Occidental\, cuya desaparición marcó un antes y un después en la conservación de esta emblemática especie. \nA través de imágenes inéditas y testimonios de expertos\, el documental nos sumerge en la difícil convivencia entre el ser humano y el oso\, así como en los esfuerzos por su recuperación. \nUna oportunidad única para reflexionar sobre la biodiversidad y el futuro de la fauna pirenaica. No te lo pierdas. \nDespués se expondrán unas normas de conducta de la Fundación Oso Pardo de Asturias. \n¡Te esperamos!
URL:https://panticosa.es/agenda/7601/
LOCATION:Centro Cultural La Fajuala\, C/ La fajuala\, Panticosa\, Huesca\, 22661\, España
CATEGORIES:Cine,Naturaleza y medioambiente
ATTACH;FMTTYPE=image/jpeg:https://panticosa.es/wp-content/uploads/carteles-cinetura-2025.jpg
END:VEVENT
BEGIN:VEVENT
DTSTART;TZID=Europe/Madrid:20250319T180000
DTEND;TZID=Europe/Madrid:20250319T200000
DTSTAMP:20260423T120743
CREATED:20250316T122946Z
LAST-MODIFIED:20250316T132513Z
UID:7723-1742407200-1742414400@panticosa.es
SUMMARY:¡Vuelve el Taller gratuito de Snowboard a Panticosa!
DESCRIPTION:📢 Tras el éxito del año pasado\, este 2025 repetimos experiencia con el 3er Taller de Snowboard en Panticosa con Luis Herraiz. \nUn encuentro pensado para quienes quieren mejorar su técnica y disfrutar al máximo de la nieve. \n¿Qué haremos?✅ Repaso de lo aprendido en ediciones anteriores✅ Ampliación de la movilidad sobre la tabla✅ Introducción a virajes en pista y fuera de pista \n🎁 Regalo sorpresa para los asistentes \n💡 No hace falta inscripción. La entrada al polideportivo es gratuita para socios y de 3\,5€ – 5€ para no socios. \n🏂 Importante: Trae tu propio material: Tabla\, botas y fijaciones.\n📅 Miércoles 19 de marzo📍   Polideportivo La Paul – Panticosa🕕 18:00 a 20:00h
URL:https://panticosa.es/agenda/vuelve-el-taller-gratuito-de-snowboard-a-panticosa/
LOCATION:Instalaciones Deportivas La Paul\, Panticosa\, 22661\, España
CATEGORIES:Deporte
ATTACH;FMTTYPE=image/jpeg:https://panticosa.es/wp-content/uploads/Taller-Snowboard-Panticosa.jpeg
END:VEVENT
BEGIN:VEVENT
DTSTART;TZID=Europe/Madrid:20250322T100000
DTEND;TZID=Europe/Madrid:20250322T140000
DTSTAMP:20260423T120743
CREATED:20250316T125129Z
LAST-MODIFIED:20250322T100218Z
UID:7732-1742637600-1742652000@panticosa.es
SUMMARY:Paseo guiado en Panticosa "Vida y agua en la Reserva de la Biosfera Ordesa Viñamala"
DESCRIPTION:Una experiencia dirigida en plena naturaleza para descubrir dos elementos esenciales para la vida: bosque y agua.\nCon motivo del Día Internacional de los Bosques y el Día Mundial del Agua\, la Reserva de la Biosfera Ordesa-Viñamala te invita a participar en una ruta circular que se adentra en uno de los rincones de este área natural singular.  A través de un paseo guiado que se inicia en la población de Panticosa\, conoceremos los sorprendentes bosques que la rodean\, la relación de este entorno con el agua y los beneficios que la Reserva proporciona al ciudadano. \nLa duración del recorrido es de 2 horas. Recomendado para personas habituadas a caminar por entornos de montaña. \nLugar de encuentro: calle de San Miguel\, frente la iglesia y la oficina de turismo de Panticosa. \nMas información AQUI. \nEsta actividad ha tenido que ser CANCELADA debido a inclemencias meteorológicas.
URL:https://panticosa.es/agenda/paseo-guiado-en-panticosa-vida-y-agua-en-la-reserva-de-la-biosfera-ordesa-vinamala/
LOCATION:Panticosa\, Calle Santa Cruz\, Panticosa\, 22661\, España
CATEGORIES:Naturaleza y medioambiente
ATTACH;FMTTYPE=image/jpeg:https://panticosa.es/wp-content/uploads/Copia-de-DIA-DE-LOS-BOSQUES-2024.jpg
END:VEVENT
BEGIN:VEVENT
DTSTART;VALUE=DATE:20250323
DTEND;VALUE=DATE:20250324
DTSTAMP:20260423T120743
CREATED:20250116T122259Z
LAST-MODIFIED:20250306T095554Z
UID:7337-1742688000-1742774399@panticosa.es
SUMMARY:II Trofeo MiniYetis Panticosa U6-U8 2025
DESCRIPTION:TROFEO MINIYETIS by Energías de Panticosa U6-U8 . \nCoorganizada por Panticosa Esquí Club y Aramon.Debido a las inclemencias meteorológicas\, se pospuso al 23 de marzo.  Los esquiadores más pequeños de 4\,5\,6 y 7 años podrán disfrutar por segundo año consecutivo de este nuevo evento en la Estación de Esquí de Panticosa. \nCon regalos para todos los participantes\, fiesta y muchas otras sorpresas. \nInscripciones: panticosa@panticosaesquiclub.es  \n 
URL:https://panticosa.es/agenda/ii-trofeo-miniyetis-panticosa-u6-u8-2025/
LOCATION:Estación Esquí Panticosa ARAMON
CATEGORIES:Deporte,Infantil
ATTACH;FMTTYPE=image/jpeg:https://panticosa.es/wp-content/uploads/miniyetis-con-logos.jpeg
END:VEVENT
END:VCALENDAR